BEGIN:VCALENDAR
VERSION:2.0
PRODID:-//HEAS - ECPv6.15.17.1//NONSGML v1.0//EN
CALSCALE:GREGORIAN
METHOD:PUBLISH
X-WR-CALNAME:HEAS
X-ORIGINAL-URL:https://www.heas.at
X-WR-CALDESC:Veranstaltungen für HEAS
REFRESH-INTERVAL;VALUE=DURATION:PT1H
X-Robots-Tag:noindex
X-PUBLISHED-TTL:PT1H
BEGIN:VTIMEZONE
TZID:Europe/Vienna
BEGIN:DAYLIGHT
TZOFFSETFROM:+0100
TZOFFSETTO:+0200
TZNAME:CEST
DTSTART:20210328T010000
END:DAYLIGHT
BEGIN:STANDARD
TZOFFSETFROM:+0200
TZOFFSETTO:+0100
TZNAME:CET
DTSTART:20211031T010000
END:STANDARD
BEGIN:DAYLIGHT
TZOFFSETFROM:+0100
TZOFFSETTO:+0200
TZNAME:CEST
DTSTART:20220327T010000
END:DAYLIGHT
BEGIN:STANDARD
TZOFFSETFROM:+0200
TZOFFSETTO:+0100
TZNAME:CET
DTSTART:20221030T010000
END:STANDARD
BEGIN:DAYLIGHT
TZOFFSETFROM:+0100
TZOFFSETTO:+0200
TZNAME:CEST
DTSTART:20230326T010000
END:DAYLIGHT
BEGIN:STANDARD
TZOFFSETFROM:+0200
TZOFFSETTO:+0100
TZNAME:CET
DTSTART:20231029T010000
END:STANDARD
END:VTIMEZONE
BEGIN:VEVENT
DTSTART;TZID=Europe/Vienna:20220524T180000
DTEND;TZID=Europe/Vienna:20220525T190000
DTSTAMP:20260423T173559
CREATED:20220523T100138Z
LAST-MODIFIED:20220523T100958Z
UID:1330-1653415200-1653505200@www.heas.at
SUMMARY:Lectures in Archaeological Science: More than meets the eye
DESCRIPTION:MORE THAN MEETS THE EYE\nPortable Röntgenfluoreszenzanalyse (p-RFA) in der Archäologie\nDienstag\, 24. Mai 2022\, 18:00\n\nMichaela Schauer MA\nLudwig-Maximilians-Universität MünchenORT: Archäologiezentrum\, Hörsaal 7 (3. Stock)\nFranz-Klein-Gasse 1\, 1190 Wien\n\nFür online Teilnahme bitte E-mail an:\n\nimmo.Trinks@univie.ac.at\n\n\n\n\nDownload Poster Here\nMore than meets the eye\n\nChemische Analysemethoden für archäologische Artefakte gehören mittlerweile zum regulären Repertoire archäologischer Projekte – häufig ist jedoch unklar\, welche Methode die beste für die jeweilige Fragestellung ist. Dieser Vortrag möchte Abhilfe mit Vorstellung einer spezifischen Methode schaffen: der portablen Röntgenfluoreszenzanalyse (p-RFA). Neben einer grundlegenden Einführung in Funktionsweise und Methodik geht es vor allem darum\, ihr Potential aber auch ihre Tücken und Grenzen vorzustellen. Beispielprojekte und eine kurze Zusammenfassung der für die (erfolgreiche) Umsetzung eines Projekts relevanten Kriterien runden den Vortrag ab.
URL:https://www.heas.at/events/lectures-in-archaeological-science-more-than-meets-the-eye/
LOCATION:Franz-Klein-Gasse 1\, 1190\, Franz-Klein-Gasse 1\, Vienna\, Austria
END:VEVENT
BEGIN:VEVENT
DTSTART;TZID=Europe/Vienna:20220524T180000
DTEND;TZID=Europe/Vienna:20220525T190000
DTSTAMP:20260423T173559
CREATED:20220523T100138Z
LAST-MODIFIED:20220523T100138Z
UID:4766-1653415200-1653505200@www.heas.at
SUMMARY:Lectures in Archaeological Science: More than meets the eye
DESCRIPTION:MORE THAN MEETS THE EYE\nPortable Röntgenfluoreszenzanalyse (p-RFA) in der Archäologie\nDienstag\, 24. Mai 2022\, 18:00\n\nMichaela Schauer MA\nLudwig-Maximilians-Universität MünchenORT: Archäologiezentrum\, Hörsaal 7 (3. Stock)\nFranz-Klein-Gasse 1\, 1190 Wien\n\nFür online Teilnahme bitte E-mail an:\n\nimmo.Trinks@univie.ac.at\n\n\n\n\nDownload Poster Here\nMore than meets the eye\n\nChemische Analysemethoden für archäologische Artefakte gehören mittlerweile zum regulären Repertoire archäologischer Projekte – häufig ist jedoch unklar\, welche Methode die beste für die jeweilige Fragestellung ist. Dieser Vortrag möchte Abhilfe mit Vorstellung einer spezifischen Methode schaffen: der portablen Röntgenfluoreszenzanalyse (p-RFA). Neben einer grundlegenden Einführung in Funktionsweise und Methodik geht es vor allem darum\, ihr Potential aber auch ihre Tücken und Grenzen vorzustellen. Beispielprojekte und eine kurze Zusammenfassung der für die (erfolgreiche) Umsetzung eines Projekts relevanten Kriterien runden den Vortrag ab.
URL:https://www.heas.at/events/lectures-in-archaeological-science-more-than-meets-the-eye-2/
LOCATION:Franz-Klein-Gasse 1\, 1190\, Franz-Klein-Gasse 1\, Vienna\, Austria
END:VEVENT
BEGIN:VEVENT
DTSTART;TZID=Europe/Vienna:20220524T180000
DTEND;TZID=Europe/Vienna:20220525T190000
DTSTAMP:20260423T173559
CREATED:20220523T100138Z
LAST-MODIFIED:20220523T100138Z
UID:4996-1653415200-1653505200@www.heas.at
SUMMARY:Lectures in Archaeological Science: More than meets the eye
DESCRIPTION:MORE THAN MEETS THE EYE\nPortable Röntgenfluoreszenzanalyse (p-RFA) in der Archäologie\nDienstag\, 24. Mai 2022\, 18:00\n\nMichaela Schauer MA\nLudwig-Maximilians-Universität MünchenORT: Archäologiezentrum\, Hörsaal 7 (3. Stock)\nFranz-Klein-Gasse 1\, 1190 Wien\n\nFür online Teilnahme bitte E-mail an:\n\nimmo.Trinks@univie.ac.at\n\n\n\n\nDownload Poster Here\nMore than meets the eye\n\nChemische Analysemethoden für archäologische Artefakte gehören mittlerweile zum regulären Repertoire archäologischer Projekte – häufig ist jedoch unklar\, welche Methode die beste für die jeweilige Fragestellung ist. Dieser Vortrag möchte Abhilfe mit Vorstellung einer spezifischen Methode schaffen: der portablen Röntgenfluoreszenzanalyse (p-RFA). Neben einer grundlegenden Einführung in Funktionsweise und Methodik geht es vor allem darum\, ihr Potential aber auch ihre Tücken und Grenzen vorzustellen. Beispielprojekte und eine kurze Zusammenfassung der für die (erfolgreiche) Umsetzung eines Projekts relevanten Kriterien runden den Vortrag ab.
URL:https://www.heas.at/events/lectures-in-archaeological-science-more-than-meets-the-eye-3/
LOCATION:Franz-Klein-Gasse 1\, 1190\, Franz-Klein-Gasse 1\, Vienna\, Austria
END:VEVENT
BEGIN:VEVENT
DTSTART;TZID=Europe/Vienna:20220524T180000
DTEND;TZID=Europe/Vienna:20220525T190000
DTSTAMP:20260423T173559
CREATED:20220523T100138Z
LAST-MODIFIED:20220523T100138Z
UID:5140-1653415200-1653505200@www.heas.at
SUMMARY:Lectures in Archaeological Science: More than meets the eye
DESCRIPTION:MORE THAN MEETS THE EYE\nPortable Röntgenfluoreszenzanalyse (p-RFA) in der Archäologie\nDienstag\, 24. Mai 2022\, 18:00\n\nMichaela Schauer MA\nLudwig-Maximilians-Universität MünchenORT: Archäologiezentrum\, Hörsaal 7 (3. Stock)\nFranz-Klein-Gasse 1\, 1190 Wien\n\nFür online Teilnahme bitte E-mail an:\n\nimmo.Trinks@univie.ac.at\n\n\n\n\nDownload Poster Here\nMore than meets the eye\n\nChemische Analysemethoden für archäologische Artefakte gehören mittlerweile zum regulären Repertoire archäologischer Projekte – häufig ist jedoch unklar\, welche Methode die beste für die jeweilige Fragestellung ist. Dieser Vortrag möchte Abhilfe mit Vorstellung einer spezifischen Methode schaffen: der portablen Röntgenfluoreszenzanalyse (p-RFA). Neben einer grundlegenden Einführung in Funktionsweise und Methodik geht es vor allem darum\, ihr Potential aber auch ihre Tücken und Grenzen vorzustellen. Beispielprojekte und eine kurze Zusammenfassung der für die (erfolgreiche) Umsetzung eines Projekts relevanten Kriterien runden den Vortrag ab.
URL:https://www.heas.at/events/lectures-in-archaeological-science-more-than-meets-the-eye-4/
LOCATION:Franz-Klein-Gasse 1\, 1190\, Franz-Klein-Gasse 1\, Vienna\, Austria
END:VEVENT
END:VCALENDAR