BEGIN:VCALENDAR
VERSION:2.0
PRODID:-//HEAS - ECPv6.15.17.1//NONSGML v1.0//EN
CALSCALE:GREGORIAN
METHOD:PUBLISH
X-WR-CALNAME:HEAS
X-ORIGINAL-URL:https://www.heas.at
X-WR-CALDESC:Veranstaltungen für HEAS
REFRESH-INTERVAL;VALUE=DURATION:PT1H
X-Robots-Tag:noindex
X-PUBLISHED-TTL:PT1H
BEGIN:VTIMEZONE
TZID:Europe/Vienna
BEGIN:DAYLIGHT
TZOFFSETFROM:+0100
TZOFFSETTO:+0200
TZNAME:CEST
DTSTART:20220327T010000
END:DAYLIGHT
BEGIN:STANDARD
TZOFFSETFROM:+0200
TZOFFSETTO:+0100
TZNAME:CET
DTSTART:20221030T010000
END:STANDARD
BEGIN:DAYLIGHT
TZOFFSETFROM:+0100
TZOFFSETTO:+0200
TZNAME:CEST
DTSTART:20230326T010000
END:DAYLIGHT
BEGIN:STANDARD
TZOFFSETFROM:+0200
TZOFFSETTO:+0100
TZNAME:CET
DTSTART:20231029T010000
END:STANDARD
BEGIN:DAYLIGHT
TZOFFSETFROM:+0100
TZOFFSETTO:+0200
TZNAME:CEST
DTSTART:20240331T010000
END:DAYLIGHT
BEGIN:STANDARD
TZOFFSETFROM:+0200
TZOFFSETTO:+0100
TZNAME:CET
DTSTART:20241027T010000
END:STANDARD
END:VTIMEZONE
BEGIN:VEVENT
DTSTART;TZID=Europe/Vienna:20231113T103000
DTEND;TZID=Europe/Vienna:20231113T120000
DTSTAMP:20260422T135229
CREATED:20230731T122625Z
LAST-MODIFIED:20240201T093712Z
UID:2760-1699871400-1699876800@www.heas.at
SUMMARY:HEAS Seminar Series - Human Evolution and the Palaeolithic
DESCRIPTION:As part of the HEAS Seminar Series in Human Evolution and the Palaeolithic\,  Andrew Kandel from Universität Tübingen  will give a talk on It’s a Plants‘ World – New insights about Upper Paleolithic plant use at Aghitu-3 Cave\, Armenia on the 13th November 2023 at 10:30. \nTo register for this talk\, please click here \nANDREW KANDEL_poster
URL:https://www.heas.at/events/heas-seminar-human-evolution-and-the-palaeolithic/
LOCATION:UBB 5.1\, Djerassiplatz 1\, Vienna\, 1030\, Austria
ATTACH;FMTTYPE=image/png:https://www.heas.at/wp-content/uploads/2023/07/ANDREW-KANDEL_Web-Blog__Human-Evolution_Web-Newspicture_short-text.png
END:VEVENT
BEGIN:VEVENT
DTSTART;TZID=Europe/Vienna:20231113T103000
DTEND;TZID=Europe/Vienna:20231113T120000
DTSTAMP:20260422T135229
CREATED:20230731T122625Z
LAST-MODIFIED:20230731T122625Z
UID:4780-1699871400-1699876800@www.heas.at
SUMMARY:HEAS Seminar Series - Human Evolution and the Palaeolithic
DESCRIPTION:As part of the HEAS Seminar Series in Human Evolution and the Palaeolithic\,  Andrew Kandel from Universität Tübingen  will give a talk on It’s a Plants‘ World – New insights about Upper Paleolithic plant use at Aghitu-3 Cave\, Armenia on the 13th November 2023 at 10:30. \nTo register for this talk\, please click here \nANDREW KANDEL_poster
URL:https://www.heas.at/events/heas-seminar-human-evolution-and-the-palaeolithic-6/
LOCATION:UBB 5.1\, Djerassiplatz 1\, Vienna\, 1030\, Austria
ATTACH;FMTTYPE=image/png:https://www.heas.at/wp-content/uploads/2023/07/ANDREW-KANDEL_Web-Blog__Human-Evolution_Web-Newspicture_short-text.png
END:VEVENT
BEGIN:VEVENT
DTSTART;TZID=Europe/Vienna:20231113T103000
DTEND;TZID=Europe/Vienna:20231113T120000
DTSTAMP:20260422T135229
CREATED:20230731T122625Z
LAST-MODIFIED:20230731T122625Z
UID:5007-1699871400-1699876800@www.heas.at
SUMMARY:HEAS Seminar Series - Human Evolution and the Palaeolithic
DESCRIPTION:As part of the HEAS Seminar Series in Human Evolution and the Palaeolithic\,  Andrew Kandel from Universität Tübingen  will give a talk on It’s a Plants‘ World – New insights about Upper Paleolithic plant use at Aghitu-3 Cave\, Armenia on the 13th November 2023 at 10:30. \nTo register for this talk\, please click here \nANDREW KANDEL_poster
URL:https://www.heas.at/events/heas-seminar-human-evolution-and-the-palaeolithic-7/
LOCATION:UBB 5.1\, Djerassiplatz 1\, Vienna\, 1030\, Austria
ATTACH;FMTTYPE=image/png:https://www.heas.at/wp-content/uploads/2023/07/ANDREW-KANDEL_Web-Blog__Human-Evolution_Web-Newspicture_short-text.png
END:VEVENT
BEGIN:VEVENT
DTSTART;TZID=Europe/Vienna:20231113T103000
DTEND;TZID=Europe/Vienna:20231113T120000
DTSTAMP:20260422T135229
CREATED:20230731T122625Z
LAST-MODIFIED:20230731T122625Z
UID:5151-1699871400-1699876800@www.heas.at
SUMMARY:HEAS Seminar Series - Human Evolution and the Palaeolithic
DESCRIPTION:As part of the HEAS Seminar Series in Human Evolution and the Palaeolithic\,  Andrew Kandel from Universität Tübingen  will give a talk on It’s a Plants‘ World – New insights about Upper Paleolithic plant use at Aghitu-3 Cave\, Armenia on the 13th November 2023 at 10:30. \nTo register for this talk\, please click here \nANDREW KANDEL_poster
URL:https://www.heas.at/events/heas-seminar-human-evolution-and-the-palaeolithic-8/
LOCATION:UBB 5.1\, Djerassiplatz 1\, Vienna\, 1030\, Austria
ATTACH;FMTTYPE=image/png:https://www.heas.at/wp-content/uploads/2023/07/ANDREW-KANDEL_Web-Blog__Human-Evolution_Web-Newspicture_short-text.png
END:VEVENT
END:VCALENDAR