BEGIN:VCALENDAR
VERSION:2.0
PRODID:-//HEAS - ECPv6.15.17.1//NONSGML v1.0//EN
CALSCALE:GREGORIAN
METHOD:PUBLISH
X-ORIGINAL-URL:https://www.heas.at
X-WR-CALDESC:Veranstaltungen für HEAS
REFRESH-INTERVAL;VALUE=DURATION:PT1H
X-Robots-Tag:noindex
X-PUBLISHED-TTL:PT1H
BEGIN:VTIMEZONE
TZID:Europe/Vienna
BEGIN:DAYLIGHT
TZOFFSETFROM:+0100
TZOFFSETTO:+0200
TZNAME:CEST
DTSTART:20220327T010000
END:DAYLIGHT
BEGIN:STANDARD
TZOFFSETFROM:+0200
TZOFFSETTO:+0100
TZNAME:CET
DTSTART:20221030T010000
END:STANDARD
BEGIN:DAYLIGHT
TZOFFSETFROM:+0100
TZOFFSETTO:+0200
TZNAME:CEST
DTSTART:20230326T010000
END:DAYLIGHT
BEGIN:STANDARD
TZOFFSETFROM:+0200
TZOFFSETTO:+0100
TZNAME:CET
DTSTART:20231029T010000
END:STANDARD
BEGIN:DAYLIGHT
TZOFFSETFROM:+0100
TZOFFSETTO:+0200
TZNAME:CEST
DTSTART:20240331T010000
END:DAYLIGHT
BEGIN:STANDARD
TZOFFSETFROM:+0200
TZOFFSETTO:+0100
TZNAME:CET
DTSTART:20241027T010000
END:STANDARD
END:VTIMEZONE
BEGIN:VEVENT
DTSTART;TZID=Europe/Vienna:20231121T133000
DTEND;TZID=Europe/Vienna:20231121T143000
DTSTAMP:20260422T134515
CREATED:20230731T123039Z
LAST-MODIFIED:20240201T093756Z
UID:2762-1700573400-1700577000@www.heas.at
SUMMARY:HEAS Seminar Series - Ancient Genomics
DESCRIPTION:As part of the HEAS Seminar Series in Ancient Genomics Greger Larson from the University of Oxford will be giving a talk on ‚A critical look at the concept of domestication through ancient and modern cats‘ on the 21st November 2023. \nRegister here \n  \nGregerLarson poster
URL:https://www.heas.at/events/heas-seminar-ancient-genomics/
ATTACH;FMTTYPE=image/png:https://www.heas.at/wp-content/uploads/2023/07/Greger-Larson_Web-Blog_Ancient-Genomics_less-text_Web-Blog_Ancient-Genomics_less-text-1.png
END:VEVENT
BEGIN:VEVENT
DTSTART;TZID=Europe/Vienna:20231121T133000
DTEND;TZID=Europe/Vienna:20231121T143000
DTSTAMP:20260422T134515
CREATED:20230731T123039Z
LAST-MODIFIED:20230731T123039Z
UID:4781-1700573400-1700577000@www.heas.at
SUMMARY:HEAS Seminar Series - Ancient Genomics
DESCRIPTION:As part of the HEAS Seminar Series in Ancient Genomics Greger Larson from the University of Oxford will be giving a talk on ‚A critical look at the concept of domestication through ancient and modern cats‘ on the 21st November 2023. \nRegister here \n  \nGregerLarson poster
URL:https://www.heas.at/events/heas-seminar-ancient-genomics-2/
ATTACH;FMTTYPE=image/png:https://www.heas.at/wp-content/uploads/2023/07/Greger-Larson_Web-Blog_Ancient-Genomics_less-text_Web-Blog_Ancient-Genomics_less-text-1.png
END:VEVENT
BEGIN:VEVENT
DTSTART;TZID=Europe/Vienna:20231121T133000
DTEND;TZID=Europe/Vienna:20231121T143000
DTSTAMP:20260422T134515
CREATED:20230731T123039Z
LAST-MODIFIED:20230731T123039Z
UID:5008-1700573400-1700577000@www.heas.at
SUMMARY:HEAS Seminar Series - Ancient Genomics
DESCRIPTION:As part of the HEAS Seminar Series in Ancient Genomics Greger Larson from the University of Oxford will be giving a talk on ‚A critical look at the concept of domestication through ancient and modern cats‘ on the 21st November 2023. \nRegister here \n  \nGregerLarson poster
URL:https://www.heas.at/events/heas-seminar-ancient-genomics-3/
ATTACH;FMTTYPE=image/png:https://www.heas.at/wp-content/uploads/2023/07/Greger-Larson_Web-Blog_Ancient-Genomics_less-text_Web-Blog_Ancient-Genomics_less-text-1.png
END:VEVENT
BEGIN:VEVENT
DTSTART;TZID=Europe/Vienna:20231121T133000
DTEND;TZID=Europe/Vienna:20231121T143000
DTSTAMP:20260422T134515
CREATED:20230731T123039Z
LAST-MODIFIED:20230731T123039Z
UID:5152-1700573400-1700577000@www.heas.at
SUMMARY:HEAS Seminar Series - Ancient Genomics
DESCRIPTION:As part of the HEAS Seminar Series in Ancient Genomics Greger Larson from the University of Oxford will be giving a talk on ‚A critical look at the concept of domestication through ancient and modern cats‘ on the 21st November 2023. \nRegister here \n  \nGregerLarson poster
URL:https://www.heas.at/events/heas-seminar-ancient-genomics-4/
ATTACH;FMTTYPE=image/png:https://www.heas.at/wp-content/uploads/2023/07/Greger-Larson_Web-Blog_Ancient-Genomics_less-text_Web-Blog_Ancient-Genomics_less-text-1.png
END:VEVENT
END:VCALENDAR