BEGIN:VCALENDAR
VERSION:2.0
PRODID:-//HEAS - ECPv6.15.17.1//NONSGML v1.0//EN
CALSCALE:GREGORIAN
METHOD:PUBLISH
X-WR-CALNAME:HEAS
X-ORIGINAL-URL:https://www.heas.at
X-WR-CALDESC:Veranstaltungen für HEAS
REFRESH-INTERVAL;VALUE=DURATION:PT1H
X-Robots-Tag:noindex
X-PUBLISHED-TTL:PT1H
BEGIN:VTIMEZONE
TZID:Europe/Vienna
BEGIN:DAYLIGHT
TZOFFSETFROM:+0100
TZOFFSETTO:+0200
TZNAME:CEST
DTSTART:20220327T010000
END:DAYLIGHT
BEGIN:STANDARD
TZOFFSETFROM:+0200
TZOFFSETTO:+0100
TZNAME:CET
DTSTART:20221030T010000
END:STANDARD
BEGIN:DAYLIGHT
TZOFFSETFROM:+0100
TZOFFSETTO:+0200
TZNAME:CEST
DTSTART:20230326T010000
END:DAYLIGHT
BEGIN:STANDARD
TZOFFSETFROM:+0200
TZOFFSETTO:+0100
TZNAME:CET
DTSTART:20231029T010000
END:STANDARD
BEGIN:DAYLIGHT
TZOFFSETFROM:+0100
TZOFFSETTO:+0200
TZNAME:CEST
DTSTART:20240331T010000
END:DAYLIGHT
BEGIN:STANDARD
TZOFFSETFROM:+0200
TZOFFSETTO:+0100
TZNAME:CET
DTSTART:20241027T010000
END:STANDARD
END:VTIMEZONE
BEGIN:VEVENT
DTSTART;TZID=Europe/Vienna:20231127T113000
DTEND;TZID=Europe/Vienna:20231127T120000
DTSTAMP:20260422T122521
CREATED:20230731T123447Z
LAST-MODIFIED:20240201T093550Z
UID:2764-1701084600-1701086400@www.heas.at
SUMMARY:HEAS Seminar Series - Archaeological Science
DESCRIPTION:As part of the HEAS Seminar Series Stefano Campana will be giving a talk on on the 27th November 2023 at 11:30 on ‚Emptyscapes Initiative: A Paradigm Shift in Mediterranean Landscape Archaeology‘ \nRegister here \n  \nSTEFANO CAMPANA_poster \n 
URL:https://www.heas.at/events/heas-seminar-series-archaeological-science-7/
LOCATION:Franz-Klein-Gasse 1\, 1190\, Franz-Klein-Gasse 1\, Vienna\, Austria
ATTACH;FMTTYPE=image/png:https://www.heas.at/wp-content/uploads/2023/07/STEFANO-CAMPANA_Newspicture_Archaeological-Science_short-text.png
END:VEVENT
BEGIN:VEVENT
DTSTART;TZID=Europe/Vienna:20231127T113000
DTEND;TZID=Europe/Vienna:20231127T120000
DTSTAMP:20260422T122521
CREATED:20230731T123447Z
LAST-MODIFIED:20230731T123447Z
UID:4782-1701084600-1701086400@www.heas.at
SUMMARY:HEAS Seminar Series - Archaeological Science
DESCRIPTION:As part of the HEAS Seminar Series Stefano Campana will be giving a talk on on the 27th November 2023 at 11:30 on ‚Emptyscapes Initiative: A Paradigm Shift in Mediterranean Landscape Archaeology‘ \nRegister here \n  \nSTEFANO CAMPANA_poster \n 
URL:https://www.heas.at/events/heas-seminar-series-archaeological-science-7-2/
LOCATION:Franz-Klein-Gasse 1\, 1190\, Franz-Klein-Gasse 1\, Vienna\, Austria
ATTACH;FMTTYPE=image/png:https://www.heas.at/wp-content/uploads/2023/07/STEFANO-CAMPANA_Newspicture_Archaeological-Science_short-text.png
END:VEVENT
BEGIN:VEVENT
DTSTART;TZID=Europe/Vienna:20231127T113000
DTEND;TZID=Europe/Vienna:20231127T120000
DTSTAMP:20260422T122521
CREATED:20230731T123447Z
LAST-MODIFIED:20230731T123447Z
UID:5009-1701084600-1701086400@www.heas.at
SUMMARY:HEAS Seminar Series - Archaeological Science
DESCRIPTION:As part of the HEAS Seminar Series Stefano Campana will be giving a talk on on the 27th November 2023 at 11:30 on ‚Emptyscapes Initiative: A Paradigm Shift in Mediterranean Landscape Archaeology‘ \nRegister here \n  \nSTEFANO CAMPANA_poster \n 
URL:https://www.heas.at/events/heas-seminar-series-archaeological-science-7-3/
LOCATION:Franz-Klein-Gasse 1\, 1190\, Franz-Klein-Gasse 1\, Vienna\, Austria
ATTACH;FMTTYPE=image/png:https://www.heas.at/wp-content/uploads/2023/07/STEFANO-CAMPANA_Newspicture_Archaeological-Science_short-text.png
END:VEVENT
BEGIN:VEVENT
DTSTART;TZID=Europe/Vienna:20231127T113000
DTEND;TZID=Europe/Vienna:20231127T120000
DTSTAMP:20260422T122521
CREATED:20230731T123447Z
LAST-MODIFIED:20230731T123447Z
UID:5153-1701084600-1701086400@www.heas.at
SUMMARY:HEAS Seminar Series - Archaeological Science
DESCRIPTION:As part of the HEAS Seminar Series Stefano Campana will be giving a talk on on the 27th November 2023 at 11:30 on ‚Emptyscapes Initiative: A Paradigm Shift in Mediterranean Landscape Archaeology‘ \nRegister here \n  \nSTEFANO CAMPANA_poster \n 
URL:https://www.heas.at/events/heas-seminar-series-archaeological-science-7-4/
LOCATION:Franz-Klein-Gasse 1\, 1190\, Franz-Klein-Gasse 1\, Vienna\, Austria
ATTACH;FMTTYPE=image/png:https://www.heas.at/wp-content/uploads/2023/07/STEFANO-CAMPANA_Newspicture_Archaeological-Science_short-text.png
END:VEVENT
END:VCALENDAR