BEGIN:VCALENDAR
VERSION:2.0
PRODID:-//HEAS - ECPv6.15.17.1//NONSGML v1.0//EN
CALSCALE:GREGORIAN
METHOD:PUBLISH
X-WR-CALNAME:HEAS
X-ORIGINAL-URL:https://www.heas.at
X-WR-CALDESC:Veranstaltungen für HEAS
REFRESH-INTERVAL;VALUE=DURATION:PT1H
X-Robots-Tag:noindex
X-PUBLISHED-TTL:PT1H
BEGIN:VTIMEZONE
TZID:Europe/Vienna
BEGIN:DAYLIGHT
TZOFFSETFROM:+0100
TZOFFSETTO:+0200
TZNAME:CEST
DTSTART:20230326T010000
END:DAYLIGHT
BEGIN:STANDARD
TZOFFSETFROM:+0200
TZOFFSETTO:+0100
TZNAME:CET
DTSTART:20231029T010000
END:STANDARD
BEGIN:DAYLIGHT
TZOFFSETFROM:+0100
TZOFFSETTO:+0200
TZNAME:CEST
DTSTART:20240331T010000
END:DAYLIGHT
BEGIN:STANDARD
TZOFFSETFROM:+0200
TZOFFSETTO:+0100
TZNAME:CET
DTSTART:20241027T010000
END:STANDARD
BEGIN:DAYLIGHT
TZOFFSETFROM:+0100
TZOFFSETTO:+0200
TZNAME:CEST
DTSTART:20250330T010000
END:DAYLIGHT
BEGIN:STANDARD
TZOFFSETFROM:+0200
TZOFFSETTO:+0100
TZNAME:CET
DTSTART:20251026T010000
END:STANDARD
END:VTIMEZONE
BEGIN:VEVENT
DTSTART;TZID=Europe/Vienna:20240111T183000
DTEND;TZID=Europe/Vienna:20240111T200000
DTSTAMP:20260422T110817
CREATED:20231206T133616Z
LAST-MODIFIED:20231213T132824Z
UID:3228-1704997800-1705003200@www.heas.at
SUMMARY:HEAS Workshop
DESCRIPTION:We are looking forward to welcoming Paul Goldberg from the University of Tübingen to Vienna on the 11th January 2024 to deliver the opening address for the Geoarchaeology in Vienna workshop. \nAbstract\nSo much of archaeology is concerned with objects\, whether they be ceramics\, lithics\, faunal and floral remains\, or even architectural remains\, which are essentially large objects. These things have been the mainstay of the archaeological record for centuries. In the last few decades\, it has become evident that there is more to understanding what people did in the past than by focussing mainly on the objects. The deposits that enclose them have their own story to tell\, and in fact\, constitute an important (generally neglected) and essential part of the archaeological record. I will attempt to illustrate these ideas with examples from archaeological sites\, at the same time emphasising the concept of context\, particularly at the microstratigraphic scale. \n  \nTo register for online or in-person participation for this event\, please click here \nPAUL GOLDBERG_poster
URL:https://www.heas.at/events/heas-workshop-4/
LOCATION:Franz-Klein-Gasse 1\, 1190\, Franz-Klein-Gasse 1\, Vienna\, Austria
CATEGORIES:HEAS-Workshop
ATTACH;FMTTYPE=image/png:https://www.heas.at/wp-content/uploads/2023/12/Workshop_Web-Blog_Ancient-Genomics_less-text.png
END:VEVENT
BEGIN:VEVENT
DTSTART;TZID=Europe/Vienna:20240111T183000
DTEND;TZID=Europe/Vienna:20240111T200000
DTSTAMP:20260422T110817
CREATED:20231206T133616Z
LAST-MODIFIED:20231206T133616Z
UID:4806-1704997800-1705003200@www.heas.at
SUMMARY:HEAS Workshop
DESCRIPTION:We are looking forward to welcoming Paul Goldberg from the University of Tübingen to Vienna on the 11th January 2024 to deliver the opening address for the Geoarchaeology in Vienna workshop. \nAbstract\nSo much of archaeology is concerned with objects\, whether they be ceramics\, lithics\, faunal and floral remains\, or even architectural remains\, which are essentially large objects. These things have been the mainstay of the archaeological record for centuries. In the last few decades\, it has become evident that there is more to understanding what people did in the past than by focussing mainly on the objects. The deposits that enclose them have their own story to tell\, and in fact\, constitute an important (generally neglected) and essential part of the archaeological record. I will attempt to illustrate these ideas with examples from archaeological sites\, at the same time emphasising the concept of context\, particularly at the microstratigraphic scale. \n  \nTo register for online or in-person participation for this event\, please click here \nPAUL GOLDBERG_poster
URL:https://www.heas.at/events/heas-workshop-4-2/
LOCATION:Franz-Klein-Gasse 1\, 1190\, Franz-Klein-Gasse 1\, Vienna\, Austria
CATEGORIES:HEAS-Workshop
ATTACH;FMTTYPE=image/png:https://www.heas.at/wp-content/uploads/2023/12/Workshop_Web-Blog_Ancient-Genomics_less-text.png
END:VEVENT
BEGIN:VEVENT
DTSTART;TZID=Europe/Vienna:20240111T183000
DTEND;TZID=Europe/Vienna:20240111T200000
DTSTAMP:20260422T110817
CREATED:20231206T133616Z
LAST-MODIFIED:20231206T133616Z
UID:5033-1704997800-1705003200@www.heas.at
SUMMARY:HEAS Workshop
DESCRIPTION:We are looking forward to welcoming Paul Goldberg from the University of Tübingen to Vienna on the 11th January 2024 to deliver the opening address for the Geoarchaeology in Vienna workshop. \nAbstract\nSo much of archaeology is concerned with objects\, whether they be ceramics\, lithics\, faunal and floral remains\, or even architectural remains\, which are essentially large objects. These things have been the mainstay of the archaeological record for centuries. In the last few decades\, it has become evident that there is more to understanding what people did in the past than by focussing mainly on the objects. The deposits that enclose them have their own story to tell\, and in fact\, constitute an important (generally neglected) and essential part of the archaeological record. I will attempt to illustrate these ideas with examples from archaeological sites\, at the same time emphasising the concept of context\, particularly at the microstratigraphic scale. \n  \nTo register for online or in-person participation for this event\, please click here \nPAUL GOLDBERG_poster
URL:https://www.heas.at/events/heas-workshop-4-3/
LOCATION:Franz-Klein-Gasse 1\, 1190\, Franz-Klein-Gasse 1\, Vienna\, Austria
CATEGORIES:HEAS-Workshop
ATTACH;FMTTYPE=image/png:https://www.heas.at/wp-content/uploads/2023/12/Workshop_Web-Blog_Ancient-Genomics_less-text.png
END:VEVENT
BEGIN:VEVENT
DTSTART;TZID=Europe/Vienna:20240111T183000
DTEND;TZID=Europe/Vienna:20240111T200000
DTSTAMP:20260422T110817
CREATED:20231206T133616Z
LAST-MODIFIED:20231206T133616Z
UID:5177-1704997800-1705003200@www.heas.at
SUMMARY:HEAS Workshop
DESCRIPTION:We are looking forward to welcoming Paul Goldberg from the University of Tübingen to Vienna on the 11th January 2024 to deliver the opening address for the Geoarchaeology in Vienna workshop. \nAbstract\nSo much of archaeology is concerned with objects\, whether they be ceramics\, lithics\, faunal and floral remains\, or even architectural remains\, which are essentially large objects. These things have been the mainstay of the archaeological record for centuries. In the last few decades\, it has become evident that there is more to understanding what people did in the past than by focussing mainly on the objects. The deposits that enclose them have their own story to tell\, and in fact\, constitute an important (generally neglected) and essential part of the archaeological record. I will attempt to illustrate these ideas with examples from archaeological sites\, at the same time emphasising the concept of context\, particularly at the microstratigraphic scale. \n  \nTo register for online or in-person participation for this event\, please click here \nPAUL GOLDBERG_poster
URL:https://www.heas.at/events/heas-workshop-4-4/
LOCATION:Franz-Klein-Gasse 1\, 1190\, Franz-Klein-Gasse 1\, Vienna\, Austria
CATEGORIES:HEAS-Workshop
ATTACH;FMTTYPE=image/png:https://www.heas.at/wp-content/uploads/2023/12/Workshop_Web-Blog_Ancient-Genomics_less-text.png
END:VEVENT
END:VCALENDAR