BEGIN:VCALENDAR
VERSION:2.0
PRODID:-//HEAS - ECPv6.15.17.1//NONSGML v1.0//EN
CALSCALE:GREGORIAN
METHOD:PUBLISH
X-WR-CALNAME:HEAS
X-ORIGINAL-URL:https://www.heas.at
X-WR-CALDESC:Veranstaltungen für HEAS
REFRESH-INTERVAL;VALUE=DURATION:PT1H
X-Robots-Tag:noindex
X-PUBLISHED-TTL:PT1H
BEGIN:VTIMEZONE
TZID:Europe/Vienna
BEGIN:DAYLIGHT
TZOFFSETFROM:+0100
TZOFFSETTO:+0200
TZNAME:CEST
DTSTART:20230326T010000
END:DAYLIGHT
BEGIN:STANDARD
TZOFFSETFROM:+0200
TZOFFSETTO:+0100
TZNAME:CET
DTSTART:20231029T010000
END:STANDARD
BEGIN:DAYLIGHT
TZOFFSETFROM:+0100
TZOFFSETTO:+0200
TZNAME:CEST
DTSTART:20240331T010000
END:DAYLIGHT
BEGIN:STANDARD
TZOFFSETFROM:+0200
TZOFFSETTO:+0100
TZNAME:CET
DTSTART:20241027T010000
END:STANDARD
BEGIN:DAYLIGHT
TZOFFSETFROM:+0100
TZOFFSETTO:+0200
TZNAME:CEST
DTSTART:20250330T010000
END:DAYLIGHT
BEGIN:STANDARD
TZOFFSETFROM:+0200
TZOFFSETTO:+0100
TZNAME:CET
DTSTART:20251026T010000
END:STANDARD
END:VTIMEZONE
BEGIN:VEVENT
DTSTART;TZID=Europe/Vienna:20240415T103000
DTEND;TZID=Europe/Vienna:20240415T120000
DTSTAMP:20260422T063216
CREATED:20230731T135213Z
LAST-MODIFIED:20240412T115057Z
UID:2792-1713177000-1713182400@www.heas.at
SUMMARY:HEAS Seminar Series - Human Evolution and the Palaeolithic
DESCRIPTION:As part of the HEAS Seminar Series in Human Evolution and the Palaeolithic\, Aurélien Mounier from CNRS\, France will give a talk on „Filling gaps in hominin evolution from the „armchair“ to the field“ on the 15th April 2024. \nAURÉLIEN MOUNIER_poster \nRegister here
URL:https://www.heas.at/events/heas-seminar-series-human-evolution-and-the-palaeolithic-17/
LOCATION:UBB 5.1\, Djerassiplatz 1\, Vienna\, 1030\, Austria
CATEGORIES:HEAS-Seminar Series
ATTACH;FMTTYPE=image/png:https://www.heas.at/wp-content/uploads/2023/07/AURELIEN-MOUNIER_Web-Blog__Human-Evolution_Web-Newspicture_short-text.png
END:VEVENT
BEGIN:VEVENT
DTSTART;TZID=Europe/Vienna:20240415T103000
DTEND;TZID=Europe/Vienna:20240415T120000
DTSTAMP:20260422T063216
CREATED:20230731T135213Z
LAST-MODIFIED:20230731T135213Z
UID:4796-1713177000-1713182400@www.heas.at
SUMMARY:HEAS Seminar Series - Human Evolution and the Palaeolithic
DESCRIPTION:As part of the HEAS Seminar Series in Human Evolution and the Palaeolithic\, Aurélien Mounier from CNRS\, France will give a talk on „Filling gaps in hominin evolution from the „armchair“ to the field“ on the 15th April 2024. \nAURÉLIEN MOUNIER_poster \nRegister here
URL:https://www.heas.at/events/heas-seminar-series-human-evolution-and-the-palaeolithic-17-2/
LOCATION:UBB 5.1\, Djerassiplatz 1\, Vienna\, 1030\, Austria
CATEGORIES:HEAS-Seminar Series
ATTACH;FMTTYPE=image/png:https://www.heas.at/wp-content/uploads/2023/07/AURELIEN-MOUNIER_Web-Blog__Human-Evolution_Web-Newspicture_short-text.png
END:VEVENT
BEGIN:VEVENT
DTSTART;TZID=Europe/Vienna:20240415T103000
DTEND;TZID=Europe/Vienna:20240415T120000
DTSTAMP:20260422T063216
CREATED:20230731T135213Z
LAST-MODIFIED:20230731T135213Z
UID:5023-1713177000-1713182400@www.heas.at
SUMMARY:HEAS Seminar Series - Human Evolution and the Palaeolithic
DESCRIPTION:As part of the HEAS Seminar Series in Human Evolution and the Palaeolithic\, Aurélien Mounier from CNRS\, France will give a talk on „Filling gaps in hominin evolution from the „armchair“ to the field“ on the 15th April 2024. \nAURÉLIEN MOUNIER_poster \nRegister here
URL:https://www.heas.at/events/heas-seminar-series-human-evolution-and-the-palaeolithic-17-3/
LOCATION:UBB 5.1\, Djerassiplatz 1\, Vienna\, 1030\, Austria
CATEGORIES:HEAS-Seminar Series
ATTACH;FMTTYPE=image/png:https://www.heas.at/wp-content/uploads/2023/07/AURELIEN-MOUNIER_Web-Blog__Human-Evolution_Web-Newspicture_short-text.png
END:VEVENT
BEGIN:VEVENT
DTSTART;TZID=Europe/Vienna:20240415T103000
DTEND;TZID=Europe/Vienna:20240415T120000
DTSTAMP:20260422T063216
CREATED:20230731T135213Z
LAST-MODIFIED:20230731T135213Z
UID:5167-1713177000-1713182400@www.heas.at
SUMMARY:HEAS Seminar Series - Human Evolution and the Palaeolithic
DESCRIPTION:As part of the HEAS Seminar Series in Human Evolution and the Palaeolithic\, Aurélien Mounier from CNRS\, France will give a talk on „Filling gaps in hominin evolution from the „armchair“ to the field“ on the 15th April 2024. \nAURÉLIEN MOUNIER_poster \nRegister here
URL:https://www.heas.at/events/heas-seminar-series-human-evolution-and-the-palaeolithic-17-4/
LOCATION:UBB 5.1\, Djerassiplatz 1\, Vienna\, 1030\, Austria
CATEGORIES:HEAS-Seminar Series
ATTACH;FMTTYPE=image/png:https://www.heas.at/wp-content/uploads/2023/07/AURELIEN-MOUNIER_Web-Blog__Human-Evolution_Web-Newspicture_short-text.png
END:VEVENT
END:VCALENDAR