BEGIN:VCALENDAR
VERSION:2.0
PRODID:-//HEAS - ECPv6.15.17.1//NONSGML v1.0//EN
CALSCALE:GREGORIAN
METHOD:PUBLISH
X-ORIGINAL-URL:https://www.heas.at
X-WR-CALDESC:Veranstaltungen für HEAS
REFRESH-INTERVAL;VALUE=DURATION:PT1H
X-Robots-Tag:noindex
X-PUBLISHED-TTL:PT1H
BEGIN:VTIMEZONE
TZID:Europe/Vienna
BEGIN:DAYLIGHT
TZOFFSETFROM:+0100
TZOFFSETTO:+0200
TZNAME:CEST
DTSTART:20230326T010000
END:DAYLIGHT
BEGIN:STANDARD
TZOFFSETFROM:+0200
TZOFFSETTO:+0100
TZNAME:CET
DTSTART:20231029T010000
END:STANDARD
BEGIN:DAYLIGHT
TZOFFSETFROM:+0100
TZOFFSETTO:+0200
TZNAME:CEST
DTSTART:20240331T010000
END:DAYLIGHT
BEGIN:STANDARD
TZOFFSETFROM:+0200
TZOFFSETTO:+0100
TZNAME:CET
DTSTART:20241027T010000
END:STANDARD
BEGIN:DAYLIGHT
TZOFFSETFROM:+0100
TZOFFSETTO:+0200
TZNAME:CEST
DTSTART:20250330T010000
END:DAYLIGHT
BEGIN:STANDARD
TZOFFSETFROM:+0200
TZOFFSETTO:+0100
TZNAME:CET
DTSTART:20251026T010000
END:STANDARD
END:VTIMEZONE
BEGIN:VEVENT
DTSTART;TZID=Europe/Vienna:20240422T103000
DTEND;TZID=Europe/Vienna:20240422T120000
DTSTAMP:20260422T063258
CREATED:20230731T135434Z
LAST-MODIFIED:20240419T082836Z
UID:2794-1713781800-1713787200@www.heas.at
SUMMARY:HEAS Seminar Series - Ancient Genomics
DESCRIPTION:As part of the HEAS Seminar Series in Ancient Genomics Matthias Meyer from Max Planck Institute for Evolutionary Anthropology will give a talk on ‚Beyond bones and teeth – exploring alternative sources of ancient DNA for investigating the human past‘ on the 22nd April 2024. \nRegister here \nMatthias Meyer_poster
URL:https://www.heas.at/events/heas-seminar-series-ancient-genomics-15/
LOCATION:UBB 5.1\, Djerassiplatz 1\, Vienna\, 1030\, Austria
CATEGORIES:HEAS-Seminar Series
ATTACH;FMTTYPE=image/png:https://www.heas.at/wp-content/uploads/2023/07/Meyer-correct_Human-Evolution_Web-Newspicture_short-text-Kopie.png
END:VEVENT
BEGIN:VEVENT
DTSTART;TZID=Europe/Vienna:20240422T103000
DTEND;TZID=Europe/Vienna:20240422T120000
DTSTAMP:20260422T063258
CREATED:20230731T135434Z
LAST-MODIFIED:20230731T135434Z
UID:4797-1713781800-1713787200@www.heas.at
SUMMARY:HEAS Seminar Series - Ancient Genomics
DESCRIPTION:As part of the HEAS Seminar Series in Ancient Genomics Matthias Meyer from Max Planck Institute for Evolutionary Anthropology will give a talk on ‚Beyond bones and teeth – exploring alternative sources of ancient DNA for investigating the human past‘ on the 22nd April 2024. \nRegister here \nMatthias Meyer_poster
URL:https://www.heas.at/events/heas-seminar-series-ancient-genomics-15-2/
LOCATION:UBB 5.1\, Djerassiplatz 1\, Vienna\, 1030\, Austria
CATEGORIES:HEAS-Seminar Series
ATTACH;FMTTYPE=image/png:https://www.heas.at/wp-content/uploads/2023/07/Meyer-correct_Human-Evolution_Web-Newspicture_short-text-Kopie.png
END:VEVENT
BEGIN:VEVENT
DTSTART;TZID=Europe/Vienna:20240422T103000
DTEND;TZID=Europe/Vienna:20240422T120000
DTSTAMP:20260422T063258
CREATED:20230731T135434Z
LAST-MODIFIED:20230731T135434Z
UID:5024-1713781800-1713787200@www.heas.at
SUMMARY:HEAS Seminar Series - Ancient Genomics
DESCRIPTION:As part of the HEAS Seminar Series in Ancient Genomics Matthias Meyer from Max Planck Institute for Evolutionary Anthropology will give a talk on ‚Beyond bones and teeth – exploring alternative sources of ancient DNA for investigating the human past‘ on the 22nd April 2024. \nRegister here \nMatthias Meyer_poster
URL:https://www.heas.at/events/heas-seminar-series-ancient-genomics-15-3/
LOCATION:UBB 5.1\, Djerassiplatz 1\, Vienna\, 1030\, Austria
CATEGORIES:HEAS-Seminar Series
ATTACH;FMTTYPE=image/png:https://www.heas.at/wp-content/uploads/2023/07/Meyer-correct_Human-Evolution_Web-Newspicture_short-text-Kopie.png
END:VEVENT
BEGIN:VEVENT
DTSTART;TZID=Europe/Vienna:20240422T103000
DTEND;TZID=Europe/Vienna:20240422T120000
DTSTAMP:20260422T063258
CREATED:20230731T135434Z
LAST-MODIFIED:20230731T135434Z
UID:5168-1713781800-1713787200@www.heas.at
SUMMARY:HEAS Seminar Series - Ancient Genomics
DESCRIPTION:As part of the HEAS Seminar Series in Ancient Genomics Matthias Meyer from Max Planck Institute for Evolutionary Anthropology will give a talk on ‚Beyond bones and teeth – exploring alternative sources of ancient DNA for investigating the human past‘ on the 22nd April 2024. \nRegister here \nMatthias Meyer_poster
URL:https://www.heas.at/events/heas-seminar-series-ancient-genomics-15-4/
LOCATION:UBB 5.1\, Djerassiplatz 1\, Vienna\, 1030\, Austria
CATEGORIES:HEAS-Seminar Series
ATTACH;FMTTYPE=image/png:https://www.heas.at/wp-content/uploads/2023/07/Meyer-correct_Human-Evolution_Web-Newspicture_short-text-Kopie.png
END:VEVENT
END:VCALENDAR