BEGIN:VCALENDAR
VERSION:2.0
PRODID:-//HEAS - ECPv6.15.17.1//NONSGML v1.0//EN
CALSCALE:GREGORIAN
METHOD:PUBLISH
X-WR-CALNAME:HEAS
X-ORIGINAL-URL:https://www.heas.at
X-WR-CALDESC:Veranstaltungen für HEAS
REFRESH-INTERVAL;VALUE=DURATION:PT1H
X-Robots-Tag:noindex
X-PUBLISHED-TTL:PT1H
BEGIN:VTIMEZONE
TZID:Europe/Vienna
BEGIN:DAYLIGHT
TZOFFSETFROM:+0100
TZOFFSETTO:+0200
TZNAME:CEST
DTSTART:20230326T010000
END:DAYLIGHT
BEGIN:STANDARD
TZOFFSETFROM:+0200
TZOFFSETTO:+0100
TZNAME:CET
DTSTART:20231029T010000
END:STANDARD
BEGIN:DAYLIGHT
TZOFFSETFROM:+0100
TZOFFSETTO:+0200
TZNAME:CEST
DTSTART:20240331T010000
END:DAYLIGHT
BEGIN:STANDARD
TZOFFSETFROM:+0200
TZOFFSETTO:+0100
TZNAME:CET
DTSTART:20241027T010000
END:STANDARD
BEGIN:DAYLIGHT
TZOFFSETFROM:+0100
TZOFFSETTO:+0200
TZNAME:CEST
DTSTART:20250330T010000
END:DAYLIGHT
BEGIN:STANDARD
TZOFFSETFROM:+0200
TZOFFSETTO:+0100
TZNAME:CET
DTSTART:20251026T010000
END:STANDARD
END:VTIMEZONE
BEGIN:VEVENT
DTSTART;TZID=Europe/Vienna:20240429T113000
DTEND;TZID=Europe/Vienna:20240429T130000
DTSTAMP:20260422T050257
CREATED:20230731T135806Z
LAST-MODIFIED:20240313T141740Z
UID:2796-1714390200-1714395600@www.heas.at
SUMMARY:HEAS Seminar Series - Archaeological Science
DESCRIPTION:As part of the HEAS Seminar Series in Archaeological Science Kate Britton will give a talk on ‚Isotopes gone wild: archaeo-ecological approaches to Late Pleistocene living landscapes‘ on the 29th April 2024 \n  \nRegister here \nKate Britton_poster \n 
URL:https://www.heas.at/events/heas-seminar-series-archaeological-science-11/
LOCATION:Franz-Klein-Gasse 1\, 1190\, Franz-Klein-Gasse 1\, Vienna\, Austria
CATEGORIES:HEAS-Seminar Series
ATTACH;FMTTYPE=image/png:https://www.heas.at/wp-content/uploads/2023/07/Kate-Britton_Newspicture_Archaeological-Science_short-text_Newspicture_Archaeological-Science_short-text.png
END:VEVENT
BEGIN:VEVENT
DTSTART;TZID=Europe/Vienna:20240429T113000
DTEND;TZID=Europe/Vienna:20240429T130000
DTSTAMP:20260422T050257
CREATED:20230731T135806Z
LAST-MODIFIED:20230731T135806Z
UID:4798-1714390200-1714395600@www.heas.at
SUMMARY:HEAS Seminar Series - Archaeological Science
DESCRIPTION:As part of the HEAS Seminar Series in Archaeological Science Kate Britton will give a talk on ‚Isotopes gone wild: archaeo-ecological approaches to Late Pleistocene living landscapes‘ on the 29th April 2024 \n  \nRegister here \nKate Britton_poster \n 
URL:https://www.heas.at/events/heas-seminar-series-archaeological-science-11-2/
LOCATION:Franz-Klein-Gasse 1\, 1190\, Franz-Klein-Gasse 1\, Vienna\, Austria
CATEGORIES:HEAS-Seminar Series
ATTACH;FMTTYPE=image/png:https://www.heas.at/wp-content/uploads/2023/07/Kate-Britton_Newspicture_Archaeological-Science_short-text_Newspicture_Archaeological-Science_short-text.png
END:VEVENT
BEGIN:VEVENT
DTSTART;TZID=Europe/Vienna:20240429T113000
DTEND;TZID=Europe/Vienna:20240429T130000
DTSTAMP:20260422T050257
CREATED:20230731T135806Z
LAST-MODIFIED:20230731T135806Z
UID:5025-1714390200-1714395600@www.heas.at
SUMMARY:HEAS Seminar Series - Archaeological Science
DESCRIPTION:As part of the HEAS Seminar Series in Archaeological Science Kate Britton will give a talk on ‚Isotopes gone wild: archaeo-ecological approaches to Late Pleistocene living landscapes‘ on the 29th April 2024 \n  \nRegister here \nKate Britton_poster \n 
URL:https://www.heas.at/events/heas-seminar-series-archaeological-science-11-3/
LOCATION:Franz-Klein-Gasse 1\, 1190\, Franz-Klein-Gasse 1\, Vienna\, Austria
CATEGORIES:HEAS-Seminar Series
ATTACH;FMTTYPE=image/png:https://www.heas.at/wp-content/uploads/2023/07/Kate-Britton_Newspicture_Archaeological-Science_short-text_Newspicture_Archaeological-Science_short-text.png
END:VEVENT
BEGIN:VEVENT
DTSTART;TZID=Europe/Vienna:20240429T113000
DTEND;TZID=Europe/Vienna:20240429T130000
DTSTAMP:20260422T050257
CREATED:20230731T135806Z
LAST-MODIFIED:20230731T135806Z
UID:5169-1714390200-1714395600@www.heas.at
SUMMARY:HEAS Seminar Series - Archaeological Science
DESCRIPTION:As part of the HEAS Seminar Series in Archaeological Science Kate Britton will give a talk on ‚Isotopes gone wild: archaeo-ecological approaches to Late Pleistocene living landscapes‘ on the 29th April 2024 \n  \nRegister here \nKate Britton_poster \n 
URL:https://www.heas.at/events/heas-seminar-series-archaeological-science-11-4/
LOCATION:Franz-Klein-Gasse 1\, 1190\, Franz-Klein-Gasse 1\, Vienna\, Austria
CATEGORIES:HEAS-Seminar Series
ATTACH;FMTTYPE=image/png:https://www.heas.at/wp-content/uploads/2023/07/Kate-Britton_Newspicture_Archaeological-Science_short-text_Newspicture_Archaeological-Science_short-text.png
END:VEVENT
END:VCALENDAR