BEGIN:VCALENDAR
VERSION:2.0
PRODID:-//HEAS - ECPv6.15.17.1//NONSGML v1.0//EN
CALSCALE:GREGORIAN
METHOD:PUBLISH
X-WR-CALNAME:HEAS
X-ORIGINAL-URL:https://www.heas.at
X-WR-CALDESC:Veranstaltungen für HEAS
REFRESH-INTERVAL;VALUE=DURATION:PT1H
X-Robots-Tag:noindex
X-PUBLISHED-TTL:PT1H
BEGIN:VTIMEZONE
TZID:Europe/Vienna
BEGIN:DAYLIGHT
TZOFFSETFROM:+0100
TZOFFSETTO:+0200
TZNAME:CEST
DTSTART:20230326T010000
END:DAYLIGHT
BEGIN:STANDARD
TZOFFSETFROM:+0200
TZOFFSETTO:+0100
TZNAME:CET
DTSTART:20231029T010000
END:STANDARD
BEGIN:DAYLIGHT
TZOFFSETFROM:+0100
TZOFFSETTO:+0200
TZNAME:CEST
DTSTART:20240331T010000
END:DAYLIGHT
BEGIN:STANDARD
TZOFFSETFROM:+0200
TZOFFSETTO:+0100
TZNAME:CET
DTSTART:20241027T010000
END:STANDARD
BEGIN:DAYLIGHT
TZOFFSETFROM:+0100
TZOFFSETTO:+0200
TZNAME:CEST
DTSTART:20250330T010000
END:DAYLIGHT
BEGIN:STANDARD
TZOFFSETFROM:+0200
TZOFFSETTO:+0100
TZNAME:CET
DTSTART:20251026T010000
END:STANDARD
END:VTIMEZONE
BEGIN:VEVENT
DTSTART;TZID=Europe/Vienna:20240513T103000
DTEND;TZID=Europe/Vienna:20240513T120000
DTSTAMP:20260422T050416
CREATED:20230731T140024Z
LAST-MODIFIED:20230925T095056Z
UID:2798-1715596200-1715601600@www.heas.at
SUMMARY:HEAS Seminar Series - Human Evolution and the Palaeolithic
DESCRIPTION:As part of the HEAS Seminar Series in Human Evolution and the Palaeolithic Carolina Mallol from Universidad de La Laguna\, Tenerife\, Spain will give a talk on ‚Decoding Neanderthal Pyrotechnological Traditions Concealed in the Microstratigraphic Sedimentary Record‘ on the 13th May 2024. \nRegister here \nCarolina Mallol_poster
URL:https://www.heas.at/events/heas-seminar-series-human-evolution-and-the-palaeolithic-18/
LOCATION:UBB 5.1\, Djerassiplatz 1\, Vienna\, 1030\, Austria
CATEGORIES:HEAS-Seminar Series
ATTACH;FMTTYPE=image/png:https://www.heas.at/wp-content/uploads/2023/07/CAROLINA-MALLOL_Web-Blog__Human-Evolution_Web-Newspicture_short-text.png
END:VEVENT
BEGIN:VEVENT
DTSTART;TZID=Europe/Vienna:20240513T103000
DTEND;TZID=Europe/Vienna:20240513T120000
DTSTAMP:20260422T050416
CREATED:20230731T140024Z
LAST-MODIFIED:20230731T140024Z
UID:4799-1715596200-1715601600@www.heas.at
SUMMARY:HEAS Seminar Series - Human Evolution and the Palaeolithic
DESCRIPTION:As part of the HEAS Seminar Series in Human Evolution and the Palaeolithic Carolina Mallol from Universidad de La Laguna\, Tenerife\, Spain will give a talk on ‚Decoding Neanderthal Pyrotechnological Traditions Concealed in the Microstratigraphic Sedimentary Record‘ on the 13th May 2024. \nRegister here \nCarolina Mallol_poster
URL:https://www.heas.at/events/heas-seminar-series-human-evolution-and-the-palaeolithic-18-2/
LOCATION:UBB 5.1\, Djerassiplatz 1\, Vienna\, 1030\, Austria
CATEGORIES:HEAS-Seminar Series
ATTACH;FMTTYPE=image/png:https://www.heas.at/wp-content/uploads/2023/07/CAROLINA-MALLOL_Web-Blog__Human-Evolution_Web-Newspicture_short-text.png
END:VEVENT
BEGIN:VEVENT
DTSTART;TZID=Europe/Vienna:20240513T103000
DTEND;TZID=Europe/Vienna:20240513T120000
DTSTAMP:20260422T050416
CREATED:20230731T140024Z
LAST-MODIFIED:20230731T140024Z
UID:5026-1715596200-1715601600@www.heas.at
SUMMARY:HEAS Seminar Series - Human Evolution and the Palaeolithic
DESCRIPTION:As part of the HEAS Seminar Series in Human Evolution and the Palaeolithic Carolina Mallol from Universidad de La Laguna\, Tenerife\, Spain will give a talk on ‚Decoding Neanderthal Pyrotechnological Traditions Concealed in the Microstratigraphic Sedimentary Record‘ on the 13th May 2024. \nRegister here \nCarolina Mallol_poster
URL:https://www.heas.at/events/heas-seminar-series-human-evolution-and-the-palaeolithic-18-3/
LOCATION:UBB 5.1\, Djerassiplatz 1\, Vienna\, 1030\, Austria
CATEGORIES:HEAS-Seminar Series
ATTACH;FMTTYPE=image/png:https://www.heas.at/wp-content/uploads/2023/07/CAROLINA-MALLOL_Web-Blog__Human-Evolution_Web-Newspicture_short-text.png
END:VEVENT
BEGIN:VEVENT
DTSTART;TZID=Europe/Vienna:20240513T103000
DTEND;TZID=Europe/Vienna:20240513T120000
DTSTAMP:20260422T050416
CREATED:20230731T140024Z
LAST-MODIFIED:20230731T140024Z
UID:5170-1715596200-1715601600@www.heas.at
SUMMARY:HEAS Seminar Series - Human Evolution and the Palaeolithic
DESCRIPTION:As part of the HEAS Seminar Series in Human Evolution and the Palaeolithic Carolina Mallol from Universidad de La Laguna\, Tenerife\, Spain will give a talk on ‚Decoding Neanderthal Pyrotechnological Traditions Concealed in the Microstratigraphic Sedimentary Record‘ on the 13th May 2024. \nRegister here \nCarolina Mallol_poster
URL:https://www.heas.at/events/heas-seminar-series-human-evolution-and-the-palaeolithic-18-4/
LOCATION:UBB 5.1\, Djerassiplatz 1\, Vienna\, 1030\, Austria
CATEGORIES:HEAS-Seminar Series
ATTACH;FMTTYPE=image/png:https://www.heas.at/wp-content/uploads/2023/07/CAROLINA-MALLOL_Web-Blog__Human-Evolution_Web-Newspicture_short-text.png
END:VEVENT
END:VCALENDAR