BEGIN:VCALENDAR
VERSION:2.0
PRODID:-//HEAS - ECPv6.15.17.1//NONSGML v1.0//EN
CALSCALE:GREGORIAN
METHOD:PUBLISH
X-WR-CALNAME:HEAS
X-ORIGINAL-URL:https://www.heas.at
X-WR-CALDESC:Veranstaltungen für HEAS
REFRESH-INTERVAL;VALUE=DURATION:PT1H
X-Robots-Tag:noindex
X-PUBLISHED-TTL:PT1H
BEGIN:VTIMEZONE
TZID:Europe/Vienna
BEGIN:DAYLIGHT
TZOFFSETFROM:+0100
TZOFFSETTO:+0200
TZNAME:CEST
DTSTART:20230326T010000
END:DAYLIGHT
BEGIN:STANDARD
TZOFFSETFROM:+0200
TZOFFSETTO:+0100
TZNAME:CET
DTSTART:20231029T010000
END:STANDARD
BEGIN:DAYLIGHT
TZOFFSETFROM:+0100
TZOFFSETTO:+0200
TZNAME:CEST
DTSTART:20240331T010000
END:DAYLIGHT
BEGIN:STANDARD
TZOFFSETFROM:+0200
TZOFFSETTO:+0100
TZNAME:CET
DTSTART:20241027T010000
END:STANDARD
BEGIN:DAYLIGHT
TZOFFSETFROM:+0100
TZOFFSETTO:+0200
TZNAME:CEST
DTSTART:20250330T010000
END:DAYLIGHT
BEGIN:STANDARD
TZOFFSETFROM:+0200
TZOFFSETTO:+0100
TZNAME:CET
DTSTART:20251026T010000
END:STANDARD
END:VTIMEZONE
BEGIN:VEVENT
DTSTART;TZID=Europe/Vienna:20240527T103000
DTEND;TZID=Europe/Vienna:20240527T120000
DTSTAMP:20260422T032500
CREATED:20230731T140539Z
LAST-MODIFIED:20240417T131040Z
UID:2802-1716805800-1716811200@www.heas.at
SUMMARY:HEAS Seminar Series - Archaeological Science
DESCRIPTION:As part of the HEAS Seminar Series in Archaeological Science\, Veerle Rots from University of Liege will give a talk on Functional approaches to human behaviour in the Palaeolithic on the 27th May 2024. \nRegister here \n  \nVEERLE ROTS__poster
URL:https://www.heas.at/events/heas-seminar-series-archaeological-science-12/
LOCATION:Franz-Klein-Gasse 1\, 1190\, Franz-Klein-Gasse 1\, Vienna\, Austria
CATEGORIES:HEAS-Seminar Series
ATTACH;FMTTYPE=image/png:https://www.heas.at/wp-content/uploads/2023/07/Veerle-Rots_Newspicture_Archaeological-Science_short-text_Newspicture_Archaeological-Science_short-text.png
END:VEVENT
BEGIN:VEVENT
DTSTART;TZID=Europe/Vienna:20240527T103000
DTEND;TZID=Europe/Vienna:20240527T120000
DTSTAMP:20260422T032500
CREATED:20230731T140539Z
LAST-MODIFIED:20230731T140539Z
UID:4801-1716805800-1716811200@www.heas.at
SUMMARY:HEAS Seminar Series - Archaeological Science
DESCRIPTION:As part of the HEAS Seminar Series in Archaeological Science\, Veerle Rots from University of Liege will give a talk on Functional approaches to human behaviour in the Palaeolithic on the 27th May 2024. \nRegister here \n  \nVEERLE ROTS__poster
URL:https://www.heas.at/events/heas-seminar-series-archaeological-science-12-2/
LOCATION:Franz-Klein-Gasse 1\, 1190\, Franz-Klein-Gasse 1\, Vienna\, Austria
CATEGORIES:HEAS-Seminar Series
ATTACH;FMTTYPE=image/png:https://www.heas.at/wp-content/uploads/2023/07/Veerle-Rots_Newspicture_Archaeological-Science_short-text_Newspicture_Archaeological-Science_short-text.png
END:VEVENT
BEGIN:VEVENT
DTSTART;TZID=Europe/Vienna:20240527T103000
DTEND;TZID=Europe/Vienna:20240527T120000
DTSTAMP:20260422T032500
CREATED:20230731T140539Z
LAST-MODIFIED:20230731T140539Z
UID:5028-1716805800-1716811200@www.heas.at
SUMMARY:HEAS Seminar Series - Archaeological Science
DESCRIPTION:As part of the HEAS Seminar Series in Archaeological Science\, Veerle Rots from University of Liege will give a talk on Functional approaches to human behaviour in the Palaeolithic on the 27th May 2024. \nRegister here \n  \nVEERLE ROTS__poster
URL:https://www.heas.at/events/heas-seminar-series-archaeological-science-12-3/
LOCATION:Franz-Klein-Gasse 1\, 1190\, Franz-Klein-Gasse 1\, Vienna\, Austria
CATEGORIES:HEAS-Seminar Series
ATTACH;FMTTYPE=image/png:https://www.heas.at/wp-content/uploads/2023/07/Veerle-Rots_Newspicture_Archaeological-Science_short-text_Newspicture_Archaeological-Science_short-text.png
END:VEVENT
BEGIN:VEVENT
DTSTART;TZID=Europe/Vienna:20240527T103000
DTEND;TZID=Europe/Vienna:20240527T120000
DTSTAMP:20260422T032500
CREATED:20230731T140539Z
LAST-MODIFIED:20230731T140539Z
UID:5172-1716805800-1716811200@www.heas.at
SUMMARY:HEAS Seminar Series - Archaeological Science
DESCRIPTION:As part of the HEAS Seminar Series in Archaeological Science\, Veerle Rots from University of Liege will give a talk on Functional approaches to human behaviour in the Palaeolithic on the 27th May 2024. \nRegister here \n  \nVEERLE ROTS__poster
URL:https://www.heas.at/events/heas-seminar-series-archaeological-science-12-4/
LOCATION:Franz-Klein-Gasse 1\, 1190\, Franz-Klein-Gasse 1\, Vienna\, Austria
CATEGORIES:HEAS-Seminar Series
ATTACH;FMTTYPE=image/png:https://www.heas.at/wp-content/uploads/2023/07/Veerle-Rots_Newspicture_Archaeological-Science_short-text_Newspicture_Archaeological-Science_short-text.png
END:VEVENT
END:VCALENDAR