BEGIN:VCALENDAR
VERSION:2.0
PRODID:-//HEAS - ECPv6.15.17.1//NONSGML v1.0//EN
CALSCALE:GREGORIAN
METHOD:PUBLISH
X-WR-CALNAME:HEAS
X-ORIGINAL-URL:https://www.heas.at
X-WR-CALDESC:Veranstaltungen für HEAS
REFRESH-INTERVAL;VALUE=DURATION:PT1H
X-Robots-Tag:noindex
X-PUBLISHED-TTL:PT1H
BEGIN:VTIMEZONE
TZID:Europe/Vienna
BEGIN:DAYLIGHT
TZOFFSETFROM:+0100
TZOFFSETTO:+0200
TZNAME:CEST
DTSTART:20230326T010000
END:DAYLIGHT
BEGIN:STANDARD
TZOFFSETFROM:+0200
TZOFFSETTO:+0100
TZNAME:CET
DTSTART:20231029T010000
END:STANDARD
BEGIN:DAYLIGHT
TZOFFSETFROM:+0100
TZOFFSETTO:+0200
TZNAME:CEST
DTSTART:20240331T010000
END:DAYLIGHT
BEGIN:STANDARD
TZOFFSETFROM:+0200
TZOFFSETTO:+0100
TZNAME:CET
DTSTART:20241027T010000
END:STANDARD
BEGIN:DAYLIGHT
TZOFFSETFROM:+0100
TZOFFSETTO:+0200
TZNAME:CEST
DTSTART:20250330T010000
END:DAYLIGHT
BEGIN:STANDARD
TZOFFSETFROM:+0200
TZOFFSETTO:+0100
TZNAME:CET
DTSTART:20251026T010000
END:STANDARD
END:VTIMEZONE
BEGIN:VEVENT
DTSTART;TZID=Europe/Vienna:20240617T103000
DTEND;TZID=Europe/Vienna:20240617T120000
DTSTAMP:20260422T031314
CREATED:20230731T141224Z
LAST-MODIFIED:20230925T095601Z
UID:2806-1718620200-1718625600@www.heas.at
SUMMARY:HEAS Seminar Series - Ancient Genomics
DESCRIPTION:As part of the HEAS Seminar Series in Ancient Genomics\, Pontus Skoglund from Francis Crick Institute will give a talk on ‚Fine-scale genetic history‘ on the 17th June 2024. \nRegister here \nPontus Skoglund_poster
URL:https://www.heas.at/events/heas-seminar-series-ancient-genomics-17/
LOCATION:UBB 5.1\, Djerassiplatz 1\, Vienna\, 1030\, Austria
CATEGORIES:HEAS-Seminar Series
ATTACH;FMTTYPE=image/png:https://www.heas.at/wp-content/uploads/2023/07/PONTUS-SKOGLUND_Web-Blog_Ancient-Genomics_less-text.png
END:VEVENT
BEGIN:VEVENT
DTSTART;TZID=Europe/Vienna:20240617T103000
DTEND;TZID=Europe/Vienna:20240617T120000
DTSTAMP:20260422T031314
CREATED:20230731T141224Z
LAST-MODIFIED:20230731T141224Z
UID:4803-1718620200-1718625600@www.heas.at
SUMMARY:HEAS Seminar Series - Ancient Genomics
DESCRIPTION:As part of the HEAS Seminar Series in Ancient Genomics\, Pontus Skoglund from Francis Crick Institute will give a talk on ‚Fine-scale genetic history‘ on the 17th June 2024. \nRegister here \nPontus Skoglund_poster
URL:https://www.heas.at/events/heas-seminar-series-ancient-genomics-17-2/
LOCATION:UBB 5.1\, Djerassiplatz 1\, Vienna\, 1030\, Austria
CATEGORIES:HEAS-Seminar Series
ATTACH;FMTTYPE=image/png:https://www.heas.at/wp-content/uploads/2023/07/PONTUS-SKOGLUND_Web-Blog_Ancient-Genomics_less-text.png
END:VEVENT
BEGIN:VEVENT
DTSTART;TZID=Europe/Vienna:20240617T103000
DTEND;TZID=Europe/Vienna:20240617T120000
DTSTAMP:20260422T031314
CREATED:20230731T141224Z
LAST-MODIFIED:20230731T141224Z
UID:5030-1718620200-1718625600@www.heas.at
SUMMARY:HEAS Seminar Series - Ancient Genomics
DESCRIPTION:As part of the HEAS Seminar Series in Ancient Genomics\, Pontus Skoglund from Francis Crick Institute will give a talk on ‚Fine-scale genetic history‘ on the 17th June 2024. \nRegister here \nPontus Skoglund_poster
URL:https://www.heas.at/events/heas-seminar-series-ancient-genomics-17-3/
LOCATION:UBB 5.1\, Djerassiplatz 1\, Vienna\, 1030\, Austria
CATEGORIES:HEAS-Seminar Series
ATTACH;FMTTYPE=image/png:https://www.heas.at/wp-content/uploads/2023/07/PONTUS-SKOGLUND_Web-Blog_Ancient-Genomics_less-text.png
END:VEVENT
BEGIN:VEVENT
DTSTART;TZID=Europe/Vienna:20240617T103000
DTEND;TZID=Europe/Vienna:20240617T120000
DTSTAMP:20260422T031314
CREATED:20230731T141224Z
LAST-MODIFIED:20230731T141224Z
UID:5174-1718620200-1718625600@www.heas.at
SUMMARY:HEAS Seminar Series - Ancient Genomics
DESCRIPTION:As part of the HEAS Seminar Series in Ancient Genomics\, Pontus Skoglund from Francis Crick Institute will give a talk on ‚Fine-scale genetic history‘ on the 17th June 2024. \nRegister here \nPontus Skoglund_poster
URL:https://www.heas.at/events/heas-seminar-series-ancient-genomics-17-4/
LOCATION:UBB 5.1\, Djerassiplatz 1\, Vienna\, 1030\, Austria
CATEGORIES:HEAS-Seminar Series
ATTACH;FMTTYPE=image/png:https://www.heas.at/wp-content/uploads/2023/07/PONTUS-SKOGLUND_Web-Blog_Ancient-Genomics_less-text.png
END:VEVENT
END:VCALENDAR