BEGIN:VCALENDAR
VERSION:2.0
PRODID:-//HEAS - ECPv6.15.17.1//NONSGML v1.0//EN
CALSCALE:GREGORIAN
METHOD:PUBLISH
X-WR-CALNAME:HEAS
X-ORIGINAL-URL:https://www.heas.at
X-WR-CALDESC:Veranstaltungen für HEAS
REFRESH-INTERVAL;VALUE=DURATION:PT1H
X-Robots-Tag:noindex
X-PUBLISHED-TTL:PT1H
BEGIN:VTIMEZONE
TZID:Europe/Vienna
BEGIN:DAYLIGHT
TZOFFSETFROM:+0100
TZOFFSETTO:+0200
TZNAME:CEST
DTSTART:20240331T010000
END:DAYLIGHT
BEGIN:STANDARD
TZOFFSETFROM:+0200
TZOFFSETTO:+0100
TZNAME:CET
DTSTART:20241027T010000
END:STANDARD
BEGIN:DAYLIGHT
TZOFFSETFROM:+0100
TZOFFSETTO:+0200
TZNAME:CEST
DTSTART:20250330T010000
END:DAYLIGHT
BEGIN:STANDARD
TZOFFSETFROM:+0200
TZOFFSETTO:+0100
TZNAME:CET
DTSTART:20251026T010000
END:STANDARD
BEGIN:DAYLIGHT
TZOFFSETFROM:+0100
TZOFFSETTO:+0200
TZNAME:CEST
DTSTART:20260329T010000
END:DAYLIGHT
BEGIN:STANDARD
TZOFFSETFROM:+0200
TZOFFSETTO:+0100
TZNAME:CET
DTSTART:20261025T010000
END:STANDARD
END:VTIMEZONE
BEGIN:VEVENT
DTSTART;TZID=Europe/Vienna:20250113T160000
DTEND;TZID=Europe/Vienna:20250113T173000
DTSTAMP:20260421T162140
CREATED:20240913T101240Z
LAST-MODIFIED:20241230T094902Z
UID:3843-1736784000-1736789400@www.heas.at
SUMMARY:HEAS Seminar - Human Evolution and the Palaeolithic
DESCRIPTION:As part of the HEAS Seminar Series in Human Evolution and the Palaeolithic\, Teresa Steele from UC Davis will give a talk on The Middle Stone Age from Varsche Rivier 003\, South Africa: innovation\, environmental variation\, and behavioral diversity on the 13th January 2025 at 16:00 CET. \nRegistration for online and in-person participation is here. \n  \nTeresa Steele_poster
URL:https://www.heas.at/events/heas-seminar-human-evolution-and-the-palaeolithic-2/
LOCATION:UBB 5.1\, Djerassiplatz 1\, Vienna\, 1030\, Austria
CATEGORIES:HEAS-Seminar Series
ATTACH;FMTTYPE=image/png:https://www.heas.at/wp-content/uploads/2024/09/Teresa-Steele_PowerPoint_Human-Evolution-and-the-Palaeolithic_short-name_PowerPoint_Human-Evolution-and-the-Palaeolithic_short-name.png
END:VEVENT
BEGIN:VEVENT
DTSTART;TZID=Europe/Vienna:20250113T160000
DTEND;TZID=Europe/Vienna:20250113T173000
DTSTAMP:20260421T162140
CREATED:20240913T101240Z
LAST-MODIFIED:20240913T101240Z
UID:4822-1736784000-1736789400@www.heas.at
SUMMARY:HEAS Seminar - Human Evolution and the Palaeolithic
DESCRIPTION:As part of the HEAS Seminar Series in Human Evolution and the Palaeolithic\, Teresa Steele from UC Davis will give a talk on The Middle Stone Age from Varsche Rivier 003\, South Africa: innovation\, environmental variation\, and behavioral diversity on the 13th January 2025 at 16:00 CET. \nRegistration for online and in-person participation is here. \n  \nTeresa Steele_poster
URL:https://www.heas.at/events/heas-seminar-human-evolution-and-the-palaeolithic-2-2/
LOCATION:UBB 5.1\, Djerassiplatz 1\, Vienna\, 1030\, Austria
CATEGORIES:HEAS-Seminar Series
ATTACH;FMTTYPE=image/png:https://www.heas.at/wp-content/uploads/2024/09/Teresa-Steele_PowerPoint_Human-Evolution-and-the-Palaeolithic_short-name_PowerPoint_Human-Evolution-and-the-Palaeolithic_short-name.png
END:VEVENT
BEGIN:VEVENT
DTSTART;TZID=Europe/Vienna:20250113T160000
DTEND;TZID=Europe/Vienna:20250113T173000
DTSTAMP:20260421T162140
CREATED:20240913T101240Z
LAST-MODIFIED:20240913T101240Z
UID:5051-1736784000-1736789400@www.heas.at
SUMMARY:HEAS Seminar - Human Evolution and the Palaeolithic
DESCRIPTION:As part of the HEAS Seminar Series in Human Evolution and the Palaeolithic\, Teresa Steele from UC Davis will give a talk on The Middle Stone Age from Varsche Rivier 003\, South Africa: innovation\, environmental variation\, and behavioral diversity on the 13th January 2025 at 16:00 CET. \nRegistration for online and in-person participation is here. \n  \nTeresa Steele_poster
URL:https://www.heas.at/events/heas-seminar-human-evolution-and-the-palaeolithic-2-3/
LOCATION:UBB 5.1\, Djerassiplatz 1\, Vienna\, 1030\, Austria
CATEGORIES:HEAS-Seminar Series
ATTACH;FMTTYPE=image/png:https://www.heas.at/wp-content/uploads/2024/09/Teresa-Steele_PowerPoint_Human-Evolution-and-the-Palaeolithic_short-name_PowerPoint_Human-Evolution-and-the-Palaeolithic_short-name.png
END:VEVENT
BEGIN:VEVENT
DTSTART;TZID=Europe/Vienna:20250113T160000
DTEND;TZID=Europe/Vienna:20250113T173000
DTSTAMP:20260421T162140
CREATED:20240913T101240Z
LAST-MODIFIED:20240913T101240Z
UID:5195-1736784000-1736789400@www.heas.at
SUMMARY:HEAS Seminar - Human Evolution and the Palaeolithic
DESCRIPTION:As part of the HEAS Seminar Series in Human Evolution and the Palaeolithic\, Teresa Steele from UC Davis will give a talk on The Middle Stone Age from Varsche Rivier 003\, South Africa: innovation\, environmental variation\, and behavioral diversity on the 13th January 2025 at 16:00 CET. \nRegistration for online and in-person participation is here. \n  \nTeresa Steele_poster
URL:https://www.heas.at/events/heas-seminar-human-evolution-and-the-palaeolithic-2-4/
LOCATION:UBB 5.1\, Djerassiplatz 1\, Vienna\, 1030\, Austria
CATEGORIES:HEAS-Seminar Series
ATTACH;FMTTYPE=image/png:https://www.heas.at/wp-content/uploads/2024/09/Teresa-Steele_PowerPoint_Human-Evolution-and-the-Palaeolithic_short-name_PowerPoint_Human-Evolution-and-the-Palaeolithic_short-name.png
END:VEVENT
END:VCALENDAR