BEGIN:VCALENDAR
VERSION:2.0
PRODID:-//HEAS - ECPv6.15.17.1//NONSGML v1.0//EN
CALSCALE:GREGORIAN
METHOD:PUBLISH
X-ORIGINAL-URL:https://www.heas.at
X-WR-CALDESC:Veranstaltungen für HEAS
REFRESH-INTERVAL;VALUE=DURATION:PT1H
X-Robots-Tag:noindex
X-PUBLISHED-TTL:PT1H
BEGIN:VTIMEZONE
TZID:Europe/Vienna
BEGIN:DAYLIGHT
TZOFFSETFROM:+0100
TZOFFSETTO:+0200
TZNAME:CEST
DTSTART:20240331T010000
END:DAYLIGHT
BEGIN:STANDARD
TZOFFSETFROM:+0200
TZOFFSETTO:+0100
TZNAME:CET
DTSTART:20241027T010000
END:STANDARD
BEGIN:DAYLIGHT
TZOFFSETFROM:+0100
TZOFFSETTO:+0200
TZNAME:CEST
DTSTART:20250330T010000
END:DAYLIGHT
BEGIN:STANDARD
TZOFFSETFROM:+0200
TZOFFSETTO:+0100
TZNAME:CET
DTSTART:20251026T010000
END:STANDARD
BEGIN:DAYLIGHT
TZOFFSETFROM:+0100
TZOFFSETTO:+0200
TZNAME:CEST
DTSTART:20260329T010000
END:DAYLIGHT
BEGIN:STANDARD
TZOFFSETFROM:+0200
TZOFFSETTO:+0100
TZNAME:CET
DTSTART:20261025T010000
END:STANDARD
END:VTIMEZONE
BEGIN:VEVENT
DTSTART;TZID=Europe/Vienna:20250212T180000
DTEND;TZID=Europe/Vienna:20250212T193000
DTSTAMP:20260421T145503
CREATED:20250121T134223Z
LAST-MODIFIED:20250211T124210Z
UID:4196-1739383200-1739388600@www.heas.at
SUMMARY:HEAS Talks
DESCRIPTION:We are looking forward to welcoming Lisa-Marie ShillIto from Newcastle University to Vienna. Lisa-Marie will give a talk on Every Archaeological Problem starts as a Problem in Geoarchaeology on the 12th February 2025 at 18:00 in the University of Vienna Biology Building (UBB) HS 1. \n  \nRegister here. \nLISA-MARIE SHILLITO_POSTER \nGeoarchaeology in Vienna Booklet_1
URL:https://www.heas.at/events/heas-talks/
LOCATION:HS UBB\, Djerassiplatz 1
CATEGORIES:HEAS-Lecture
ATTACH;FMTTYPE=image/png:https://www.heas.at/wp-content/uploads/2025/01/LISA-MARIE-SHILLITO_PowerPoint_Ancient-Genomics_less-tesxt-1.png
END:VEVENT
BEGIN:VEVENT
DTSTART;TZID=Europe/Vienna:20250212T180000
DTEND;TZID=Europe/Vienna:20250212T193000
DTSTAMP:20260421T145503
CREATED:20250121T134223Z
LAST-MODIFIED:20250121T134223Z
UID:4842-1739383200-1739388600@www.heas.at
SUMMARY:HEAS Talks
DESCRIPTION:We are looking forward to welcoming Lisa-Marie ShillIto from Newcastle University to Vienna. Lisa-Marie will give a talk on Every Archaeological Problem starts as a Problem in Geoarchaeology on the 12th February 2025 at 18:00 in the University of Vienna Biology Building (UBB) HS 1. \n  \nRegister here. \nLISA-MARIE SHILLITO_POSTER \nGeoarchaeology in Vienna Booklet_1
URL:https://www.heas.at/events/heas-talks-2/
LOCATION:HS UBB\, Djerassiplatz 1
CATEGORIES:HEAS-Lecture
ATTACH;FMTTYPE=image/png:https://www.heas.at/wp-content/uploads/2025/01/LISA-MARIE-SHILLITO_PowerPoint_Ancient-Genomics_less-tesxt-1.png
END:VEVENT
BEGIN:VEVENT
DTSTART;TZID=Europe/Vienna:20250212T180000
DTEND;TZID=Europe/Vienna:20250212T193000
DTSTAMP:20260421T145503
CREATED:20250121T134223Z
LAST-MODIFIED:20250121T134223Z
UID:5069-1739383200-1739388600@www.heas.at
SUMMARY:HEAS Talks
DESCRIPTION:We are looking forward to welcoming Lisa-Marie ShillIto from Newcastle University to Vienna. Lisa-Marie will give a talk on Every Archaeological Problem starts as a Problem in Geoarchaeology on the 12th February 2025 at 18:00 in the University of Vienna Biology Building (UBB) HS 1. \n  \nRegister here. \nLISA-MARIE SHILLITO_POSTER \nGeoarchaeology in Vienna Booklet_1
URL:https://www.heas.at/events/heas-talks-3/
LOCATION:HS UBB\, Djerassiplatz 1
CATEGORIES:HEAS-Lecture
ATTACH;FMTTYPE=image/png:https://www.heas.at/wp-content/uploads/2025/01/LISA-MARIE-SHILLITO_PowerPoint_Ancient-Genomics_less-tesxt-1.png
END:VEVENT
BEGIN:VEVENT
DTSTART;TZID=Europe/Vienna:20250212T180000
DTEND;TZID=Europe/Vienna:20250212T193000
DTSTAMP:20260421T145503
CREATED:20250121T134223Z
LAST-MODIFIED:20250121T134223Z
UID:5213-1739383200-1739388600@www.heas.at
SUMMARY:HEAS Talks
DESCRIPTION:We are looking forward to welcoming Lisa-Marie ShillIto from Newcastle University to Vienna. Lisa-Marie will give a talk on Every Archaeological Problem starts as a Problem in Geoarchaeology on the 12th February 2025 at 18:00 in the University of Vienna Biology Building (UBB) HS 1. \n  \nRegister here. \nLISA-MARIE SHILLITO_POSTER \nGeoarchaeology in Vienna Booklet_1
URL:https://www.heas.at/events/heas-talks-4/
LOCATION:HS UBB\, Djerassiplatz 1
CATEGORIES:HEAS-Lecture
ATTACH;FMTTYPE=image/png:https://www.heas.at/wp-content/uploads/2025/01/LISA-MARIE-SHILLITO_PowerPoint_Ancient-Genomics_less-tesxt-1.png
END:VEVENT
END:VCALENDAR