BEGIN:VCALENDAR
VERSION:2.0
PRODID:-//HEAS - ECPv6.15.17.1//NONSGML v1.0//EN
CALSCALE:GREGORIAN
METHOD:PUBLISH
X-WR-CALNAME:HEAS
X-ORIGINAL-URL:https://www.heas.at
X-WR-CALDESC:Veranstaltungen für HEAS
REFRESH-INTERVAL;VALUE=DURATION:PT1H
X-Robots-Tag:noindex
X-PUBLISHED-TTL:PT1H
BEGIN:VTIMEZONE
TZID:Europe/Vienna
BEGIN:DAYLIGHT
TZOFFSETFROM:+0100
TZOFFSETTO:+0200
TZNAME:CEST
DTSTART:20240331T010000
END:DAYLIGHT
BEGIN:STANDARD
TZOFFSETFROM:+0200
TZOFFSETTO:+0100
TZNAME:CET
DTSTART:20241027T010000
END:STANDARD
BEGIN:DAYLIGHT
TZOFFSETFROM:+0100
TZOFFSETTO:+0200
TZNAME:CEST
DTSTART:20250330T010000
END:DAYLIGHT
BEGIN:STANDARD
TZOFFSETFROM:+0200
TZOFFSETTO:+0100
TZNAME:CET
DTSTART:20251026T010000
END:STANDARD
BEGIN:DAYLIGHT
TZOFFSETFROM:+0100
TZOFFSETTO:+0200
TZNAME:CEST
DTSTART:20260329T010000
END:DAYLIGHT
BEGIN:STANDARD
TZOFFSETFROM:+0200
TZOFFSETTO:+0100
TZNAME:CET
DTSTART:20261025T010000
END:STANDARD
END:VTIMEZONE
BEGIN:VEVENT
DTSTART;TZID=Europe/Vienna:20250407T103000
DTEND;TZID=Europe/Vienna:20250407T120000
DTSTAMP:20260421T102146
CREATED:20240913T115202Z
LAST-MODIFIED:20240913T115203Z
UID:3862-1744021800-1744027200@www.heas.at
SUMMARY:HEAS Seminar - Human Evolution and the Palaeolithic
DESCRIPTION:As part of the HEAS Seminar Series in Human Evolution and the Palaeolithic\, Matthew Skinner from Max Planck Institute for Evolutionary Anthropology will give a talk on How hidden structures of bones and teeth are improving our understanding of human evolutionary history on the 7th April 2025 at 10:30 CEST. \n  \nRegistration for online and in-person participation is here. \n  \nMatthew Skinner_poster
URL:https://www.heas.at/events/heas-seminar-human-evolution-and-the-palaeolithic-5/
LOCATION:UBB 5.1\, Djerassiplatz 1\, Vienna\, 1030\, Austria
CATEGORIES:HEAS-Seminar Series
ATTACH;FMTTYPE=image/png:https://www.heas.at/wp-content/uploads/2024/09/Matthew-Skinner_PowerPoint_Human-Evolution-and-the-Palaeolithic_short-name.png
END:VEVENT
BEGIN:VEVENT
DTSTART;TZID=Europe/Vienna:20250407T103000
DTEND;TZID=Europe/Vienna:20250407T120000
DTSTAMP:20260421T102146
CREATED:20240913T115202Z
LAST-MODIFIED:20240913T115202Z
UID:4824-1744021800-1744027200@www.heas.at
SUMMARY:HEAS Seminar - Human Evolution and the Palaeolithic
DESCRIPTION:As part of the HEAS Seminar Series in Human Evolution and the Palaeolithic\, Matthew Skinner from Max Planck Institute for Evolutionary Anthropology will give a talk on How hidden structures of bones and teeth are improving our understanding of human evolutionary history on the 7th April 2025 at 10:30 CEST. \n  \nRegistration for online and in-person participation is here. \n  \nMatthew Skinner_poster
URL:https://www.heas.at/events/heas-seminar-human-evolution-and-the-palaeolithic-5-2/
LOCATION:UBB 5.1\, Djerassiplatz 1\, Vienna\, 1030\, Austria
CATEGORIES:HEAS-Seminar Series
ATTACH;FMTTYPE=image/png:https://www.heas.at/wp-content/uploads/2024/09/Matthew-Skinner_PowerPoint_Human-Evolution-and-the-Palaeolithic_short-name.png
END:VEVENT
BEGIN:VEVENT
DTSTART;TZID=Europe/Vienna:20250407T103000
DTEND;TZID=Europe/Vienna:20250407T120000
DTSTAMP:20260421T102146
CREATED:20240913T115202Z
LAST-MODIFIED:20240913T115202Z
UID:5053-1744021800-1744027200@www.heas.at
SUMMARY:HEAS Seminar - Human Evolution and the Palaeolithic
DESCRIPTION:As part of the HEAS Seminar Series in Human Evolution and the Palaeolithic\, Matthew Skinner from Max Planck Institute for Evolutionary Anthropology will give a talk on How hidden structures of bones and teeth are improving our understanding of human evolutionary history on the 7th April 2025 at 10:30 CEST. \n  \nRegistration for online and in-person participation is here. \n  \nMatthew Skinner_poster
URL:https://www.heas.at/events/heas-seminar-human-evolution-and-the-palaeolithic-5-3/
LOCATION:UBB 5.1\, Djerassiplatz 1\, Vienna\, 1030\, Austria
CATEGORIES:HEAS-Seminar Series
ATTACH;FMTTYPE=image/png:https://www.heas.at/wp-content/uploads/2024/09/Matthew-Skinner_PowerPoint_Human-Evolution-and-the-Palaeolithic_short-name.png
END:VEVENT
BEGIN:VEVENT
DTSTART;TZID=Europe/Vienna:20250407T103000
DTEND;TZID=Europe/Vienna:20250407T120000
DTSTAMP:20260421T102146
CREATED:20240913T115202Z
LAST-MODIFIED:20240913T115202Z
UID:5197-1744021800-1744027200@www.heas.at
SUMMARY:HEAS Seminar - Human Evolution and the Palaeolithic
DESCRIPTION:As part of the HEAS Seminar Series in Human Evolution and the Palaeolithic\, Matthew Skinner from Max Planck Institute for Evolutionary Anthropology will give a talk on How hidden structures of bones and teeth are improving our understanding of human evolutionary history on the 7th April 2025 at 10:30 CEST. \n  \nRegistration for online and in-person participation is here. \n  \nMatthew Skinner_poster
URL:https://www.heas.at/events/heas-seminar-human-evolution-and-the-palaeolithic-5-4/
LOCATION:UBB 5.1\, Djerassiplatz 1\, Vienna\, 1030\, Austria
CATEGORIES:HEAS-Seminar Series
ATTACH;FMTTYPE=image/png:https://www.heas.at/wp-content/uploads/2024/09/Matthew-Skinner_PowerPoint_Human-Evolution-and-the-Palaeolithic_short-name.png
END:VEVENT
END:VCALENDAR