BEGIN:VCALENDAR
VERSION:2.0
PRODID:-//HEAS - ECPv6.15.17.1//NONSGML v1.0//EN
CALSCALE:GREGORIAN
METHOD:PUBLISH
X-ORIGINAL-URL:https://www.heas.at
X-WR-CALDESC:Veranstaltungen für HEAS
REFRESH-INTERVAL;VALUE=DURATION:PT1H
X-Robots-Tag:noindex
X-PUBLISHED-TTL:PT1H
BEGIN:VTIMEZONE
TZID:Europe/Vienna
BEGIN:DAYLIGHT
TZOFFSETFROM:+0100
TZOFFSETTO:+0200
TZNAME:CEST
DTSTART:20220327T010000
END:DAYLIGHT
BEGIN:STANDARD
TZOFFSETFROM:+0200
TZOFFSETTO:+0100
TZNAME:CET
DTSTART:20221030T010000
END:STANDARD
BEGIN:DAYLIGHT
TZOFFSETFROM:+0100
TZOFFSETTO:+0200
TZNAME:CEST
DTSTART:20230326T010000
END:DAYLIGHT
BEGIN:STANDARD
TZOFFSETFROM:+0200
TZOFFSETTO:+0100
TZNAME:CET
DTSTART:20231029T010000
END:STANDARD
BEGIN:DAYLIGHT
TZOFFSETFROM:+0100
TZOFFSETTO:+0200
TZNAME:CEST
DTSTART:20240331T010000
END:DAYLIGHT
BEGIN:STANDARD
TZOFFSETFROM:+0200
TZOFFSETTO:+0100
TZNAME:CET
DTSTART:20241027T010000
END:STANDARD
END:VTIMEZONE
BEGIN:VEVENT
DTSTART;TZID=Europe/Vienna:20231204T103000
DTEND;TZID=Europe/Vienna:20231204T120000
DTSTAMP:20260422T111246
CREATED:20230731T124541Z
LAST-MODIFIED:20240201T093610Z
UID:2768-1701685800-1701691200@www.heas.at
SUMMARY:HEAS Seminar Series  - Human Evolution and the Palaeolithic
DESCRIPTION:As part of the HEAS Seminar Series in Human Evolution and the Palaeolithic Emily Hallinan from ICAREB\, University of Faro\, Pr will be giving a talk on ‚Nubian complexity: new inter-regional perspectives on Middle Palaeolithic Nubian Levallois technology‘ on the 4th December 2023 at 10:30am. \nRegister here \nEMILY HALLINAN_poster
URL:https://www.heas.at/events/heas-seminar-series-human-evolution-and-the-palaeolithic-12/
LOCATION:UBB 5.1\, Djerassiplatz 1\, Vienna\, 1030\, Austria
ATTACH;FMTTYPE=image/png:https://www.heas.at/wp-content/uploads/2023/07/Emily-Hallinan_Web-Blog__Human-Evolution_Web-Newspicture_short-text.png
END:VEVENT
BEGIN:VEVENT
DTSTART;TZID=Europe/Vienna:20231204T103000
DTEND;TZID=Europe/Vienna:20231204T120000
DTSTAMP:20260422T111246
CREATED:20230731T124541Z
LAST-MODIFIED:20230731T124541Z
UID:4783-1701685800-1701691200@www.heas.at
SUMMARY:HEAS Seminar Series  - Human Evolution and the Palaeolithic
DESCRIPTION:As part of the HEAS Seminar Series in Human Evolution and the Palaeolithic Emily Hallinan from ICAREB\, University of Faro\, Pr will be giving a talk on ‚Nubian complexity: new inter-regional perspectives on Middle Palaeolithic Nubian Levallois technology‘ on the 4th December 2023 at 10:30am. \nRegister here \nEMILY HALLINAN_poster
URL:https://www.heas.at/events/heas-seminar-series-human-evolution-and-the-palaeolithic-12-2/
LOCATION:UBB 5.1\, Djerassiplatz 1\, Vienna\, 1030\, Austria
ATTACH;FMTTYPE=image/png:https://www.heas.at/wp-content/uploads/2023/07/Emily-Hallinan_Web-Blog__Human-Evolution_Web-Newspicture_short-text.png
END:VEVENT
BEGIN:VEVENT
DTSTART;TZID=Europe/Vienna:20231204T103000
DTEND;TZID=Europe/Vienna:20231204T120000
DTSTAMP:20260422T111246
CREATED:20230731T124541Z
LAST-MODIFIED:20230731T124541Z
UID:5010-1701685800-1701691200@www.heas.at
SUMMARY:HEAS Seminar Series  - Human Evolution and the Palaeolithic
DESCRIPTION:As part of the HEAS Seminar Series in Human Evolution and the Palaeolithic Emily Hallinan from ICAREB\, University of Faro\, Pr will be giving a talk on ‚Nubian complexity: new inter-regional perspectives on Middle Palaeolithic Nubian Levallois technology‘ on the 4th December 2023 at 10:30am. \nRegister here \nEMILY HALLINAN_poster
URL:https://www.heas.at/events/heas-seminar-series-human-evolution-and-the-palaeolithic-12-3/
LOCATION:UBB 5.1\, Djerassiplatz 1\, Vienna\, 1030\, Austria
ATTACH;FMTTYPE=image/png:https://www.heas.at/wp-content/uploads/2023/07/Emily-Hallinan_Web-Blog__Human-Evolution_Web-Newspicture_short-text.png
END:VEVENT
BEGIN:VEVENT
DTSTART;TZID=Europe/Vienna:20231204T103000
DTEND;TZID=Europe/Vienna:20231204T120000
DTSTAMP:20260422T111246
CREATED:20230731T124541Z
LAST-MODIFIED:20230731T124541Z
UID:5154-1701685800-1701691200@www.heas.at
SUMMARY:HEAS Seminar Series  - Human Evolution and the Palaeolithic
DESCRIPTION:As part of the HEAS Seminar Series in Human Evolution and the Palaeolithic Emily Hallinan from ICAREB\, University of Faro\, Pr will be giving a talk on ‚Nubian complexity: new inter-regional perspectives on Middle Palaeolithic Nubian Levallois technology‘ on the 4th December 2023 at 10:30am. \nRegister here \nEMILY HALLINAN_poster
URL:https://www.heas.at/events/heas-seminar-series-human-evolution-and-the-palaeolithic-12-4/
LOCATION:UBB 5.1\, Djerassiplatz 1\, Vienna\, 1030\, Austria
ATTACH;FMTTYPE=image/png:https://www.heas.at/wp-content/uploads/2023/07/Emily-Hallinan_Web-Blog__Human-Evolution_Web-Newspicture_short-text.png
END:VEVENT
BEGIN:VEVENT
DTSTART;TZID=Europe/Vienna:20231211T103000
DTEND;TZID=Europe/Vienna:20231211T113000
DTSTAMP:20260422T111246
CREATED:20230731T124816Z
LAST-MODIFIED:20240201T093918Z
UID:2770-1702290600-1702294200@www.heas.at
SUMMARY:HEAS Seminar Series - Ancient Genomics
DESCRIPTION:As part of the HEAS Seminar Series in Ancient Genomics Ainash Childebayeva from the Max Planck Institute for Evolutionary Anthropologywill give a talk on ‚Demographic History of Central Asia from the Iron Age to the 1st Millennium CE‘ on the 11th December 2023 at 10:30 \nRegister here \nAinash Childebayeva_POSTER
URL:https://www.heas.at/events/heas-seminar-series-ancient-genomics-11/
LOCATION:UBB 5.1\, Djerassiplatz 1\, Vienna\, 1030\, Austria
ATTACH;FMTTYPE=image/png:https://www.heas.at/wp-content/uploads/2023/07/AINASH-CHILDEBAYEVA_Web-Blog_Ancient-Genomics_less-text_Web-Blog_Ancient-Genomics_less-text.png
END:VEVENT
BEGIN:VEVENT
DTSTART;TZID=Europe/Vienna:20231211T103000
DTEND;TZID=Europe/Vienna:20231211T113000
DTSTAMP:20260422T111246
CREATED:20230731T124816Z
LAST-MODIFIED:20230731T124816Z
UID:4784-1702290600-1702294200@www.heas.at
SUMMARY:HEAS Seminar Series - Ancient Genomics
DESCRIPTION:As part of the HEAS Seminar Series in Ancient Genomics Ainash Childebayeva from the Max Planck Institute for Evolutionary Anthropologywill give a talk on ‚Demographic History of Central Asia from the Iron Age to the 1st Millennium CE‘ on the 11th December 2023 at 10:30 \nRegister here \nAinash Childebayeva_POSTER
URL:https://www.heas.at/events/heas-seminar-series-ancient-genomics-11-2/
LOCATION:UBB 5.1\, Djerassiplatz 1\, Vienna\, 1030\, Austria
ATTACH;FMTTYPE=image/png:https://www.heas.at/wp-content/uploads/2023/07/AINASH-CHILDEBAYEVA_Web-Blog_Ancient-Genomics_less-text_Web-Blog_Ancient-Genomics_less-text.png
END:VEVENT
BEGIN:VEVENT
DTSTART;TZID=Europe/Vienna:20231211T103000
DTEND;TZID=Europe/Vienna:20231211T113000
DTSTAMP:20260422T111246
CREATED:20230731T124816Z
LAST-MODIFIED:20230731T124816Z
UID:5011-1702290600-1702294200@www.heas.at
SUMMARY:HEAS Seminar Series - Ancient Genomics
DESCRIPTION:As part of the HEAS Seminar Series in Ancient Genomics Ainash Childebayeva from the Max Planck Institute for Evolutionary Anthropologywill give a talk on ‚Demographic History of Central Asia from the Iron Age to the 1st Millennium CE‘ on the 11th December 2023 at 10:30 \nRegister here \nAinash Childebayeva_POSTER
URL:https://www.heas.at/events/heas-seminar-series-ancient-genomics-11-3/
LOCATION:UBB 5.1\, Djerassiplatz 1\, Vienna\, 1030\, Austria
ATTACH;FMTTYPE=image/png:https://www.heas.at/wp-content/uploads/2023/07/AINASH-CHILDEBAYEVA_Web-Blog_Ancient-Genomics_less-text_Web-Blog_Ancient-Genomics_less-text.png
END:VEVENT
BEGIN:VEVENT
DTSTART;TZID=Europe/Vienna:20231211T103000
DTEND;TZID=Europe/Vienna:20231211T113000
DTSTAMP:20260422T111246
CREATED:20230731T124816Z
LAST-MODIFIED:20230731T124816Z
UID:5155-1702290600-1702294200@www.heas.at
SUMMARY:HEAS Seminar Series - Ancient Genomics
DESCRIPTION:As part of the HEAS Seminar Series in Ancient Genomics Ainash Childebayeva from the Max Planck Institute for Evolutionary Anthropologywill give a talk on ‚Demographic History of Central Asia from the Iron Age to the 1st Millennium CE‘ on the 11th December 2023 at 10:30 \nRegister here \nAinash Childebayeva_POSTER
URL:https://www.heas.at/events/heas-seminar-series-ancient-genomics-11-4/
LOCATION:UBB 5.1\, Djerassiplatz 1\, Vienna\, 1030\, Austria
ATTACH;FMTTYPE=image/png:https://www.heas.at/wp-content/uploads/2023/07/AINASH-CHILDEBAYEVA_Web-Blog_Ancient-Genomics_less-text_Web-Blog_Ancient-Genomics_less-text.png
END:VEVENT
END:VCALENDAR