BEGIN:VCALENDAR
VERSION:2.0
PRODID:-//HEAS - ECPv6.15.17.1//NONSGML v1.0//EN
CALSCALE:GREGORIAN
METHOD:PUBLISH
X-ORIGINAL-URL:https://www.heas.at
X-WR-CALDESC:Veranstaltungen für HEAS
REFRESH-INTERVAL;VALUE=DURATION:PT1H
X-Robots-Tag:noindex
X-PUBLISHED-TTL:PT1H
BEGIN:VTIMEZONE
TZID:Europe/Vienna
BEGIN:DAYLIGHT
TZOFFSETFROM:+0100
TZOFFSETTO:+0200
TZNAME:CEST
DTSTART:20230326T010000
END:DAYLIGHT
BEGIN:STANDARD
TZOFFSETFROM:+0200
TZOFFSETTO:+0100
TZNAME:CET
DTSTART:20231029T010000
END:STANDARD
BEGIN:DAYLIGHT
TZOFFSETFROM:+0100
TZOFFSETTO:+0200
TZNAME:CEST
DTSTART:20240331T010000
END:DAYLIGHT
BEGIN:STANDARD
TZOFFSETFROM:+0200
TZOFFSETTO:+0100
TZNAME:CET
DTSTART:20241027T010000
END:STANDARD
BEGIN:DAYLIGHT
TZOFFSETFROM:+0100
TZOFFSETTO:+0200
TZNAME:CEST
DTSTART:20250330T010000
END:DAYLIGHT
BEGIN:STANDARD
TZOFFSETFROM:+0200
TZOFFSETTO:+0100
TZNAME:CET
DTSTART:20251026T010000
END:STANDARD
END:VTIMEZONE
BEGIN:VEVENT
DTSTART;TZID=Europe/Vienna:20240108T113000
DTEND;TZID=Europe/Vienna:20240108T130000
DTSTAMP:20260422T093204
CREATED:20230731T130128Z
LAST-MODIFIED:20240201T093329Z
UID:2772-1704713400-1704718800@www.heas.at
SUMMARY:HEAS Seminar Series - Archaeological Science
DESCRIPTION:As part of the HEAS Seminar Series in Archaeological Science\, Rana Ozbal from Koc Universität Istanbul\, Leiterin ArchSciences Lab will be giving a talk on ‚Milking\, Meadows and Manure: Isotope-Based Results from Seventh Millennium Northwest Turkey‘ on the 8th January 2024 at 11:30. \nRegister here \nRANA OZBAL_poster
URL:https://www.heas.at/events/heas-seminar-series-archaeological-science-8/
LOCATION:03 01 A 03 01 A B16 01\, Georg-Coch-Platz 2\, 1010 Wien\, Österreich |\, Austria
ATTACH;FMTTYPE=image/png:https://www.heas.at/wp-content/uploads/2023/07/RANA-OZBAL_Web-Blog_Archaeological-Science_short-text_Newspicture_Archaeological-Science_short-text-1.png
END:VEVENT
BEGIN:VEVENT
DTSTART;TZID=Europe/Vienna:20240108T113000
DTEND;TZID=Europe/Vienna:20240108T130000
DTSTAMP:20260422T093204
CREATED:20230731T130128Z
LAST-MODIFIED:20230731T130128Z
UID:4786-1704713400-1704718800@www.heas.at
SUMMARY:HEAS Seminar Series - Archaeological Science
DESCRIPTION:As part of the HEAS Seminar Series in Archaeological Science\, Rana Ozbal from Koc Universität Istanbul\, Leiterin ArchSciences Lab will be giving a talk on ‚Milking\, Meadows and Manure: Isotope-Based Results from Seventh Millennium Northwest Turkey‘ on the 8th January 2024 at 11:30. \nRegister here \nRANA OZBAL_poster
URL:https://www.heas.at/events/heas-seminar-series-archaeological-science-8-2/
LOCATION:03 01 A 03 01 A B16 01\, Georg-Coch-Platz 2\, 1010 Wien\, Österreich |\, Austria
ATTACH;FMTTYPE=image/png:https://www.heas.at/wp-content/uploads/2023/07/RANA-OZBAL_Web-Blog_Archaeological-Science_short-text_Newspicture_Archaeological-Science_short-text-1.png
END:VEVENT
BEGIN:VEVENT
DTSTART;TZID=Europe/Vienna:20240108T113000
DTEND;TZID=Europe/Vienna:20240108T130000
DTSTAMP:20260422T093204
CREATED:20230731T130128Z
LAST-MODIFIED:20230731T130128Z
UID:5012-1704713400-1704718800@www.heas.at
SUMMARY:HEAS Seminar Series - Archaeological Science
DESCRIPTION:As part of the HEAS Seminar Series in Archaeological Science\, Rana Ozbal from Koc Universität Istanbul\, Leiterin ArchSciences Lab will be giving a talk on ‚Milking\, Meadows and Manure: Isotope-Based Results from Seventh Millennium Northwest Turkey‘ on the 8th January 2024 at 11:30. \nRegister here \nRANA OZBAL_poster
URL:https://www.heas.at/events/heas-seminar-series-archaeological-science-8-3/
LOCATION:03 01 A 03 01 A B16 01\, Georg-Coch-Platz 2\, 1010 Wien\, Österreich |\, Austria
ATTACH;FMTTYPE=image/png:https://www.heas.at/wp-content/uploads/2023/07/RANA-OZBAL_Web-Blog_Archaeological-Science_short-text_Newspicture_Archaeological-Science_short-text-1.png
END:VEVENT
BEGIN:VEVENT
DTSTART;TZID=Europe/Vienna:20240108T113000
DTEND;TZID=Europe/Vienna:20240108T130000
DTSTAMP:20260422T093204
CREATED:20230731T130128Z
LAST-MODIFIED:20230731T130128Z
UID:5156-1704713400-1704718800@www.heas.at
SUMMARY:HEAS Seminar Series - Archaeological Science
DESCRIPTION:As part of the HEAS Seminar Series in Archaeological Science\, Rana Ozbal from Koc Universität Istanbul\, Leiterin ArchSciences Lab will be giving a talk on ‚Milking\, Meadows and Manure: Isotope-Based Results from Seventh Millennium Northwest Turkey‘ on the 8th January 2024 at 11:30. \nRegister here \nRANA OZBAL_poster
URL:https://www.heas.at/events/heas-seminar-series-archaeological-science-8-4/
LOCATION:03 01 A 03 01 A B16 01\, Georg-Coch-Platz 2\, 1010 Wien\, Österreich |\, Austria
ATTACH;FMTTYPE=image/png:https://www.heas.at/wp-content/uploads/2023/07/RANA-OZBAL_Web-Blog_Archaeological-Science_short-text_Newspicture_Archaeological-Science_short-text-1.png
END:VEVENT
BEGIN:VEVENT
DTSTART;TZID=Europe/Vienna:20240111T183000
DTEND;TZID=Europe/Vienna:20240111T200000
DTSTAMP:20260422T093204
CREATED:20231206T133616Z
LAST-MODIFIED:20231213T132824Z
UID:3228-1704997800-1705003200@www.heas.at
SUMMARY:HEAS Workshop
DESCRIPTION:We are looking forward to welcoming Paul Goldberg from the University of Tübingen to Vienna on the 11th January 2024 to deliver the opening address for the Geoarchaeology in Vienna workshop. \nAbstract\nSo much of archaeology is concerned with objects\, whether they be ceramics\, lithics\, faunal and floral remains\, or even architectural remains\, which are essentially large objects. These things have been the mainstay of the archaeological record for centuries. In the last few decades\, it has become evident that there is more to understanding what people did in the past than by focussing mainly on the objects. The deposits that enclose them have their own story to tell\, and in fact\, constitute an important (generally neglected) and essential part of the archaeological record. I will attempt to illustrate these ideas with examples from archaeological sites\, at the same time emphasising the concept of context\, particularly at the microstratigraphic scale. \n  \nTo register for online or in-person participation for this event\, please click here \nPAUL GOLDBERG_poster
URL:https://www.heas.at/events/heas-workshop-4/
LOCATION:Franz-Klein-Gasse 1\, 1190\, Franz-Klein-Gasse 1\, Vienna\, Austria
CATEGORIES:HEAS-Workshop
ATTACH;FMTTYPE=image/png:https://www.heas.at/wp-content/uploads/2023/12/Workshop_Web-Blog_Ancient-Genomics_less-text.png
END:VEVENT
BEGIN:VEVENT
DTSTART;TZID=Europe/Vienna:20240111T183000
DTEND;TZID=Europe/Vienna:20240111T200000
DTSTAMP:20260422T093204
CREATED:20231206T133616Z
LAST-MODIFIED:20231206T133616Z
UID:4806-1704997800-1705003200@www.heas.at
SUMMARY:HEAS Workshop
DESCRIPTION:We are looking forward to welcoming Paul Goldberg from the University of Tübingen to Vienna on the 11th January 2024 to deliver the opening address for the Geoarchaeology in Vienna workshop. \nAbstract\nSo much of archaeology is concerned with objects\, whether they be ceramics\, lithics\, faunal and floral remains\, or even architectural remains\, which are essentially large objects. These things have been the mainstay of the archaeological record for centuries. In the last few decades\, it has become evident that there is more to understanding what people did in the past than by focussing mainly on the objects. The deposits that enclose them have their own story to tell\, and in fact\, constitute an important (generally neglected) and essential part of the archaeological record. I will attempt to illustrate these ideas with examples from archaeological sites\, at the same time emphasising the concept of context\, particularly at the microstratigraphic scale. \n  \nTo register for online or in-person participation for this event\, please click here \nPAUL GOLDBERG_poster
URL:https://www.heas.at/events/heas-workshop-4-2/
LOCATION:Franz-Klein-Gasse 1\, 1190\, Franz-Klein-Gasse 1\, Vienna\, Austria
CATEGORIES:HEAS-Workshop
ATTACH;FMTTYPE=image/png:https://www.heas.at/wp-content/uploads/2023/12/Workshop_Web-Blog_Ancient-Genomics_less-text.png
END:VEVENT
BEGIN:VEVENT
DTSTART;TZID=Europe/Vienna:20240111T183000
DTEND;TZID=Europe/Vienna:20240111T200000
DTSTAMP:20260422T093204
CREATED:20231206T133616Z
LAST-MODIFIED:20231206T133616Z
UID:5033-1704997800-1705003200@www.heas.at
SUMMARY:HEAS Workshop
DESCRIPTION:We are looking forward to welcoming Paul Goldberg from the University of Tübingen to Vienna on the 11th January 2024 to deliver the opening address for the Geoarchaeology in Vienna workshop. \nAbstract\nSo much of archaeology is concerned with objects\, whether they be ceramics\, lithics\, faunal and floral remains\, or even architectural remains\, which are essentially large objects. These things have been the mainstay of the archaeological record for centuries. In the last few decades\, it has become evident that there is more to understanding what people did in the past than by focussing mainly on the objects. The deposits that enclose them have their own story to tell\, and in fact\, constitute an important (generally neglected) and essential part of the archaeological record. I will attempt to illustrate these ideas with examples from archaeological sites\, at the same time emphasising the concept of context\, particularly at the microstratigraphic scale. \n  \nTo register for online or in-person participation for this event\, please click here \nPAUL GOLDBERG_poster
URL:https://www.heas.at/events/heas-workshop-4-3/
LOCATION:Franz-Klein-Gasse 1\, 1190\, Franz-Klein-Gasse 1\, Vienna\, Austria
CATEGORIES:HEAS-Workshop
ATTACH;FMTTYPE=image/png:https://www.heas.at/wp-content/uploads/2023/12/Workshop_Web-Blog_Ancient-Genomics_less-text.png
END:VEVENT
BEGIN:VEVENT
DTSTART;TZID=Europe/Vienna:20240111T183000
DTEND;TZID=Europe/Vienna:20240111T200000
DTSTAMP:20260422T093204
CREATED:20231206T133616Z
LAST-MODIFIED:20231206T133616Z
UID:5177-1704997800-1705003200@www.heas.at
SUMMARY:HEAS Workshop
DESCRIPTION:We are looking forward to welcoming Paul Goldberg from the University of Tübingen to Vienna on the 11th January 2024 to deliver the opening address for the Geoarchaeology in Vienna workshop. \nAbstract\nSo much of archaeology is concerned with objects\, whether they be ceramics\, lithics\, faunal and floral remains\, or even architectural remains\, which are essentially large objects. These things have been the mainstay of the archaeological record for centuries. In the last few decades\, it has become evident that there is more to understanding what people did in the past than by focussing mainly on the objects. The deposits that enclose them have their own story to tell\, and in fact\, constitute an important (generally neglected) and essential part of the archaeological record. I will attempt to illustrate these ideas with examples from archaeological sites\, at the same time emphasising the concept of context\, particularly at the microstratigraphic scale. \n  \nTo register for online or in-person participation for this event\, please click here \nPAUL GOLDBERG_poster
URL:https://www.heas.at/events/heas-workshop-4-4/
LOCATION:Franz-Klein-Gasse 1\, 1190\, Franz-Klein-Gasse 1\, Vienna\, Austria
CATEGORIES:HEAS-Workshop
ATTACH;FMTTYPE=image/png:https://www.heas.at/wp-content/uploads/2023/12/Workshop_Web-Blog_Ancient-Genomics_less-text.png
END:VEVENT
BEGIN:VEVENT
DTSTART;TZID=Europe/Vienna:20240115T103000
DTEND;TZID=Europe/Vienna:20240115T113000
DTSTAMP:20260422T093204
CREATED:20230731T130414Z
LAST-MODIFIED:20240201T093406Z
UID:2774-1705314600-1705318200@www.heas.at
SUMMARY:HEAS Seminar Series - Human Evolution and the Palaeolithic
DESCRIPTION:As part of the HEAS Seminar Series in Human Evolution and the Palaeolithic Thibaut Deviese from CEREGE\, Marseille will be giving a talk on ‚Improving radiocarbon dating methods for archaeological and palaeoenvironmental studies‘ on the 15th January 2024. \nTHIBAUT DEVIESE_poster \nRegister here
URL:https://www.heas.at/events/heas-seminar-series-human-evolution-and-the-palaeolithic-13/
LOCATION:UBB 5.1\, Djerassiplatz 1\, Vienna\, 1030\, Austria
ATTACH;FMTTYPE=image/png:https://www.heas.at/wp-content/uploads/2023/07/THIBAUT-DEVIESE_Newsbild_Human-Evolution_Web-Newspicture_short-text.png
END:VEVENT
BEGIN:VEVENT
DTSTART;TZID=Europe/Vienna:20240115T103000
DTEND;TZID=Europe/Vienna:20240115T113000
DTSTAMP:20260422T093204
CREATED:20230731T130414Z
LAST-MODIFIED:20230731T130414Z
UID:4787-1705314600-1705318200@www.heas.at
SUMMARY:HEAS Seminar Series - Human Evolution and the Palaeolithic
DESCRIPTION:As part of the HEAS Seminar Series in Human Evolution and the Palaeolithic Thibaut Deviese from CEREGE\, Marseille will be giving a talk on ‚Improving radiocarbon dating methods for archaeological and palaeoenvironmental studies‘ on the 15th January 2024. \nTHIBAUT DEVIESE_poster \nRegister here
URL:https://www.heas.at/events/heas-seminar-series-human-evolution-and-the-palaeolithic-13-2/
LOCATION:UBB 5.1\, Djerassiplatz 1\, Vienna\, 1030\, Austria
ATTACH;FMTTYPE=image/png:https://www.heas.at/wp-content/uploads/2023/07/THIBAUT-DEVIESE_Newsbild_Human-Evolution_Web-Newspicture_short-text.png
END:VEVENT
BEGIN:VEVENT
DTSTART;TZID=Europe/Vienna:20240115T103000
DTEND;TZID=Europe/Vienna:20240115T113000
DTSTAMP:20260422T093204
CREATED:20230731T130414Z
LAST-MODIFIED:20230731T130414Z
UID:5013-1705314600-1705318200@www.heas.at
SUMMARY:HEAS Seminar Series - Human Evolution and the Palaeolithic
DESCRIPTION:As part of the HEAS Seminar Series in Human Evolution and the Palaeolithic Thibaut Deviese from CEREGE\, Marseille will be giving a talk on ‚Improving radiocarbon dating methods for archaeological and palaeoenvironmental studies‘ on the 15th January 2024. \nTHIBAUT DEVIESE_poster \nRegister here
URL:https://www.heas.at/events/heas-seminar-series-human-evolution-and-the-palaeolithic-13-3/
LOCATION:UBB 5.1\, Djerassiplatz 1\, Vienna\, 1030\, Austria
ATTACH;FMTTYPE=image/png:https://www.heas.at/wp-content/uploads/2023/07/THIBAUT-DEVIESE_Newsbild_Human-Evolution_Web-Newspicture_short-text.png
END:VEVENT
BEGIN:VEVENT
DTSTART;TZID=Europe/Vienna:20240115T103000
DTEND;TZID=Europe/Vienna:20240115T113000
DTSTAMP:20260422T093204
CREATED:20230731T130414Z
LAST-MODIFIED:20230731T130414Z
UID:5157-1705314600-1705318200@www.heas.at
SUMMARY:HEAS Seminar Series - Human Evolution and the Palaeolithic
DESCRIPTION:As part of the HEAS Seminar Series in Human Evolution and the Palaeolithic Thibaut Deviese from CEREGE\, Marseille will be giving a talk on ‚Improving radiocarbon dating methods for archaeological and palaeoenvironmental studies‘ on the 15th January 2024. \nTHIBAUT DEVIESE_poster \nRegister here
URL:https://www.heas.at/events/heas-seminar-series-human-evolution-and-the-palaeolithic-13-4/
LOCATION:UBB 5.1\, Djerassiplatz 1\, Vienna\, 1030\, Austria
ATTACH;FMTTYPE=image/png:https://www.heas.at/wp-content/uploads/2023/07/THIBAUT-DEVIESE_Newsbild_Human-Evolution_Web-Newspicture_short-text.png
END:VEVENT
BEGIN:VEVENT
DTSTART;TZID=Europe/Vienna:20240122T103000
DTEND;TZID=Europe/Vienna:20240122T120000
DTSTAMP:20260422T093204
CREATED:20230731T131333Z
LAST-MODIFIED:20240201T093529Z
UID:2776-1705919400-1705924800@www.heas.at
SUMMARY:HEAS Seminar Series  - Ancient Genomics
DESCRIPTION:As part of the HEAS Seminar Series in Ancient Genomics Chiara Barbieri from University of Cagliari will be giving a talk on ‚Contrasting linguistic and genetic histories with a global genetic dataset‘ on the 22nd January 2024. \nRegister here \nCHIARA BARBIERI_poster_
URL:https://www.heas.at/events/heas-seminar-series-ancient-genomics-12/
LOCATION:UBB 5.1\, Djerassiplatz 1\, Vienna\, 1030\, Austria
ATTACH;FMTTYPE=image/png:https://www.heas.at/wp-content/uploads/2023/07/CHIARA-BARBIERI_Calgari_Web-Blog_Ancient-Genomics_less-text.png
END:VEVENT
BEGIN:VEVENT
DTSTART;TZID=Europe/Vienna:20240122T103000
DTEND;TZID=Europe/Vienna:20240122T120000
DTSTAMP:20260422T093204
CREATED:20230731T131333Z
LAST-MODIFIED:20230731T131333Z
UID:4788-1705919400-1705924800@www.heas.at
SUMMARY:HEAS Seminar Series  - Ancient Genomics
DESCRIPTION:As part of the HEAS Seminar Series in Ancient Genomics Chiara Barbieri from University of Cagliari will be giving a talk on ‚Contrasting linguistic and genetic histories with a global genetic dataset‘ on the 22nd January 2024. \nRegister here \nCHIARA BARBIERI_poster_
URL:https://www.heas.at/events/heas-seminar-series-ancient-genomics-12-2/
LOCATION:UBB 5.1\, Djerassiplatz 1\, Vienna\, 1030\, Austria
ATTACH;FMTTYPE=image/png:https://www.heas.at/wp-content/uploads/2023/07/CHIARA-BARBIERI_Calgari_Web-Blog_Ancient-Genomics_less-text.png
END:VEVENT
BEGIN:VEVENT
DTSTART;TZID=Europe/Vienna:20240122T103000
DTEND;TZID=Europe/Vienna:20240122T120000
DTSTAMP:20260422T093204
CREATED:20230731T131333Z
LAST-MODIFIED:20230731T131333Z
UID:5014-1705919400-1705924800@www.heas.at
SUMMARY:HEAS Seminar Series  - Ancient Genomics
DESCRIPTION:As part of the HEAS Seminar Series in Ancient Genomics Chiara Barbieri from University of Cagliari will be giving a talk on ‚Contrasting linguistic and genetic histories with a global genetic dataset‘ on the 22nd January 2024. \nRegister here \nCHIARA BARBIERI_poster_
URL:https://www.heas.at/events/heas-seminar-series-ancient-genomics-12-3/
LOCATION:UBB 5.1\, Djerassiplatz 1\, Vienna\, 1030\, Austria
ATTACH;FMTTYPE=image/png:https://www.heas.at/wp-content/uploads/2023/07/CHIARA-BARBIERI_Calgari_Web-Blog_Ancient-Genomics_less-text.png
END:VEVENT
BEGIN:VEVENT
DTSTART;TZID=Europe/Vienna:20240122T103000
DTEND;TZID=Europe/Vienna:20240122T120000
DTSTAMP:20260422T093204
CREATED:20230731T131333Z
LAST-MODIFIED:20230731T131333Z
UID:5158-1705919400-1705924800@www.heas.at
SUMMARY:HEAS Seminar Series  - Ancient Genomics
DESCRIPTION:As part of the HEAS Seminar Series in Ancient Genomics Chiara Barbieri from University of Cagliari will be giving a talk on ‚Contrasting linguistic and genetic histories with a global genetic dataset‘ on the 22nd January 2024. \nRegister here \nCHIARA BARBIERI_poster_
URL:https://www.heas.at/events/heas-seminar-series-ancient-genomics-12-4/
LOCATION:UBB 5.1\, Djerassiplatz 1\, Vienna\, 1030\, Austria
ATTACH;FMTTYPE=image/png:https://www.heas.at/wp-content/uploads/2023/07/CHIARA-BARBIERI_Calgari_Web-Blog_Ancient-Genomics_less-text.png
END:VEVENT
END:VCALENDAR