BEGIN:VCALENDAR
VERSION:2.0
PRODID:-//HEAS - ECPv6.15.17.1//NONSGML v1.0//EN
CALSCALE:GREGORIAN
METHOD:PUBLISH
X-WR-CALNAME:HEAS
X-ORIGINAL-URL:https://www.heas.at
X-WR-CALDESC:Veranstaltungen für HEAS
REFRESH-INTERVAL;VALUE=DURATION:PT1H
X-Robots-Tag:noindex
X-PUBLISHED-TTL:PT1H
BEGIN:VTIMEZONE
TZID:Europe/Vienna
BEGIN:DAYLIGHT
TZOFFSETFROM:+0100
TZOFFSETTO:+0200
TZNAME:CEST
DTSTART:20230326T010000
END:DAYLIGHT
BEGIN:STANDARD
TZOFFSETFROM:+0200
TZOFFSETTO:+0100
TZNAME:CET
DTSTART:20231029T010000
END:STANDARD
BEGIN:DAYLIGHT
TZOFFSETFROM:+0100
TZOFFSETTO:+0200
TZNAME:CEST
DTSTART:20240331T010000
END:DAYLIGHT
BEGIN:STANDARD
TZOFFSETFROM:+0200
TZOFFSETTO:+0100
TZNAME:CET
DTSTART:20241027T010000
END:STANDARD
BEGIN:DAYLIGHT
TZOFFSETFROM:+0100
TZOFFSETTO:+0200
TZNAME:CEST
DTSTART:20250330T010000
END:DAYLIGHT
BEGIN:STANDARD
TZOFFSETFROM:+0200
TZOFFSETTO:+0100
TZNAME:CET
DTSTART:20251026T010000
END:STANDARD
END:VTIMEZONE
BEGIN:VEVENT
DTSTART;TZID=Europe/Vienna:20240212T103000
DTEND;TZID=Europe/Vienna:20240212T120000
DTSTAMP:20260422T091415
CREATED:20230731T132351Z
LAST-MODIFIED:20230922T123355Z
UID:2778-1707733800-1707739200@www.heas.at
SUMMARY:HEAS Seminar Series - Human Evolution and the Palaeolithic
DESCRIPTION:As part of the HEAS Seminar Series in Human Evolution and the Palaeolithic Tracy Kivell from MPI Eva\, Leipzig will be giving a talk on ‚Evolution of the human hand: Information held within our bones\, fossils and living apes‘. \nRegister here \n  \nTRACY KIVELL_poster \n  \n 
URL:https://www.heas.at/events/heas-seminar-series-human-evolution-and-the-palaeolithic-14/
LOCATION:UBB 5.1\, Djerassiplatz 1\, Vienna\, 1030\, Austria
CATEGORIES:HEAS-Seminar Series
ATTACH;FMTTYPE=image/png:https://www.heas.at/wp-content/uploads/2023/07/TRACY-KIVELL_Web-Blog__Human-Evolution_Web-Newspicture_short-text.png
END:VEVENT
BEGIN:VEVENT
DTSTART;TZID=Europe/Vienna:20240212T103000
DTEND;TZID=Europe/Vienna:20240212T120000
DTSTAMP:20260422T091415
CREATED:20230731T132351Z
LAST-MODIFIED:20230731T132351Z
UID:5160-1707733800-1707739200@www.heas.at
SUMMARY:HEAS Seminar Series - Human Evolution and the Palaeolithic
DESCRIPTION:As part of the HEAS Seminar Series in Human Evolution and the Palaeolithic Tracy Kivell from MPI Eva\, Leipzig will be giving a talk on ‚Evolution of the human hand: Information held within our bones\, fossils and living apes‘. \nRegister here \n  \nTRACY KIVELL_poster \n  \n 
URL:https://www.heas.at/events/heas-seminar-series-human-evolution-and-the-palaeolithic-14-4/
LOCATION:UBB 5.1\, Djerassiplatz 1\, Vienna\, 1030\, Austria
CATEGORIES:HEAS-Seminar Series
ATTACH;FMTTYPE=image/png:https://www.heas.at/wp-content/uploads/2023/07/TRACY-KIVELL_Web-Blog__Human-Evolution_Web-Newspicture_short-text.png
END:VEVENT
BEGIN:VEVENT
DTSTART;TZID=Europe/Vienna:20240212T103000
DTEND;TZID=Europe/Vienna:20240212T120000
DTSTAMP:20260422T091415
CREATED:20230731T132351Z
LAST-MODIFIED:20230731T132351Z
UID:4789-1707733800-1707739200@www.heas.at
SUMMARY:HEAS Seminar Series - Human Evolution and the Palaeolithic
DESCRIPTION:As part of the HEAS Seminar Series in Human Evolution and the Palaeolithic Tracy Kivell from MPI Eva\, Leipzig will be giving a talk on ‚Evolution of the human hand: Information held within our bones\, fossils and living apes‘. \nRegister here \n  \nTRACY KIVELL_poster \n  \n 
URL:https://www.heas.at/events/heas-seminar-series-human-evolution-and-the-palaeolithic-14-2/
LOCATION:UBB 5.1\, Djerassiplatz 1\, Vienna\, 1030\, Austria
CATEGORIES:HEAS-Seminar Series
ATTACH;FMTTYPE=image/png:https://www.heas.at/wp-content/uploads/2023/07/TRACY-KIVELL_Web-Blog__Human-Evolution_Web-Newspicture_short-text.png
END:VEVENT
BEGIN:VEVENT
DTSTART;TZID=Europe/Vienna:20240212T103000
DTEND;TZID=Europe/Vienna:20240212T120000
DTSTAMP:20260422T091415
CREATED:20230731T132351Z
LAST-MODIFIED:20230731T132351Z
UID:5016-1707733800-1707739200@www.heas.at
SUMMARY:HEAS Seminar Series - Human Evolution and the Palaeolithic
DESCRIPTION:As part of the HEAS Seminar Series in Human Evolution and the Palaeolithic Tracy Kivell from MPI Eva\, Leipzig will be giving a talk on ‚Evolution of the human hand: Information held within our bones\, fossils and living apes‘. \nRegister here \n  \nTRACY KIVELL_poster \n  \n 
URL:https://www.heas.at/events/heas-seminar-series-human-evolution-and-the-palaeolithic-14-3/
LOCATION:UBB 5.1\, Djerassiplatz 1\, Vienna\, 1030\, Austria
CATEGORIES:HEAS-Seminar Series
ATTACH;FMTTYPE=image/png:https://www.heas.at/wp-content/uploads/2023/07/TRACY-KIVELL_Web-Blog__Human-Evolution_Web-Newspicture_short-text.png
END:VEVENT
BEGIN:VEVENT
DTSTART;TZID=Europe/Vienna:20240219T103000
DTEND;TZID=Europe/Vienna:20240219T120000
DTSTAMP:20260422T091415
CREATED:20230731T132613Z
LAST-MODIFIED:20230925T093806Z
UID:2780-1708338600-1708344000@www.heas.at
SUMMARY:HEAS Seminar Series - Ancient Genomics
DESCRIPTION:As part of the HEAS Seminar Series in Ancient Genomics Mattias Jakobsson from Uppsala University will give a talk on ‚Northwest African Neolithic ignited by migrants from Europe‚ on the 19th February 2024. \nMATTIAS JAKOBSSON_poster \nRegister here
URL:https://www.heas.at/events/heas-seminar-series-ancient-genomics-13/
LOCATION:UBB 5.1\, Djerassiplatz 1\, Vienna\, 1030\, Austria
CATEGORIES:HEAS-Seminar Series
ATTACH;FMTTYPE=image/png:https://www.heas.at/wp-content/uploads/2023/07/MATTIAS-JAKOBSSON_Human-Evolution_Web-Newspicture_short-text-Kopie-1.png
END:VEVENT
BEGIN:VEVENT
DTSTART;TZID=Europe/Vienna:20240219T103000
DTEND;TZID=Europe/Vienna:20240219T120000
DTSTAMP:20260422T091415
CREATED:20230731T132613Z
LAST-MODIFIED:20230731T132613Z
UID:5161-1708338600-1708344000@www.heas.at
SUMMARY:HEAS Seminar Series - Ancient Genomics
DESCRIPTION:As part of the HEAS Seminar Series in Ancient Genomics Mattias Jakobsson from Uppsala University will give a talk on ‚Northwest African Neolithic ignited by migrants from Europe‚ on the 19th February 2024. \nMATTIAS JAKOBSSON_poster \nRegister here
URL:https://www.heas.at/events/heas-seminar-series-ancient-genomics-13-4/
LOCATION:UBB 5.1\, Djerassiplatz 1\, Vienna\, 1030\, Austria
CATEGORIES:HEAS-Seminar Series
ATTACH;FMTTYPE=image/png:https://www.heas.at/wp-content/uploads/2023/07/MATTIAS-JAKOBSSON_Human-Evolution_Web-Newspicture_short-text-Kopie-1.png
END:VEVENT
BEGIN:VEVENT
DTSTART;TZID=Europe/Vienna:20240219T103000
DTEND;TZID=Europe/Vienna:20240219T120000
DTSTAMP:20260422T091415
CREATED:20230731T132613Z
LAST-MODIFIED:20230731T132613Z
UID:5017-1708338600-1708344000@www.heas.at
SUMMARY:HEAS Seminar Series - Ancient Genomics
DESCRIPTION:As part of the HEAS Seminar Series in Ancient Genomics Mattias Jakobsson from Uppsala University will give a talk on ‚Northwest African Neolithic ignited by migrants from Europe‚ on the 19th February 2024. \nMATTIAS JAKOBSSON_poster \nRegister here
URL:https://www.heas.at/events/heas-seminar-series-ancient-genomics-13-3/
LOCATION:UBB 5.1\, Djerassiplatz 1\, Vienna\, 1030\, Austria
CATEGORIES:HEAS-Seminar Series
ATTACH;FMTTYPE=image/png:https://www.heas.at/wp-content/uploads/2023/07/MATTIAS-JAKOBSSON_Human-Evolution_Web-Newspicture_short-text-Kopie-1.png
END:VEVENT
BEGIN:VEVENT
DTSTART;TZID=Europe/Vienna:20240219T103000
DTEND;TZID=Europe/Vienna:20240219T120000
DTSTAMP:20260422T091415
CREATED:20230731T132613Z
LAST-MODIFIED:20230731T132613Z
UID:4790-1708338600-1708344000@www.heas.at
SUMMARY:HEAS Seminar Series - Ancient Genomics
DESCRIPTION:As part of the HEAS Seminar Series in Ancient Genomics Mattias Jakobsson from Uppsala University will give a talk on ‚Northwest African Neolithic ignited by migrants from Europe‚ on the 19th February 2024. \nMATTIAS JAKOBSSON_poster \nRegister here
URL:https://www.heas.at/events/heas-seminar-series-ancient-genomics-13-2/
LOCATION:UBB 5.1\, Djerassiplatz 1\, Vienna\, 1030\, Austria
CATEGORIES:HEAS-Seminar Series
ATTACH;FMTTYPE=image/png:https://www.heas.at/wp-content/uploads/2023/07/MATTIAS-JAKOBSSON_Human-Evolution_Web-Newspicture_short-text-Kopie-1.png
END:VEVENT
BEGIN:VEVENT
DTSTART;TZID=Europe/Vienna:20240220T103000
DTEND;TZID=Europe/Vienna:20240220T120000
DTSTAMP:20260422T091415
CREATED:20230731T132926Z
LAST-MODIFIED:20230731T132926Z
UID:4791-1708425000-1708430400@www.heas.at
SUMMARY:HEAS Seminar Series - Human Evolution and the Palaeolithic
DESCRIPTION:As part of the HEAS Seminar Series in Human Evolution and the Palaeolithic Wil Roebroeks from from Leiden University will give a talk on ‚Landscape modification by Last Interglacial Neanderthals?‘ on the 20th February 2024. \nRegister here \nWIL ROEBROEKS_poster
URL:https://www.heas.at/events/heas-seminar-series-human-evolution-and-the-palaeolithic-15-2/
CATEGORIES:HEAS-Seminar Series
ATTACH;FMTTYPE=image/png:https://www.heas.at/wp-content/uploads/2023/07/WIL-ROEBROEKS_Web-Blog__Human-Evolution_Web-Newspicture_short-text.png
END:VEVENT
BEGIN:VEVENT
DTSTART;TZID=Europe/Vienna:20240220T103000
DTEND;TZID=Europe/Vienna:20240220T120000
DTSTAMP:20260422T091415
CREATED:20230731T132926Z
LAST-MODIFIED:20230731T132926Z
UID:5018-1708425000-1708430400@www.heas.at
SUMMARY:HEAS Seminar Series - Human Evolution and the Palaeolithic
DESCRIPTION:As part of the HEAS Seminar Series in Human Evolution and the Palaeolithic Wil Roebroeks from from Leiden University will give a talk on ‚Landscape modification by Last Interglacial Neanderthals?‘ on the 20th February 2024. \nRegister here \nWIL ROEBROEKS_poster
URL:https://www.heas.at/events/heas-seminar-series-human-evolution-and-the-palaeolithic-15-3/
CATEGORIES:HEAS-Seminar Series
ATTACH;FMTTYPE=image/png:https://www.heas.at/wp-content/uploads/2023/07/WIL-ROEBROEKS_Web-Blog__Human-Evolution_Web-Newspicture_short-text.png
END:VEVENT
BEGIN:VEVENT
DTSTART;TZID=Europe/Vienna:20240220T103000
DTEND;TZID=Europe/Vienna:20240220T120000
DTSTAMP:20260422T091415
CREATED:20230731T132926Z
LAST-MODIFIED:20240109T090321Z
UID:2782-1708425000-1708430400@www.heas.at
SUMMARY:HEAS Seminar Series - Human Evolution and the Palaeolithic
DESCRIPTION:As part of the HEAS Seminar Series in Human Evolution and the Palaeolithic Wil Roebroeks from from Leiden University will give a talk on ‚Landscape modification by Last Interglacial Neanderthals?‘ on the 20th February 2024. \nRegister here \nWIL ROEBROEKS_poster
URL:https://www.heas.at/events/heas-seminar-series-human-evolution-and-the-palaeolithic-15/
CATEGORIES:HEAS-Seminar Series
ATTACH;FMTTYPE=image/png:https://www.heas.at/wp-content/uploads/2023/07/WIL-ROEBROEKS_Web-Blog__Human-Evolution_Web-Newspicture_short-text.png
END:VEVENT
BEGIN:VEVENT
DTSTART;TZID=Europe/Vienna:20240220T103000
DTEND;TZID=Europe/Vienna:20240220T120000
DTSTAMP:20260422T091415
CREATED:20230731T132926Z
LAST-MODIFIED:20230731T132926Z
UID:5162-1708425000-1708430400@www.heas.at
SUMMARY:HEAS Seminar Series - Human Evolution and the Palaeolithic
DESCRIPTION:As part of the HEAS Seminar Series in Human Evolution and the Palaeolithic Wil Roebroeks from from Leiden University will give a talk on ‚Landscape modification by Last Interglacial Neanderthals?‘ on the 20th February 2024. \nRegister here \nWIL ROEBROEKS_poster
URL:https://www.heas.at/events/heas-seminar-series-human-evolution-and-the-palaeolithic-15-4/
CATEGORIES:HEAS-Seminar Series
ATTACH;FMTTYPE=image/png:https://www.heas.at/wp-content/uploads/2023/07/WIL-ROEBROEKS_Web-Blog__Human-Evolution_Web-Newspicture_short-text.png
END:VEVENT
BEGIN:VEVENT
DTSTART;TZID=Europe/Vienna:20240226T113000
DTEND;TZID=Europe/Vienna:20240226T130000
DTSTAMP:20260422T091415
CREATED:20230731T133243Z
LAST-MODIFIED:20230731T133243Z
UID:4792-1708947000-1708952400@www.heas.at
SUMMARY:HEAS Seminar Series - Archaeological Science
DESCRIPTION:As part of the HEAS Seminar Series in Archaeological Science Mike Dee from University of Groningen will give a talk on ‚Cosmic Radiation Events as Anchor Points for Human History‘ on the  26th February 2024. \nRegister HERE \nMIKE DEE_poster
URL:https://www.heas.at/events/heas-seminar-series-archaeological-science-9-2/
LOCATION:Franz-Klein-Gasse 1\, 1190\, Franz-Klein-Gasse 1\, Vienna\, Austria
CATEGORIES:HEAS-Seminar Series
ATTACH;FMTTYPE=image/png:https://www.heas.at/wp-content/uploads/2023/07/MIKE-DEE_Web-Blog_Archaeological-Science_short-text.png
END:VEVENT
BEGIN:VEVENT
DTSTART;TZID=Europe/Vienna:20240226T113000
DTEND;TZID=Europe/Vienna:20240226T130000
DTSTAMP:20260422T091415
CREATED:20230731T133243Z
LAST-MODIFIED:20230731T133243Z
UID:5019-1708947000-1708952400@www.heas.at
SUMMARY:HEAS Seminar Series - Archaeological Science
DESCRIPTION:As part of the HEAS Seminar Series in Archaeological Science Mike Dee from University of Groningen will give a talk on ‚Cosmic Radiation Events as Anchor Points for Human History‘ on the  26th February 2024. \nRegister HERE \nMIKE DEE_poster
URL:https://www.heas.at/events/heas-seminar-series-archaeological-science-9-3/
LOCATION:Franz-Klein-Gasse 1\, 1190\, Franz-Klein-Gasse 1\, Vienna\, Austria
CATEGORIES:HEAS-Seminar Series
ATTACH;FMTTYPE=image/png:https://www.heas.at/wp-content/uploads/2023/07/MIKE-DEE_Web-Blog_Archaeological-Science_short-text.png
END:VEVENT
BEGIN:VEVENT
DTSTART;TZID=Europe/Vienna:20240226T113000
DTEND;TZID=Europe/Vienna:20240226T130000
DTSTAMP:20260422T091415
CREATED:20230731T133243Z
LAST-MODIFIED:20240222T080655Z
UID:2784-1708947000-1708952400@www.heas.at
SUMMARY:HEAS Seminar Series - Archaeological Science
DESCRIPTION:As part of the HEAS Seminar Series in Archaeological Science Mike Dee from University of Groningen will give a talk on ‚Cosmic Radiation Events as Anchor Points for Human History‘ on the  26th February 2024. \nRegister HERE \nMIKE DEE_poster
URL:https://www.heas.at/events/heas-seminar-series-archaeological-science-9/
LOCATION:Franz-Klein-Gasse 1\, 1190\, Franz-Klein-Gasse 1\, Vienna\, Austria
CATEGORIES:HEAS-Seminar Series
ATTACH;FMTTYPE=image/png:https://www.heas.at/wp-content/uploads/2023/07/MIKE-DEE_Web-Blog_Archaeological-Science_short-text.png
END:VEVENT
BEGIN:VEVENT
DTSTART;TZID=Europe/Vienna:20240226T113000
DTEND;TZID=Europe/Vienna:20240226T130000
DTSTAMP:20260422T091415
CREATED:20230731T133243Z
LAST-MODIFIED:20230731T133243Z
UID:5163-1708947000-1708952400@www.heas.at
SUMMARY:HEAS Seminar Series - Archaeological Science
DESCRIPTION:As part of the HEAS Seminar Series in Archaeological Science Mike Dee from University of Groningen will give a talk on ‚Cosmic Radiation Events as Anchor Points for Human History‘ on the  26th February 2024. \nRegister HERE \nMIKE DEE_poster
URL:https://www.heas.at/events/heas-seminar-series-archaeological-science-9-4/
LOCATION:Franz-Klein-Gasse 1\, 1190\, Franz-Klein-Gasse 1\, Vienna\, Austria
CATEGORIES:HEAS-Seminar Series
ATTACH;FMTTYPE=image/png:https://www.heas.at/wp-content/uploads/2023/07/MIKE-DEE_Web-Blog_Archaeological-Science_short-text.png
END:VEVENT
BEGIN:VEVENT
DTSTART;TZID=Europe/Vienna:20240227T130000
DTEND;TZID=Europe/Vienna:20240227T140000
DTSTAMP:20260422T091415
CREATED:20240124T094924Z
LAST-MODIFIED:20240124T094924Z
UID:4808-1709038800-1709042400@www.heas.at
SUMMARY:HEAS TALK
DESCRIPTION:Arik Malinksy-Buller from Hebrew University will visit Vienna on the 27th February 2024 and give a talk entitled ‚Middle to Upper to Palaeolithic transition(s) in Southwest Asia: The contribution of Ararat-1 cave\, Armenia‘ \n  \nTo register for this event\, please click here
URL:https://www.heas.at/events/heas-talk-5/
LOCATION:UBB 5.1\, Djerassiplatz 1\, Vienna\, 1030\, Austria
CATEGORIES:HEAS-Lecture
ATTACH;FMTTYPE=image/png:https://www.heas.at/wp-content/uploads/2024/01/ARIK-MALINKSY-BULLER_Newsbild_Human-Evolution_Web-Newspicture_short-text.png
END:VEVENT
BEGIN:VEVENT
DTSTART;TZID=Europe/Vienna:20240227T130000
DTEND;TZID=Europe/Vienna:20240227T140000
DTSTAMP:20260422T091415
CREATED:20240124T094924Z
LAST-MODIFIED:20240129T135149Z
UID:3286-1709038800-1709042400@www.heas.at
SUMMARY:HEAS TALK
DESCRIPTION:Arik Malinksy-Buller from Hebrew University will visit Vienna on the 27th February 2024 and give a talk entitled ‚Middle to Upper to Palaeolithic transition(s) in Southwest Asia: The contribution of Ararat-1 cave\, Armenia‘ \n  \nTo register for this event\, please click here
URL:https://www.heas.at/events/heas-talk/
LOCATION:UBB 5.1\, Djerassiplatz 1\, Vienna\, 1030\, Austria
CATEGORIES:HEAS-Lecture
ATTACH;FMTTYPE=image/png:https://www.heas.at/wp-content/uploads/2024/01/ARIK-MALINKSY-BULLER_Newsbild_Human-Evolution_Web-Newspicture_short-text.png
END:VEVENT
BEGIN:VEVENT
DTSTART;TZID=Europe/Vienna:20240227T130000
DTEND;TZID=Europe/Vienna:20240227T140000
DTSTAMP:20260422T091415
CREATED:20240124T094924Z
LAST-MODIFIED:20240124T094924Z
UID:5035-1709038800-1709042400@www.heas.at
SUMMARY:HEAS TALK
DESCRIPTION:Arik Malinksy-Buller from Hebrew University will visit Vienna on the 27th February 2024 and give a talk entitled ‚Middle to Upper to Palaeolithic transition(s) in Southwest Asia: The contribution of Ararat-1 cave\, Armenia‘ \n  \nTo register for this event\, please click here
URL:https://www.heas.at/events/heas-talk-6/
LOCATION:UBB 5.1\, Djerassiplatz 1\, Vienna\, 1030\, Austria
CATEGORIES:HEAS-Lecture
ATTACH;FMTTYPE=image/png:https://www.heas.at/wp-content/uploads/2024/01/ARIK-MALINKSY-BULLER_Newsbild_Human-Evolution_Web-Newspicture_short-text.png
END:VEVENT
BEGIN:VEVENT
DTSTART;TZID=Europe/Vienna:20240227T130000
DTEND;TZID=Europe/Vienna:20240227T140000
DTSTAMP:20260422T091415
CREATED:20240124T094924Z
LAST-MODIFIED:20240124T094924Z
UID:5179-1709038800-1709042400@www.heas.at
SUMMARY:HEAS TALK
DESCRIPTION:Arik Malinksy-Buller from Hebrew University will visit Vienna on the 27th February 2024 and give a talk entitled ‚Middle to Upper to Palaeolithic transition(s) in Southwest Asia: The contribution of Ararat-1 cave\, Armenia‘ \n  \nTo register for this event\, please click here
URL:https://www.heas.at/events/heas-talk-7/
LOCATION:UBB 5.1\, Djerassiplatz 1\, Vienna\, 1030\, Austria
CATEGORIES:HEAS-Lecture
ATTACH;FMTTYPE=image/png:https://www.heas.at/wp-content/uploads/2024/01/ARIK-MALINKSY-BULLER_Newsbild_Human-Evolution_Web-Newspicture_short-text.png
END:VEVENT
END:VCALENDAR