BEGIN:VCALENDAR
VERSION:2.0
PRODID:-//HEAS - ECPv6.15.17.1//NONSGML v1.0//EN
CALSCALE:GREGORIAN
METHOD:PUBLISH
X-WR-CALNAME:HEAS
X-ORIGINAL-URL:https://www.heas.at
X-WR-CALDESC:Veranstaltungen für HEAS
REFRESH-INTERVAL;VALUE=DURATION:PT1H
X-Robots-Tag:noindex
X-PUBLISHED-TTL:PT1H
BEGIN:VTIMEZONE
TZID:Europe/Vienna
BEGIN:DAYLIGHT
TZOFFSETFROM:+0100
TZOFFSETTO:+0200
TZNAME:CEST
DTSTART:20230326T010000
END:DAYLIGHT
BEGIN:STANDARD
TZOFFSETFROM:+0200
TZOFFSETTO:+0100
TZNAME:CET
DTSTART:20231029T010000
END:STANDARD
BEGIN:DAYLIGHT
TZOFFSETFROM:+0100
TZOFFSETTO:+0200
TZNAME:CEST
DTSTART:20240331T010000
END:DAYLIGHT
BEGIN:STANDARD
TZOFFSETFROM:+0200
TZOFFSETTO:+0100
TZNAME:CET
DTSTART:20241027T010000
END:STANDARD
BEGIN:DAYLIGHT
TZOFFSETFROM:+0100
TZOFFSETTO:+0200
TZNAME:CEST
DTSTART:20250330T010000
END:DAYLIGHT
BEGIN:STANDARD
TZOFFSETFROM:+0200
TZOFFSETTO:+0100
TZNAME:CET
DTSTART:20251026T010000
END:STANDARD
END:VTIMEZONE
BEGIN:VEVENT
DTSTART;TZID=Europe/Vienna:20240304T103000
DTEND;TZID=Europe/Vienna:20240304T120000
DTSTAMP:20260422T064117
CREATED:20230731T133502Z
LAST-MODIFIED:20240211T084639Z
UID:2786-1709548200-1709553600@www.heas.at
SUMMARY:HEAS Seminar Series - Human Evolution and the Palaeolithic
DESCRIPTION:As part of the HEAS Seminar Series in Human Evolution and the Palaeolithic Janet Kelso from MPI Eva\, Leipzig will give a talk on ‚Unravelling the human past: insights from ancient DNA‘ on the 4th March 2024. \nRegister here \n  \nJANET KELSO_poster
URL:https://www.heas.at/events/heas-seminar-series-human-evolution-and-the-palaeolithic-16/
LOCATION:UBB 5.1\, Djerassiplatz 1\, Vienna\, 1030\, Austria
CATEGORIES:HEAS-Seminar Series
ATTACH;FMTTYPE=image/png:https://www.heas.at/wp-content/uploads/2023/07/Group-poster_Human-Evol_Web-Blog__Human-Evolution_Web-Newspicture_short-text.png
END:VEVENT
BEGIN:VEVENT
DTSTART;TZID=Europe/Vienna:20240304T103000
DTEND;TZID=Europe/Vienna:20240304T120000
DTSTAMP:20260422T064117
CREATED:20230731T133502Z
LAST-MODIFIED:20230731T133502Z
UID:4793-1709548200-1709553600@www.heas.at
SUMMARY:HEAS Seminar Series - Human Evolution and the Palaeolithic
DESCRIPTION:As part of the HEAS Seminar Series in Human Evolution and the Palaeolithic Janet Kelso from MPI Eva\, Leipzig will give a talk on ‚Unravelling the human past: insights from ancient DNA‘ on the 4th March 2024. \nRegister here \n  \nJANET KELSO_poster
URL:https://www.heas.at/events/heas-seminar-series-human-evolution-and-the-palaeolithic-16-2/
LOCATION:UBB 5.1\, Djerassiplatz 1\, Vienna\, 1030\, Austria
CATEGORIES:HEAS-Seminar Series
ATTACH;FMTTYPE=image/png:https://www.heas.at/wp-content/uploads/2023/07/Group-poster_Human-Evol_Web-Blog__Human-Evolution_Web-Newspicture_short-text.png
END:VEVENT
BEGIN:VEVENT
DTSTART;TZID=Europe/Vienna:20240304T103000
DTEND;TZID=Europe/Vienna:20240304T120000
DTSTAMP:20260422T064118
CREATED:20230731T133502Z
LAST-MODIFIED:20230731T133502Z
UID:5020-1709548200-1709553600@www.heas.at
SUMMARY:HEAS Seminar Series - Human Evolution and the Palaeolithic
DESCRIPTION:As part of the HEAS Seminar Series in Human Evolution and the Palaeolithic Janet Kelso from MPI Eva\, Leipzig will give a talk on ‚Unravelling the human past: insights from ancient DNA‘ on the 4th March 2024. \nRegister here \n  \nJANET KELSO_poster
URL:https://www.heas.at/events/heas-seminar-series-human-evolution-and-the-palaeolithic-16-3/
LOCATION:UBB 5.1\, Djerassiplatz 1\, Vienna\, 1030\, Austria
CATEGORIES:HEAS-Seminar Series
ATTACH;FMTTYPE=image/png:https://www.heas.at/wp-content/uploads/2023/07/Group-poster_Human-Evol_Web-Blog__Human-Evolution_Web-Newspicture_short-text.png
END:VEVENT
BEGIN:VEVENT
DTSTART;TZID=Europe/Vienna:20240304T103000
DTEND;TZID=Europe/Vienna:20240304T120000
DTSTAMP:20260422T064118
CREATED:20230731T133502Z
LAST-MODIFIED:20230731T133502Z
UID:5164-1709548200-1709553600@www.heas.at
SUMMARY:HEAS Seminar Series - Human Evolution and the Palaeolithic
DESCRIPTION:As part of the HEAS Seminar Series in Human Evolution and the Palaeolithic Janet Kelso from MPI Eva\, Leipzig will give a talk on ‚Unravelling the human past: insights from ancient DNA‘ on the 4th March 2024. \nRegister here \n  \nJANET KELSO_poster
URL:https://www.heas.at/events/heas-seminar-series-human-evolution-and-the-palaeolithic-16-4/
LOCATION:UBB 5.1\, Djerassiplatz 1\, Vienna\, 1030\, Austria
CATEGORIES:HEAS-Seminar Series
ATTACH;FMTTYPE=image/png:https://www.heas.at/wp-content/uploads/2023/07/Group-poster_Human-Evol_Web-Blog__Human-Evolution_Web-Newspicture_short-text.png
END:VEVENT
BEGIN:VEVENT
DTSTART;TZID=Europe/Vienna:20240311T103000
DTEND;TZID=Europe/Vienna:20240311T120000
DTSTAMP:20260422T064118
CREATED:20230731T133857Z
LAST-MODIFIED:20230925T094432Z
UID:2788-1710153000-1710158400@www.heas.at
SUMMARY:HEAS Seminar Series - Ancient Genomics
DESCRIPTION:As part of the HEAS Seminar Series in Ancient Genomics Jenny Tung from Max Planck Institute for Evolutionary Anthropology will give a talk on ‚Living models for human history: genomics and behavior in our primate cousins‘ on the 11th March 2024. \nJENNY TUNG_poster \nRegister here
URL:https://www.heas.at/events/heas-seminar-series-ancient-genomics-14/
LOCATION:UBB 5.1\, Djerassiplatz 1\, Vienna\, 1030\, Austria
CATEGORIES:HEAS-Seminar Series
ATTACH;FMTTYPE=image/png:https://www.heas.at/wp-content/uploads/2023/07/JENNY-TUNG_Web-Blog_Ancient-Genomics_less-text-1.png
END:VEVENT
BEGIN:VEVENT
DTSTART;TZID=Europe/Vienna:20240311T103000
DTEND;TZID=Europe/Vienna:20240311T120000
DTSTAMP:20260422T064118
CREATED:20230731T133857Z
LAST-MODIFIED:20230731T133857Z
UID:4794-1710153000-1710158400@www.heas.at
SUMMARY:HEAS Seminar Series - Ancient Genomics
DESCRIPTION:As part of the HEAS Seminar Series in Ancient Genomics Jenny Tung from Max Planck Institute for Evolutionary Anthropology will give a talk on ‚Living models for human history: genomics and behavior in our primate cousins‘ on the 11th March 2024. \nJENNY TUNG_poster \nRegister here
URL:https://www.heas.at/events/heas-seminar-series-ancient-genomics-14-2/
LOCATION:UBB 5.1\, Djerassiplatz 1\, Vienna\, 1030\, Austria
CATEGORIES:HEAS-Seminar Series
ATTACH;FMTTYPE=image/png:https://www.heas.at/wp-content/uploads/2023/07/JENNY-TUNG_Web-Blog_Ancient-Genomics_less-text-1.png
END:VEVENT
BEGIN:VEVENT
DTSTART;TZID=Europe/Vienna:20240311T103000
DTEND;TZID=Europe/Vienna:20240311T120000
DTSTAMP:20260422T064118
CREATED:20230731T133857Z
LAST-MODIFIED:20230731T133857Z
UID:5021-1710153000-1710158400@www.heas.at
SUMMARY:HEAS Seminar Series - Ancient Genomics
DESCRIPTION:As part of the HEAS Seminar Series in Ancient Genomics Jenny Tung from Max Planck Institute for Evolutionary Anthropology will give a talk on ‚Living models for human history: genomics and behavior in our primate cousins‘ on the 11th March 2024. \nJENNY TUNG_poster \nRegister here
URL:https://www.heas.at/events/heas-seminar-series-ancient-genomics-14-3/
LOCATION:UBB 5.1\, Djerassiplatz 1\, Vienna\, 1030\, Austria
CATEGORIES:HEAS-Seminar Series
ATTACH;FMTTYPE=image/png:https://www.heas.at/wp-content/uploads/2023/07/JENNY-TUNG_Web-Blog_Ancient-Genomics_less-text-1.png
END:VEVENT
BEGIN:VEVENT
DTSTART;TZID=Europe/Vienna:20240311T103000
DTEND;TZID=Europe/Vienna:20240311T120000
DTSTAMP:20260422T064118
CREATED:20230731T133857Z
LAST-MODIFIED:20230731T133857Z
UID:5165-1710153000-1710158400@www.heas.at
SUMMARY:HEAS Seminar Series - Ancient Genomics
DESCRIPTION:As part of the HEAS Seminar Series in Ancient Genomics Jenny Tung from Max Planck Institute for Evolutionary Anthropology will give a talk on ‚Living models for human history: genomics and behavior in our primate cousins‘ on the 11th March 2024. \nJENNY TUNG_poster \nRegister here
URL:https://www.heas.at/events/heas-seminar-series-ancient-genomics-14-4/
LOCATION:UBB 5.1\, Djerassiplatz 1\, Vienna\, 1030\, Austria
CATEGORIES:HEAS-Seminar Series
ATTACH;FMTTYPE=image/png:https://www.heas.at/wp-content/uploads/2023/07/JENNY-TUNG_Web-Blog_Ancient-Genomics_less-text-1.png
END:VEVENT
BEGIN:VEVENT
DTSTART;TZID=Europe/Vienna:20240318T103000
DTEND;TZID=Europe/Vienna:20240318T120000
DTSTAMP:20260422T064118
CREATED:20230731T134636Z
LAST-MODIFIED:20230925T094634Z
UID:2790-1710757800-1710763200@www.heas.at
SUMMARY:HEAS Seminar Series - Archaeological Science
DESCRIPTION:As part of the HEAS Seminar Series in Archaeological Science\, Dennis Wilken from University of Kiel will give a talk on ‚Ships\, harbours and waterways – Geophysical prospection in shallow waters and tidal flats‘ on the 18th March 2024. \nDENNIS WILKEN_poster \nRegister here
URL:https://www.heas.at/events/heas-seminar-series-archaeological-science-10/
LOCATION:Franz-Klein-Gasse 1\, 1190\, Franz-Klein-Gasse 1\, Vienna\, Austria
CATEGORIES:HEAS-Seminar Series
ATTACH;FMTTYPE=image/png:https://www.heas.at/wp-content/uploads/2023/07/DENNIS-WILKEN_Web-Blog_Archaeological-Science_short-text.png
END:VEVENT
BEGIN:VEVENT
DTSTART;TZID=Europe/Vienna:20240318T103000
DTEND;TZID=Europe/Vienna:20240318T120000
DTSTAMP:20260422T064118
CREATED:20230731T134636Z
LAST-MODIFIED:20230731T134636Z
UID:4795-1710757800-1710763200@www.heas.at
SUMMARY:HEAS Seminar Series - Archaeological Science
DESCRIPTION:As part of the HEAS Seminar Series in Archaeological Science\, Dennis Wilken from University of Kiel will give a talk on ‚Ships\, harbours and waterways – Geophysical prospection in shallow waters and tidal flats‘ on the 18th March 2024. \nDENNIS WILKEN_poster \nRegister here
URL:https://www.heas.at/events/heas-seminar-series-archaeological-science-10-2/
LOCATION:Franz-Klein-Gasse 1\, 1190\, Franz-Klein-Gasse 1\, Vienna\, Austria
CATEGORIES:HEAS-Seminar Series
ATTACH;FMTTYPE=image/png:https://www.heas.at/wp-content/uploads/2023/07/DENNIS-WILKEN_Web-Blog_Archaeological-Science_short-text.png
END:VEVENT
BEGIN:VEVENT
DTSTART;TZID=Europe/Vienna:20240318T103000
DTEND;TZID=Europe/Vienna:20240318T120000
DTSTAMP:20260422T064118
CREATED:20230731T134636Z
LAST-MODIFIED:20230731T134636Z
UID:5022-1710757800-1710763200@www.heas.at
SUMMARY:HEAS Seminar Series - Archaeological Science
DESCRIPTION:As part of the HEAS Seminar Series in Archaeological Science\, Dennis Wilken from University of Kiel will give a talk on ‚Ships\, harbours and waterways – Geophysical prospection in shallow waters and tidal flats‘ on the 18th March 2024. \nDENNIS WILKEN_poster \nRegister here
URL:https://www.heas.at/events/heas-seminar-series-archaeological-science-10-3/
LOCATION:Franz-Klein-Gasse 1\, 1190\, Franz-Klein-Gasse 1\, Vienna\, Austria
CATEGORIES:HEAS-Seminar Series
ATTACH;FMTTYPE=image/png:https://www.heas.at/wp-content/uploads/2023/07/DENNIS-WILKEN_Web-Blog_Archaeological-Science_short-text.png
END:VEVENT
BEGIN:VEVENT
DTSTART;TZID=Europe/Vienna:20240318T103000
DTEND;TZID=Europe/Vienna:20240318T120000
DTSTAMP:20260422T064118
CREATED:20230731T134636Z
LAST-MODIFIED:20230731T134636Z
UID:5166-1710757800-1710763200@www.heas.at
SUMMARY:HEAS Seminar Series - Archaeological Science
DESCRIPTION:As part of the HEAS Seminar Series in Archaeological Science\, Dennis Wilken from University of Kiel will give a talk on ‚Ships\, harbours and waterways – Geophysical prospection in shallow waters and tidal flats‘ on the 18th March 2024. \nDENNIS WILKEN_poster \nRegister here
URL:https://www.heas.at/events/heas-seminar-series-archaeological-science-10-4/
LOCATION:Franz-Klein-Gasse 1\, 1190\, Franz-Klein-Gasse 1\, Vienna\, Austria
CATEGORIES:HEAS-Seminar Series
ATTACH;FMTTYPE=image/png:https://www.heas.at/wp-content/uploads/2023/07/DENNIS-WILKEN_Web-Blog_Archaeological-Science_short-text.png
END:VEVENT
END:VCALENDAR