BEGIN:VCALENDAR
VERSION:2.0
PRODID:-//HEAS - ECPv6.15.17.1//NONSGML v1.0//EN
CALSCALE:GREGORIAN
METHOD:PUBLISH
X-WR-CALNAME:HEAS
X-ORIGINAL-URL:https://www.heas.at
X-WR-CALDESC:Veranstaltungen für HEAS
REFRESH-INTERVAL;VALUE=DURATION:PT1H
X-Robots-Tag:noindex
X-PUBLISHED-TTL:PT1H
BEGIN:VTIMEZONE
TZID:Europe/Vienna
BEGIN:DAYLIGHT
TZOFFSETFROM:+0100
TZOFFSETTO:+0200
TZNAME:CEST
DTSTART:20240331T010000
END:DAYLIGHT
BEGIN:STANDARD
TZOFFSETFROM:+0200
TZOFFSETTO:+0100
TZNAME:CET
DTSTART:20241027T010000
END:STANDARD
BEGIN:DAYLIGHT
TZOFFSETFROM:+0100
TZOFFSETTO:+0200
TZNAME:CEST
DTSTART:20250330T010000
END:DAYLIGHT
BEGIN:STANDARD
TZOFFSETFROM:+0200
TZOFFSETTO:+0100
TZNAME:CET
DTSTART:20251026T010000
END:STANDARD
BEGIN:DAYLIGHT
TZOFFSETFROM:+0100
TZOFFSETTO:+0200
TZNAME:CEST
DTSTART:20260329T010000
END:DAYLIGHT
BEGIN:STANDARD
TZOFFSETFROM:+0200
TZOFFSETTO:+0100
TZNAME:CET
DTSTART:20261025T010000
END:STANDARD
END:VTIMEZONE
BEGIN:VEVENT
DTSTART;TZID=Europe/Vienna:20250210T123000
DTEND;TZID=Europe/Vienna:20250210T143000
DTSTAMP:20260421T145409
CREATED:20240913T131016Z
LAST-MODIFIED:20250122T091230Z
UID:3694-1739190600-1739197800@www.heas.at
SUMMARY:HEAS Seminar Series - Archaeological Science
DESCRIPTION:As part of the HEAS Seminar Series in Archaeological Science Oliver Pryce from Paris CNRS will give a talk on A Partial Prehistory of the Southwest Silk Road: Archaeometallurgical Networks Along the Sub-Himalayan Corridor: AKA The Origins of the Southeast Asian Bronze Age on the 10th February at 12:30 CET. \n  \nRegistration for online and in-person participation is here. \n  \nOliver Pryce_poster
URL:https://www.heas.at/events/heas-seminar-series-archaeological-science-21/
LOCATION:Franz-Klein-Gasse 1\, 1190\, Franz-Klein-Gasse 1\, Vienna\, Austria
CATEGORIES:HEAS-Seminar Series
ATTACH;FMTTYPE=image/png:https://www.heas.at/wp-content/uploads/2024/09/Oliver-Pryce_PowerPoint_Archaeological-Science-Series_less-text-1-1.png
END:VEVENT
BEGIN:VEVENT
DTSTART;TZID=Europe/Vienna:20250210T123000
DTEND;TZID=Europe/Vienna:20250210T143000
DTSTAMP:20260421T145409
CREATED:20240913T131016Z
LAST-MODIFIED:20240913T131016Z
UID:4825-1739190600-1739197800@www.heas.at
SUMMARY:HEAS Seminar Series - Archaeological Science
DESCRIPTION:As part of the HEAS Seminar Series in Archaeological Science Oliver Pryce from Paris CNRS will give a talk on A Partial Prehistory of the Southwest Silk Road: Archaeometallurgical Networks Along the Sub-Himalayan Corridor: AKA The Origins of the Southeast Asian Bronze Age on the 10th February at 12:30 CET. \n  \nRegistration for online and in-person participation is here. \n  \nOliver Pryce_poster
URL:https://www.heas.at/events/heas-seminar-series-archaeological-science-21-2/
LOCATION:Franz-Klein-Gasse 1\, 1190\, Franz-Klein-Gasse 1\, Vienna\, Austria
CATEGORIES:HEAS-Seminar Series
ATTACH;FMTTYPE=image/png:https://www.heas.at/wp-content/uploads/2024/09/Oliver-Pryce_PowerPoint_Archaeological-Science-Series_less-text-1-1.png
END:VEVENT
BEGIN:VEVENT
DTSTART;TZID=Europe/Vienna:20250210T123000
DTEND;TZID=Europe/Vienna:20250210T143000
DTSTAMP:20260421T145409
CREATED:20240913T131016Z
LAST-MODIFIED:20240913T131016Z
UID:5055-1739190600-1739197800@www.heas.at
SUMMARY:HEAS Seminar Series - Archaeological Science
DESCRIPTION:As part of the HEAS Seminar Series in Archaeological Science Oliver Pryce from Paris CNRS will give a talk on A Partial Prehistory of the Southwest Silk Road: Archaeometallurgical Networks Along the Sub-Himalayan Corridor: AKA The Origins of the Southeast Asian Bronze Age on the 10th February at 12:30 CET. \n  \nRegistration for online and in-person participation is here. \n  \nOliver Pryce_poster
URL:https://www.heas.at/events/heas-seminar-series-archaeological-science-21-3/
LOCATION:Franz-Klein-Gasse 1\, 1190\, Franz-Klein-Gasse 1\, Vienna\, Austria
CATEGORIES:HEAS-Seminar Series
ATTACH;FMTTYPE=image/png:https://www.heas.at/wp-content/uploads/2024/09/Oliver-Pryce_PowerPoint_Archaeological-Science-Series_less-text-1-1.png
END:VEVENT
BEGIN:VEVENT
DTSTART;TZID=Europe/Vienna:20250210T123000
DTEND;TZID=Europe/Vienna:20250210T143000
DTSTAMP:20260421T145409
CREATED:20240913T131016Z
LAST-MODIFIED:20240913T131016Z
UID:5199-1739190600-1739197800@www.heas.at
SUMMARY:HEAS Seminar Series - Archaeological Science
DESCRIPTION:As part of the HEAS Seminar Series in Archaeological Science Oliver Pryce from Paris CNRS will give a talk on A Partial Prehistory of the Southwest Silk Road: Archaeometallurgical Networks Along the Sub-Himalayan Corridor: AKA The Origins of the Southeast Asian Bronze Age on the 10th February at 12:30 CET. \n  \nRegistration for online and in-person participation is here. \n  \nOliver Pryce_poster
URL:https://www.heas.at/events/heas-seminar-series-archaeological-science-21-4/
LOCATION:Franz-Klein-Gasse 1\, 1190\, Franz-Klein-Gasse 1\, Vienna\, Austria
CATEGORIES:HEAS-Seminar Series
ATTACH;FMTTYPE=image/png:https://www.heas.at/wp-content/uploads/2024/09/Oliver-Pryce_PowerPoint_Archaeological-Science-Series_less-text-1-1.png
END:VEVENT
BEGIN:VEVENT
DTSTART;TZID=Europe/Vienna:20250212T180000
DTEND;TZID=Europe/Vienna:20250212T193000
DTSTAMP:20260421T145409
CREATED:20250121T134223Z
LAST-MODIFIED:20250211T124210Z
UID:4196-1739383200-1739388600@www.heas.at
SUMMARY:HEAS Talks
DESCRIPTION:We are looking forward to welcoming Lisa-Marie ShillIto from Newcastle University to Vienna. Lisa-Marie will give a talk on Every Archaeological Problem starts as a Problem in Geoarchaeology on the 12th February 2025 at 18:00 in the University of Vienna Biology Building (UBB) HS 1. \n  \nRegister here. \nLISA-MARIE SHILLITO_POSTER \nGeoarchaeology in Vienna Booklet_1
URL:https://www.heas.at/events/heas-talks/
LOCATION:HS UBB\, Djerassiplatz 1
CATEGORIES:HEAS-Lecture
ATTACH;FMTTYPE=image/png:https://www.heas.at/wp-content/uploads/2025/01/LISA-MARIE-SHILLITO_PowerPoint_Ancient-Genomics_less-tesxt-1.png
END:VEVENT
BEGIN:VEVENT
DTSTART;TZID=Europe/Vienna:20250212T180000
DTEND;TZID=Europe/Vienna:20250212T193000
DTSTAMP:20260421T145409
CREATED:20250121T134223Z
LAST-MODIFIED:20250121T134223Z
UID:4842-1739383200-1739388600@www.heas.at
SUMMARY:HEAS Talks
DESCRIPTION:We are looking forward to welcoming Lisa-Marie ShillIto from Newcastle University to Vienna. Lisa-Marie will give a talk on Every Archaeological Problem starts as a Problem in Geoarchaeology on the 12th February 2025 at 18:00 in the University of Vienna Biology Building (UBB) HS 1. \n  \nRegister here. \nLISA-MARIE SHILLITO_POSTER \nGeoarchaeology in Vienna Booklet_1
URL:https://www.heas.at/events/heas-talks-2/
LOCATION:HS UBB\, Djerassiplatz 1
CATEGORIES:HEAS-Lecture
ATTACH;FMTTYPE=image/png:https://www.heas.at/wp-content/uploads/2025/01/LISA-MARIE-SHILLITO_PowerPoint_Ancient-Genomics_less-tesxt-1.png
END:VEVENT
BEGIN:VEVENT
DTSTART;TZID=Europe/Vienna:20250212T180000
DTEND;TZID=Europe/Vienna:20250212T193000
DTSTAMP:20260421T145409
CREATED:20250121T134223Z
LAST-MODIFIED:20250121T134223Z
UID:5069-1739383200-1739388600@www.heas.at
SUMMARY:HEAS Talks
DESCRIPTION:We are looking forward to welcoming Lisa-Marie ShillIto from Newcastle University to Vienna. Lisa-Marie will give a talk on Every Archaeological Problem starts as a Problem in Geoarchaeology on the 12th February 2025 at 18:00 in the University of Vienna Biology Building (UBB) HS 1. \n  \nRegister here. \nLISA-MARIE SHILLITO_POSTER \nGeoarchaeology in Vienna Booklet_1
URL:https://www.heas.at/events/heas-talks-3/
LOCATION:HS UBB\, Djerassiplatz 1
CATEGORIES:HEAS-Lecture
ATTACH;FMTTYPE=image/png:https://www.heas.at/wp-content/uploads/2025/01/LISA-MARIE-SHILLITO_PowerPoint_Ancient-Genomics_less-tesxt-1.png
END:VEVENT
BEGIN:VEVENT
DTSTART;TZID=Europe/Vienna:20250212T180000
DTEND;TZID=Europe/Vienna:20250212T193000
DTSTAMP:20260421T145409
CREATED:20250121T134223Z
LAST-MODIFIED:20250121T134223Z
UID:5213-1739383200-1739388600@www.heas.at
SUMMARY:HEAS Talks
DESCRIPTION:We are looking forward to welcoming Lisa-Marie ShillIto from Newcastle University to Vienna. Lisa-Marie will give a talk on Every Archaeological Problem starts as a Problem in Geoarchaeology on the 12th February 2025 at 18:00 in the University of Vienna Biology Building (UBB) HS 1. \n  \nRegister here. \nLISA-MARIE SHILLITO_POSTER \nGeoarchaeology in Vienna Booklet_1
URL:https://www.heas.at/events/heas-talks-4/
LOCATION:HS UBB\, Djerassiplatz 1
CATEGORIES:HEAS-Lecture
ATTACH;FMTTYPE=image/png:https://www.heas.at/wp-content/uploads/2025/01/LISA-MARIE-SHILLITO_PowerPoint_Ancient-Genomics_less-tesxt-1.png
END:VEVENT
BEGIN:VEVENT
DTSTART;TZID=Europe/Vienna:20250219T103000
DTEND;TZID=Europe/Vienna:20250219T120000
DTSTAMP:20260421T145409
CREATED:20250218T085118Z
LAST-MODIFIED:20250218T092827Z
UID:4276-1739961000-1739966400@www.heas.at
SUMMARY:HEAS Talk
DESCRIPTION:We are looking forward to welcoming Ewa Dutkiewicz from Museum für Vor- und Frühgeschichte\, Staatliche Museen zu Berlin and Chris Bentz from University of Passau to Vienna for a HEAS Talk on SignBase 2.0: A database for sign sequences on mobile artefacts in the Paleolithic. The talk will take place in SR 5.1 in the UBB at 10:30 on the 19th February 2025. \nAbstract: As humans we store and share information outside of our minds. Some first traces of externalized information encoding reach back into the Paleolithic period of c. 400 000 to 15 000 years ago. Starting with the Lower Paleolithic\, mobile artefacts are in some cases argued to carry intentional markings. In the Middle Paleolithic and Middle Stone Age\, these markings become more frequent and wide spread. In Upper Paleolithic cultures such as the Aurignacian\, Gravettian\, and Magdalenian sign sequences become systematic in their usage\, and an integral part of cultural life. SignBase is a database which collects information on Paleolithic mobile artefacts carrying geometric signs. This allows us to study the fundamental transitions in visual information encoding from the first signs to writing. This talk will present the current structure and status of SignBase 2.0\, as well as results of statistical analyses comparing Paleolithic sign sequences with ancient cuneiform and modern day writing. \nREGISTER HERE \nEWA and CHRIS __poster \n  \n 
URL:https://www.heas.at/events/heas-talk-4/
LOCATION:UBB 5.1\, Djerassiplatz 1\, Vienna\, 1030\, Austria
CATEGORIES:HEAS-Lecture
ATTACH;FMTTYPE=image/png:https://www.heas.at/wp-content/uploads/2025/02/EWA-and-Chris-_PowerPoint_Ancient-Genomics_less-tesxt.png
END:VEVENT
BEGIN:VEVENT
DTSTART;TZID=Europe/Vienna:20250219T103000
DTEND;TZID=Europe/Vienna:20250219T120000
DTSTAMP:20260421T145409
CREATED:20250218T085118Z
LAST-MODIFIED:20250218T085118Z
UID:4844-1739961000-1739966400@www.heas.at
SUMMARY:HEAS Talk
DESCRIPTION:We are looking forward to welcoming Ewa Dutkiewicz from Museum für Vor- und Frühgeschichte\, Staatliche Museen zu Berlin and Chris Bentz from University of Passau to Vienna for a HEAS Talk on SignBase 2.0: A database for sign sequences on mobile artefacts in the Paleolithic. The talk will take place in SR 5.1 in the UBB at 10:30 on the 19th February 2025. \nAbstract: As humans we store and share information outside of our minds. Some first traces of externalized information encoding reach back into the Paleolithic period of c. 400 000 to 15 000 years ago. Starting with the Lower Paleolithic\, mobile artefacts are in some cases argued to carry intentional markings. In the Middle Paleolithic and Middle Stone Age\, these markings become more frequent and wide spread. In Upper Paleolithic cultures such as the Aurignacian\, Gravettian\, and Magdalenian sign sequences become systematic in their usage\, and an integral part of cultural life. SignBase is a database which collects information on Paleolithic mobile artefacts carrying geometric signs. This allows us to study the fundamental transitions in visual information encoding from the first signs to writing. This talk will present the current structure and status of SignBase 2.0\, as well as results of statistical analyses comparing Paleolithic sign sequences with ancient cuneiform and modern day writing. \nREGISTER HERE \nEWA and CHRIS __poster \n  \n 
URL:https://www.heas.at/events/heas-talk-4-2/
LOCATION:UBB 5.1\, Djerassiplatz 1\, Vienna\, 1030\, Austria
CATEGORIES:HEAS-Lecture
ATTACH;FMTTYPE=image/png:https://www.heas.at/wp-content/uploads/2025/02/EWA-and-Chris-_PowerPoint_Ancient-Genomics_less-tesxt.png
END:VEVENT
BEGIN:VEVENT
DTSTART;TZID=Europe/Vienna:20250219T103000
DTEND;TZID=Europe/Vienna:20250219T120000
DTSTAMP:20260421T145409
CREATED:20250218T085118Z
LAST-MODIFIED:20250218T085118Z
UID:5071-1739961000-1739966400@www.heas.at
SUMMARY:HEAS Talk
DESCRIPTION:We are looking forward to welcoming Ewa Dutkiewicz from Museum für Vor- und Frühgeschichte\, Staatliche Museen zu Berlin and Chris Bentz from University of Passau to Vienna for a HEAS Talk on SignBase 2.0: A database for sign sequences on mobile artefacts in the Paleolithic. The talk will take place in SR 5.1 in the UBB at 10:30 on the 19th February 2025. \nAbstract: As humans we store and share information outside of our minds. Some first traces of externalized information encoding reach back into the Paleolithic period of c. 400 000 to 15 000 years ago. Starting with the Lower Paleolithic\, mobile artefacts are in some cases argued to carry intentional markings. In the Middle Paleolithic and Middle Stone Age\, these markings become more frequent and wide spread. In Upper Paleolithic cultures such as the Aurignacian\, Gravettian\, and Magdalenian sign sequences become systematic in their usage\, and an integral part of cultural life. SignBase is a database which collects information on Paleolithic mobile artefacts carrying geometric signs. This allows us to study the fundamental transitions in visual information encoding from the first signs to writing. This talk will present the current structure and status of SignBase 2.0\, as well as results of statistical analyses comparing Paleolithic sign sequences with ancient cuneiform and modern day writing. \nREGISTER HERE \nEWA and CHRIS __poster \n  \n 
URL:https://www.heas.at/events/heas-talk-4-3/
LOCATION:UBB 5.1\, Djerassiplatz 1\, Vienna\, 1030\, Austria
CATEGORIES:HEAS-Lecture
ATTACH;FMTTYPE=image/png:https://www.heas.at/wp-content/uploads/2025/02/EWA-and-Chris-_PowerPoint_Ancient-Genomics_less-tesxt.png
END:VEVENT
BEGIN:VEVENT
DTSTART;TZID=Europe/Vienna:20250219T103000
DTEND;TZID=Europe/Vienna:20250219T120000
DTSTAMP:20260421T145409
CREATED:20250218T085118Z
LAST-MODIFIED:20250218T085118Z
UID:5215-1739961000-1739966400@www.heas.at
SUMMARY:HEAS Talk
DESCRIPTION:We are looking forward to welcoming Ewa Dutkiewicz from Museum für Vor- und Frühgeschichte\, Staatliche Museen zu Berlin and Chris Bentz from University of Passau to Vienna for a HEAS Talk on SignBase 2.0: A database for sign sequences on mobile artefacts in the Paleolithic. The talk will take place in SR 5.1 in the UBB at 10:30 on the 19th February 2025. \nAbstract: As humans we store and share information outside of our minds. Some first traces of externalized information encoding reach back into the Paleolithic period of c. 400 000 to 15 000 years ago. Starting with the Lower Paleolithic\, mobile artefacts are in some cases argued to carry intentional markings. In the Middle Paleolithic and Middle Stone Age\, these markings become more frequent and wide spread. In Upper Paleolithic cultures such as the Aurignacian\, Gravettian\, and Magdalenian sign sequences become systematic in their usage\, and an integral part of cultural life. SignBase is a database which collects information on Paleolithic mobile artefacts carrying geometric signs. This allows us to study the fundamental transitions in visual information encoding from the first signs to writing. This talk will present the current structure and status of SignBase 2.0\, as well as results of statistical analyses comparing Paleolithic sign sequences with ancient cuneiform and modern day writing. \nREGISTER HERE \nEWA and CHRIS __poster \n  \n 
URL:https://www.heas.at/events/heas-talk-4-4/
LOCATION:UBB 5.1\, Djerassiplatz 1\, Vienna\, 1030\, Austria
CATEGORIES:HEAS-Lecture
ATTACH;FMTTYPE=image/png:https://www.heas.at/wp-content/uploads/2025/02/EWA-and-Chris-_PowerPoint_Ancient-Genomics_less-tesxt.png
END:VEVENT
BEGIN:VEVENT
DTSTART;TZID=Europe/Vienna:20250224T123000
DTEND;TZID=Europe/Vienna:20250224T150000
DTSTAMP:20260421T145409
CREATED:20240913T123827Z
LAST-MODIFIED:20240913T123827Z
UID:3784-1740400200-1740409200@www.heas.at
SUMMARY:HEAS Seminar Series - Archaeological Science
DESCRIPTION:As part of the HEAS Seminar Series in Ancient Genomics Lasse Sörensen from Copenhagen Museum will give a talk on FROM STONE TO HOME – exploring polished stone tool biographies and their social and economic impact in the Aegean Neolithic on the on the 24th February 2025 at 12:30 CEST. \nAbstract \nThis talk explores the emergence of value and wealth as a concept in human history based on an ongoing research project. Social and economic changes accelerated during the Neolithic\, but until now it remains unclear what triggered inequality in these communities. Thus\, the project aims to nuance how inequality evolved in human history. To approach this key question the study will investigate social and economic transformations initiated by the appearance of polished stone tools (axes\, adzes\, chisels and wedges) recovered from Neolithic sites\, burials\, households and quarries from the 7th to the 4th millennium BC in the Aegean. The project hypothesis is linking the Neolithic human awareness of raw material availability and biographies of polished stone tool assemblages with the abstract concepts of the different kinds of value and wealth in these communities. The project will test the hypothesis by comparing polished stone tools made of rare (jadeitite\, nephrite\, omphacitite or eclogite) with common (serpentinite\, andesite\, basalt\, gabbro and hematite) raw materials from sites\, burials and households in selected synchronic and diachronic case studies. By revealing the location of previously unknown raw material sources and quarry sites of polished stone tools\, the project will be able to discover the interrelations between local\, regional and superregional exchange networks. Through techno-morphological\, use-wear and contextual analysis of polished stone tools\, it will be possible to qualify and quantify the different stages of the studied objects\, from procurement\, manufacture and usage to the final deposition. The empirical data will identify new aspects related to the value of objects and fluctuations in wealth and inequality. \nLasse Vilien Sørensen\nThe National Museum of Denmark\nAncient Cultures in Denmark and the Mediterranean \nRegistration for online and in-person participation is here. \n  \nLasse Sörensen_poster
URL:https://www.heas.at/events/heas-seminar-series-archaeological-science-20/
LOCATION:Franz-Klein-Gasse 1\, 1190\, Franz-Klein-Gasse 1\, Vienna\, Austria
CATEGORIES:HEAS-Seminar Series
ATTACH;FMTTYPE=image/png:https://www.heas.at/wp-content/uploads/2024/09/Lasse-Soerensen_PowerPoint_Archaeological-Science-Series_less-text-.png
END:VEVENT
BEGIN:VEVENT
DTSTART;TZID=Europe/Vienna:20250224T123000
DTEND;TZID=Europe/Vienna:20250224T150000
DTSTAMP:20260421T145409
CREATED:20240913T123827Z
LAST-MODIFIED:20240913T123827Z
UID:4828-1740400200-1740409200@www.heas.at
SUMMARY:HEAS Seminar Series - Archaeological Science
DESCRIPTION:As part of the HEAS Seminar Series in Ancient Genomics Lasse Sörensen from Copenhagen Museum will give a talk on FROM STONE TO HOME – exploring polished stone tool biographies and their social and economic impact in the Aegean Neolithic on the on the 24th February 2025 at 12:30 CEST. \nAbstract \nThis talk explores the emergence of value and wealth as a concept in human history based on an ongoing research project. Social and economic changes accelerated during the Neolithic\, but until now it remains unclear what triggered inequality in these communities. Thus\, the project aims to nuance how inequality evolved in human history. To approach this key question the study will investigate social and economic transformations initiated by the appearance of polished stone tools (axes\, adzes\, chisels and wedges) recovered from Neolithic sites\, burials\, households and quarries from the 7th to the 4th millennium BC in the Aegean. The project hypothesis is linking the Neolithic human awareness of raw material availability and biographies of polished stone tool assemblages with the abstract concepts of the different kinds of value and wealth in these communities. The project will test the hypothesis by comparing polished stone tools made of rare (jadeitite\, nephrite\, omphacitite or eclogite) with common (serpentinite\, andesite\, basalt\, gabbro and hematite) raw materials from sites\, burials and households in selected synchronic and diachronic case studies. By revealing the location of previously unknown raw material sources and quarry sites of polished stone tools\, the project will be able to discover the interrelations between local\, regional and superregional exchange networks. Through techno-morphological\, use-wear and contextual analysis of polished stone tools\, it will be possible to qualify and quantify the different stages of the studied objects\, from procurement\, manufacture and usage to the final deposition. The empirical data will identify new aspects related to the value of objects and fluctuations in wealth and inequality. \nLasse Vilien Sørensen\nThe National Museum of Denmark\nAncient Cultures in Denmark and the Mediterranean \nRegistration for online and in-person participation is here. \n  \nLasse Sörensen_poster
URL:https://www.heas.at/events/heas-seminar-series-archaeological-science-20-2/
LOCATION:Franz-Klein-Gasse 1\, 1190\, Franz-Klein-Gasse 1\, Vienna\, Austria
CATEGORIES:HEAS-Seminar Series
ATTACH;FMTTYPE=image/png:https://www.heas.at/wp-content/uploads/2024/09/Lasse-Soerensen_PowerPoint_Archaeological-Science-Series_less-text-.png
END:VEVENT
BEGIN:VEVENT
DTSTART;TZID=Europe/Vienna:20250224T123000
DTEND;TZID=Europe/Vienna:20250224T150000
DTSTAMP:20260421T145409
CREATED:20240913T123827Z
LAST-MODIFIED:20240913T123827Z
UID:5047-1740400200-1740409200@www.heas.at
SUMMARY:HEAS Seminar Series - Archaeological Science
DESCRIPTION:As part of the HEAS Seminar Series in Ancient Genomics Lasse Sörensen from Copenhagen Museum will give a talk on FROM STONE TO HOME – exploring polished stone tool biographies and their social and economic impact in the Aegean Neolithic on the on the 24th February 2025 at 12:30 CEST. \nAbstract \nThis talk explores the emergence of value and wealth as a concept in human history based on an ongoing research project. Social and economic changes accelerated during the Neolithic\, but until now it remains unclear what triggered inequality in these communities. Thus\, the project aims to nuance how inequality evolved in human history. To approach this key question the study will investigate social and economic transformations initiated by the appearance of polished stone tools (axes\, adzes\, chisels and wedges) recovered from Neolithic sites\, burials\, households and quarries from the 7th to the 4th millennium BC in the Aegean. The project hypothesis is linking the Neolithic human awareness of raw material availability and biographies of polished stone tool assemblages with the abstract concepts of the different kinds of value and wealth in these communities. The project will test the hypothesis by comparing polished stone tools made of rare (jadeitite\, nephrite\, omphacitite or eclogite) with common (serpentinite\, andesite\, basalt\, gabbro and hematite) raw materials from sites\, burials and households in selected synchronic and diachronic case studies. By revealing the location of previously unknown raw material sources and quarry sites of polished stone tools\, the project will be able to discover the interrelations between local\, regional and superregional exchange networks. Through techno-morphological\, use-wear and contextual analysis of polished stone tools\, it will be possible to qualify and quantify the different stages of the studied objects\, from procurement\, manufacture and usage to the final deposition. The empirical data will identify new aspects related to the value of objects and fluctuations in wealth and inequality. \nLasse Vilien Sørensen\nThe National Museum of Denmark\nAncient Cultures in Denmark and the Mediterranean \nRegistration for online and in-person participation is here. \n  \nLasse Sörensen_poster
URL:https://www.heas.at/events/heas-seminar-series-archaeological-science-20-3/
LOCATION:Franz-Klein-Gasse 1\, 1190\, Franz-Klein-Gasse 1\, Vienna\, Austria
CATEGORIES:HEAS-Seminar Series
ATTACH;FMTTYPE=image/png:https://www.heas.at/wp-content/uploads/2024/09/Lasse-Soerensen_PowerPoint_Archaeological-Science-Series_less-text-.png
END:VEVENT
BEGIN:VEVENT
DTSTART;TZID=Europe/Vienna:20250224T123000
DTEND;TZID=Europe/Vienna:20250224T150000
DTSTAMP:20260421T145409
CREATED:20240913T123827Z
LAST-MODIFIED:20240913T123827Z
UID:5191-1740400200-1740409200@www.heas.at
SUMMARY:HEAS Seminar Series - Archaeological Science
DESCRIPTION:As part of the HEAS Seminar Series in Ancient Genomics Lasse Sörensen from Copenhagen Museum will give a talk on FROM STONE TO HOME – exploring polished stone tool biographies and their social and economic impact in the Aegean Neolithic on the on the 24th February 2025 at 12:30 CEST. \nAbstract \nThis talk explores the emergence of value and wealth as a concept in human history based on an ongoing research project. Social and economic changes accelerated during the Neolithic\, but until now it remains unclear what triggered inequality in these communities. Thus\, the project aims to nuance how inequality evolved in human history. To approach this key question the study will investigate social and economic transformations initiated by the appearance of polished stone tools (axes\, adzes\, chisels and wedges) recovered from Neolithic sites\, burials\, households and quarries from the 7th to the 4th millennium BC in the Aegean. The project hypothesis is linking the Neolithic human awareness of raw material availability and biographies of polished stone tool assemblages with the abstract concepts of the different kinds of value and wealth in these communities. The project will test the hypothesis by comparing polished stone tools made of rare (jadeitite\, nephrite\, omphacitite or eclogite) with common (serpentinite\, andesite\, basalt\, gabbro and hematite) raw materials from sites\, burials and households in selected synchronic and diachronic case studies. By revealing the location of previously unknown raw material sources and quarry sites of polished stone tools\, the project will be able to discover the interrelations between local\, regional and superregional exchange networks. Through techno-morphological\, use-wear and contextual analysis of polished stone tools\, it will be possible to qualify and quantify the different stages of the studied objects\, from procurement\, manufacture and usage to the final deposition. The empirical data will identify new aspects related to the value of objects and fluctuations in wealth and inequality. \nLasse Vilien Sørensen\nThe National Museum of Denmark\nAncient Cultures in Denmark and the Mediterranean \nRegistration for online and in-person participation is here. \n  \nLasse Sörensen_poster
URL:https://www.heas.at/events/heas-seminar-series-archaeological-science-20-4/
LOCATION:Franz-Klein-Gasse 1\, 1190\, Franz-Klein-Gasse 1\, Vienna\, Austria
CATEGORIES:HEAS-Seminar Series
ATTACH;FMTTYPE=image/png:https://www.heas.at/wp-content/uploads/2024/09/Lasse-Soerensen_PowerPoint_Archaeological-Science-Series_less-text-.png
END:VEVENT
END:VCALENDAR