BEGIN:VCALENDAR
VERSION:2.0
PRODID:-//HEAS - ECPv6.15.17.1//NONSGML v1.0//EN
CALSCALE:GREGORIAN
METHOD:PUBLISH
X-ORIGINAL-URL:https://www.heas.at
X-WR-CALDESC:Veranstaltungen für HEAS
REFRESH-INTERVAL;VALUE=DURATION:PT1H
X-Robots-Tag:noindex
X-PUBLISHED-TTL:PT1H
BEGIN:VTIMEZONE
TZID:Europe/Vienna
BEGIN:DAYLIGHT
TZOFFSETFROM:+0100
TZOFFSETTO:+0200
TZNAME:CEST
DTSTART:20240331T010000
END:DAYLIGHT
BEGIN:STANDARD
TZOFFSETFROM:+0200
TZOFFSETTO:+0100
TZNAME:CET
DTSTART:20241027T010000
END:STANDARD
BEGIN:DAYLIGHT
TZOFFSETFROM:+0100
TZOFFSETTO:+0200
TZNAME:CEST
DTSTART:20250330T010000
END:DAYLIGHT
BEGIN:STANDARD
TZOFFSETFROM:+0200
TZOFFSETTO:+0100
TZNAME:CET
DTSTART:20251026T010000
END:STANDARD
BEGIN:DAYLIGHT
TZOFFSETFROM:+0100
TZOFFSETTO:+0200
TZNAME:CEST
DTSTART:20260329T010000
END:DAYLIGHT
BEGIN:STANDARD
TZOFFSETFROM:+0200
TZOFFSETTO:+0100
TZNAME:CET
DTSTART:20261025T010000
END:STANDARD
END:VTIMEZONE
BEGIN:VEVENT
DTSTART;TZID=Europe/Vienna:20250317T103000
DTEND;TZID=Europe/Vienna:20250317T123000
DTSTAMP:20260421T115646
CREATED:20240918T140856Z
LAST-MODIFIED:20240918T140857Z
UID:3941-1742207400-1742214600@www.heas.at
SUMMARY:HEAS Seminar Series - Ancient Genomics
DESCRIPTION:As part of the HEAS Seminar Series in Ancient Genomics\, Mehmet Somel will give a talk on Social Dynamics in Neolithic Anatolia: Paleogenomic Insights on the 17th March 2025 at 10:30 CET. \nRegistration for online and in-person participation is here. \n  \nMehmet Somel_POSTER \n 
URL:https://www.heas.at/events/heas-seminar-series-ancient-genomics-24/
LOCATION:UBB 5.1\, Djerassiplatz 1\, Vienna\, 1030\, Austria
CATEGORIES:HEAS-Seminar Series
ATTACH;FMTTYPE=image/png:https://www.heas.at/wp-content/uploads/2024/09/Mehmet-Somel_PowerPoint_Ancient-Genomics_less-tesxt.png
END:VEVENT
BEGIN:VEVENT
DTSTART;TZID=Europe/Vienna:20250317T103000
DTEND;TZID=Europe/Vienna:20250317T123000
DTSTAMP:20260421T115646
CREATED:20240918T140856Z
LAST-MODIFIED:20240918T140856Z
UID:4837-1742207400-1742214600@www.heas.at
SUMMARY:HEAS Seminar Series - Ancient Genomics
DESCRIPTION:As part of the HEAS Seminar Series in Ancient Genomics\, Mehmet Somel will give a talk on Social Dynamics in Neolithic Anatolia: Paleogenomic Insights on the 17th March 2025 at 10:30 CET. \nRegistration for online and in-person participation is here. \n  \nMehmet Somel_POSTER \n 
URL:https://www.heas.at/events/heas-seminar-series-ancient-genomics-24-2/
LOCATION:UBB 5.1\, Djerassiplatz 1\, Vienna\, 1030\, Austria
CATEGORIES:HEAS-Seminar Series
ATTACH;FMTTYPE=image/png:https://www.heas.at/wp-content/uploads/2024/09/Mehmet-Somel_PowerPoint_Ancient-Genomics_less-tesxt.png
END:VEVENT
BEGIN:VEVENT
DTSTART;TZID=Europe/Vienna:20250317T103000
DTEND;TZID=Europe/Vienna:20250317T123000
DTSTAMP:20260421T115646
CREATED:20240918T140856Z
LAST-MODIFIED:20240918T140856Z
UID:5064-1742207400-1742214600@www.heas.at
SUMMARY:HEAS Seminar Series - Ancient Genomics
DESCRIPTION:As part of the HEAS Seminar Series in Ancient Genomics\, Mehmet Somel will give a talk on Social Dynamics in Neolithic Anatolia: Paleogenomic Insights on the 17th March 2025 at 10:30 CET. \nRegistration for online and in-person participation is here. \n  \nMehmet Somel_POSTER \n 
URL:https://www.heas.at/events/heas-seminar-series-ancient-genomics-24-3/
LOCATION:UBB 5.1\, Djerassiplatz 1\, Vienna\, 1030\, Austria
CATEGORIES:HEAS-Seminar Series
ATTACH;FMTTYPE=image/png:https://www.heas.at/wp-content/uploads/2024/09/Mehmet-Somel_PowerPoint_Ancient-Genomics_less-tesxt.png
END:VEVENT
BEGIN:VEVENT
DTSTART;TZID=Europe/Vienna:20250317T103000
DTEND;TZID=Europe/Vienna:20250317T123000
DTSTAMP:20260421T115646
CREATED:20240918T140856Z
LAST-MODIFIED:20240918T140856Z
UID:5208-1742207400-1742214600@www.heas.at
SUMMARY:HEAS Seminar Series - Ancient Genomics
DESCRIPTION:As part of the HEAS Seminar Series in Ancient Genomics\, Mehmet Somel will give a talk on Social Dynamics in Neolithic Anatolia: Paleogenomic Insights on the 17th March 2025 at 10:30 CET. \nRegistration for online and in-person participation is here. \n  \nMehmet Somel_POSTER \n 
URL:https://www.heas.at/events/heas-seminar-series-ancient-genomics-24-4/
LOCATION:UBB 5.1\, Djerassiplatz 1\, Vienna\, 1030\, Austria
CATEGORIES:HEAS-Seminar Series
ATTACH;FMTTYPE=image/png:https://www.heas.at/wp-content/uploads/2024/09/Mehmet-Somel_PowerPoint_Ancient-Genomics_less-tesxt.png
END:VEVENT
BEGIN:VEVENT
DTSTART;TZID=Europe/Vienna:20250318T103000
DTEND;TZID=Europe/Vienna:20250318T123000
DTSTAMP:20260421T115646
CREATED:20240913T105409Z
LAST-MODIFIED:20250225T134022Z
UID:3858-1742293800-1742301000@www.heas.at
SUMMARY:HEAS Seminar - Human Evolution and the Palaeolithic
DESCRIPTION:As part of the HEAS Seminar Series in Human Evolution and the Palaeolithic\, Marie Soressi from Leiden Archaeology will give a talk on Excavating Homo sapiens‘ interactions with Neandertals on the 18th March 2025 at 10:30 CET. \n  \nRegistration for online and in-person participation is here. \n  \nMarie Soressi_POSTER
URL:https://www.heas.at/events/heas-seminar-human-evolution-and-the-palaeolithic-4/
LOCATION:UBB 5.1\, Djerassiplatz 1\, Vienna\, 1030\, Austria
CATEGORIES:HEAS-Seminar Series
ATTACH;FMTTYPE=image/png:https://www.heas.at/wp-content/uploads/2024/09/Marie-Soressi__PowerPoint_Human-Evolution-and-the-Palaeolithic_short-name.png
END:VEVENT
BEGIN:VEVENT
DTSTART;TZID=Europe/Vienna:20250318T103000
DTEND;TZID=Europe/Vienna:20250318T123000
DTSTAMP:20260421T115647
CREATED:20240913T105409Z
LAST-MODIFIED:20240913T105409Z
UID:4823-1742293800-1742301000@www.heas.at
SUMMARY:HEAS Seminar - Human Evolution and the Palaeolithic
DESCRIPTION:As part of the HEAS Seminar Series in Human Evolution and the Palaeolithic\, Marie Soressi from Leiden Archaeology will give a talk on Excavating Homo sapiens‘ interactions with Neandertals on the 18th March 2025 at 10:30 CET. \n  \nRegistration for online and in-person participation is here. \n  \nMarie Soressi_POSTER
URL:https://www.heas.at/events/heas-seminar-human-evolution-and-the-palaeolithic-4-2/
LOCATION:UBB 5.1\, Djerassiplatz 1\, Vienna\, 1030\, Austria
CATEGORIES:HEAS-Seminar Series
ATTACH;FMTTYPE=image/png:https://www.heas.at/wp-content/uploads/2024/09/Marie-Soressi__PowerPoint_Human-Evolution-and-the-Palaeolithic_short-name.png
END:VEVENT
BEGIN:VEVENT
DTSTART;TZID=Europe/Vienna:20250318T103000
DTEND;TZID=Europe/Vienna:20250318T123000
DTSTAMP:20260421T115647
CREATED:20240913T105409Z
LAST-MODIFIED:20240913T105409Z
UID:5052-1742293800-1742301000@www.heas.at
SUMMARY:HEAS Seminar - Human Evolution and the Palaeolithic
DESCRIPTION:As part of the HEAS Seminar Series in Human Evolution and the Palaeolithic\, Marie Soressi from Leiden Archaeology will give a talk on Excavating Homo sapiens‘ interactions with Neandertals on the 18th March 2025 at 10:30 CET. \n  \nRegistration for online and in-person participation is here. \n  \nMarie Soressi_POSTER
URL:https://www.heas.at/events/heas-seminar-human-evolution-and-the-palaeolithic-4-3/
LOCATION:UBB 5.1\, Djerassiplatz 1\, Vienna\, 1030\, Austria
CATEGORIES:HEAS-Seminar Series
ATTACH;FMTTYPE=image/png:https://www.heas.at/wp-content/uploads/2024/09/Marie-Soressi__PowerPoint_Human-Evolution-and-the-Palaeolithic_short-name.png
END:VEVENT
BEGIN:VEVENT
DTSTART;TZID=Europe/Vienna:20250318T103000
DTEND;TZID=Europe/Vienna:20250318T123000
DTSTAMP:20260421T115647
CREATED:20240913T105409Z
LAST-MODIFIED:20240913T105409Z
UID:5196-1742293800-1742301000@www.heas.at
SUMMARY:HEAS Seminar - Human Evolution and the Palaeolithic
DESCRIPTION:As part of the HEAS Seminar Series in Human Evolution and the Palaeolithic\, Marie Soressi from Leiden Archaeology will give a talk on Excavating Homo sapiens‘ interactions with Neandertals on the 18th March 2025 at 10:30 CET. \n  \nRegistration for online and in-person participation is here. \n  \nMarie Soressi_POSTER
URL:https://www.heas.at/events/heas-seminar-human-evolution-and-the-palaeolithic-4-4/
LOCATION:UBB 5.1\, Djerassiplatz 1\, Vienna\, 1030\, Austria
CATEGORIES:HEAS-Seminar Series
ATTACH;FMTTYPE=image/png:https://www.heas.at/wp-content/uploads/2024/09/Marie-Soressi__PowerPoint_Human-Evolution-and-the-Palaeolithic_short-name.png
END:VEVENT
BEGIN:VEVENT
DTSTART;TZID=Europe/Vienna:20250324T123000
DTEND;TZID=Europe/Vienna:20250324T143000
DTSTAMP:20260421T115647
CREATED:20240913T122014Z
LAST-MODIFIED:20241024T121809Z
UID:3789-1742819400-1742826600@www.heas.at
SUMMARY:HEAS Seminar Series - Archaeological Science
DESCRIPTION:As part of the HEAS Seminar Series in Archaeological Science\, Erich Nau from the Norwegian Institute for Cultural Heritage Research (NIKU) will give a talk on Unveiling Norway’s Hidden Past: Recent Advances in Geophysical Prospection and Major Discoveries on the 24th March 2025 at 12:30 CEST. \n  \nRegistrations for online and in-person participation is here. \nErich Nau_poster
URL:https://www.heas.at/events/heas-seminar-series-archaeological-science-18/
LOCATION:Franz-Klein-Gasse 1\, 1190\, Franz-Klein-Gasse 1\, Vienna\, Austria
CATEGORIES:HEAS-Seminar Series
ATTACH;FMTTYPE=image/png:https://www.heas.at/wp-content/uploads/2024/09/ERICH-NAU_PowerPoint_Archaeological-Science-Series_less-text-.png
END:VEVENT
BEGIN:VEVENT
DTSTART;TZID=Europe/Vienna:20250324T123000
DTEND;TZID=Europe/Vienna:20250324T143000
DTSTAMP:20260421T115647
CREATED:20240913T122014Z
LAST-MODIFIED:20240913T122014Z
UID:4829-1742819400-1742826600@www.heas.at
SUMMARY:HEAS Seminar Series - Archaeological Science
DESCRIPTION:As part of the HEAS Seminar Series in Archaeological Science\, Erich Nau from the Norwegian Institute for Cultural Heritage Research (NIKU) will give a talk on Unveiling Norway’s Hidden Past: Recent Advances in Geophysical Prospection and Major Discoveries on the 24th March 2025 at 12:30 CEST. \n  \nRegistrations for online and in-person participation is here. \nErich Nau_poster
URL:https://www.heas.at/events/heas-seminar-series-archaeological-science-18-2/
LOCATION:Franz-Klein-Gasse 1\, 1190\, Franz-Klein-Gasse 1\, Vienna\, Austria
CATEGORIES:HEAS-Seminar Series
ATTACH;FMTTYPE=image/png:https://www.heas.at/wp-content/uploads/2024/09/ERICH-NAU_PowerPoint_Archaeological-Science-Series_less-text-.png
END:VEVENT
BEGIN:VEVENT
DTSTART;TZID=Europe/Vienna:20250324T123000
DTEND;TZID=Europe/Vienna:20250324T143000
DTSTAMP:20260421T115647
CREATED:20240913T122014Z
LAST-MODIFIED:20240913T122014Z
UID:5048-1742819400-1742826600@www.heas.at
SUMMARY:HEAS Seminar Series - Archaeological Science
DESCRIPTION:As part of the HEAS Seminar Series in Archaeological Science\, Erich Nau from the Norwegian Institute for Cultural Heritage Research (NIKU) will give a talk on Unveiling Norway’s Hidden Past: Recent Advances in Geophysical Prospection and Major Discoveries on the 24th March 2025 at 12:30 CEST. \n  \nRegistrations for online and in-person participation is here. \nErich Nau_poster
URL:https://www.heas.at/events/heas-seminar-series-archaeological-science-18-3/
LOCATION:Franz-Klein-Gasse 1\, 1190\, Franz-Klein-Gasse 1\, Vienna\, Austria
CATEGORIES:HEAS-Seminar Series
ATTACH;FMTTYPE=image/png:https://www.heas.at/wp-content/uploads/2024/09/ERICH-NAU_PowerPoint_Archaeological-Science-Series_less-text-.png
END:VEVENT
BEGIN:VEVENT
DTSTART;TZID=Europe/Vienna:20250324T123000
DTEND;TZID=Europe/Vienna:20250324T143000
DTSTAMP:20260421T115647
CREATED:20240913T122014Z
LAST-MODIFIED:20240913T122014Z
UID:5192-1742819400-1742826600@www.heas.at
SUMMARY:HEAS Seminar Series - Archaeological Science
DESCRIPTION:As part of the HEAS Seminar Series in Archaeological Science\, Erich Nau from the Norwegian Institute for Cultural Heritage Research (NIKU) will give a talk on Unveiling Norway’s Hidden Past: Recent Advances in Geophysical Prospection and Major Discoveries on the 24th March 2025 at 12:30 CEST. \n  \nRegistrations for online and in-person participation is here. \nErich Nau_poster
URL:https://www.heas.at/events/heas-seminar-series-archaeological-science-18-4/
LOCATION:Franz-Klein-Gasse 1\, 1190\, Franz-Klein-Gasse 1\, Vienna\, Austria
CATEGORIES:HEAS-Seminar Series
ATTACH;FMTTYPE=image/png:https://www.heas.at/wp-content/uploads/2024/09/ERICH-NAU_PowerPoint_Archaeological-Science-Series_less-text-.png
END:VEVENT
END:VCALENDAR