BEGIN:VCALENDAR
VERSION:2.0
PRODID:-//HEAS - ECPv6.15.17.1//NONSGML v1.0//EN
CALSCALE:GREGORIAN
METHOD:PUBLISH
X-ORIGINAL-URL:https://www.heas.at
X-WR-CALDESC:Veranstaltungen für HEAS
REFRESH-INTERVAL;VALUE=DURATION:PT1H
X-Robots-Tag:noindex
X-PUBLISHED-TTL:PT1H
BEGIN:VTIMEZONE
TZID:Europe/Vienna
BEGIN:DAYLIGHT
TZOFFSETFROM:+0100
TZOFFSETTO:+0200
TZNAME:CEST
DTSTART:20240331T010000
END:DAYLIGHT
BEGIN:STANDARD
TZOFFSETFROM:+0200
TZOFFSETTO:+0100
TZNAME:CET
DTSTART:20241027T010000
END:STANDARD
BEGIN:DAYLIGHT
TZOFFSETFROM:+0100
TZOFFSETTO:+0200
TZNAME:CEST
DTSTART:20250330T010000
END:DAYLIGHT
BEGIN:STANDARD
TZOFFSETFROM:+0200
TZOFFSETTO:+0100
TZNAME:CET
DTSTART:20251026T010000
END:STANDARD
BEGIN:DAYLIGHT
TZOFFSETFROM:+0100
TZOFFSETTO:+0200
TZNAME:CEST
DTSTART:20260329T010000
END:DAYLIGHT
BEGIN:STANDARD
TZOFFSETFROM:+0200
TZOFFSETTO:+0100
TZNAME:CET
DTSTART:20261025T010000
END:STANDARD
END:VTIMEZONE
BEGIN:VEVENT
DTSTART;TZID=Europe/Vienna:20250407T103000
DTEND;TZID=Europe/Vienna:20250407T120000
DTSTAMP:20260421T102458
CREATED:20240913T115202Z
LAST-MODIFIED:20240913T115203Z
UID:3862-1744021800-1744027200@www.heas.at
SUMMARY:HEAS Seminar - Human Evolution and the Palaeolithic
DESCRIPTION:As part of the HEAS Seminar Series in Human Evolution and the Palaeolithic\, Matthew Skinner from Max Planck Institute for Evolutionary Anthropology will give a talk on How hidden structures of bones and teeth are improving our understanding of human evolutionary history on the 7th April 2025 at 10:30 CEST. \n  \nRegistration for online and in-person participation is here. \n  \nMatthew Skinner_poster
URL:https://www.heas.at/events/heas-seminar-human-evolution-and-the-palaeolithic-5/
LOCATION:UBB 5.1\, Djerassiplatz 1\, Vienna\, 1030\, Austria
CATEGORIES:HEAS-Seminar Series
ATTACH;FMTTYPE=image/png:https://www.heas.at/wp-content/uploads/2024/09/Matthew-Skinner_PowerPoint_Human-Evolution-and-the-Palaeolithic_short-name.png
END:VEVENT
BEGIN:VEVENT
DTSTART;TZID=Europe/Vienna:20250407T103000
DTEND;TZID=Europe/Vienna:20250407T120000
DTSTAMP:20260421T102458
CREATED:20240913T115202Z
LAST-MODIFIED:20240913T115202Z
UID:4824-1744021800-1744027200@www.heas.at
SUMMARY:HEAS Seminar - Human Evolution and the Palaeolithic
DESCRIPTION:As part of the HEAS Seminar Series in Human Evolution and the Palaeolithic\, Matthew Skinner from Max Planck Institute for Evolutionary Anthropology will give a talk on How hidden structures of bones and teeth are improving our understanding of human evolutionary history on the 7th April 2025 at 10:30 CEST. \n  \nRegistration for online and in-person participation is here. \n  \nMatthew Skinner_poster
URL:https://www.heas.at/events/heas-seminar-human-evolution-and-the-palaeolithic-5-2/
LOCATION:UBB 5.1\, Djerassiplatz 1\, Vienna\, 1030\, Austria
CATEGORIES:HEAS-Seminar Series
ATTACH;FMTTYPE=image/png:https://www.heas.at/wp-content/uploads/2024/09/Matthew-Skinner_PowerPoint_Human-Evolution-and-the-Palaeolithic_short-name.png
END:VEVENT
BEGIN:VEVENT
DTSTART;TZID=Europe/Vienna:20250407T103000
DTEND;TZID=Europe/Vienna:20250407T120000
DTSTAMP:20260421T102458
CREATED:20240913T115202Z
LAST-MODIFIED:20240913T115202Z
UID:5053-1744021800-1744027200@www.heas.at
SUMMARY:HEAS Seminar - Human Evolution and the Palaeolithic
DESCRIPTION:As part of the HEAS Seminar Series in Human Evolution and the Palaeolithic\, Matthew Skinner from Max Planck Institute for Evolutionary Anthropology will give a talk on How hidden structures of bones and teeth are improving our understanding of human evolutionary history on the 7th April 2025 at 10:30 CEST. \n  \nRegistration for online and in-person participation is here. \n  \nMatthew Skinner_poster
URL:https://www.heas.at/events/heas-seminar-human-evolution-and-the-palaeolithic-5-3/
LOCATION:UBB 5.1\, Djerassiplatz 1\, Vienna\, 1030\, Austria
CATEGORIES:HEAS-Seminar Series
ATTACH;FMTTYPE=image/png:https://www.heas.at/wp-content/uploads/2024/09/Matthew-Skinner_PowerPoint_Human-Evolution-and-the-Palaeolithic_short-name.png
END:VEVENT
BEGIN:VEVENT
DTSTART;TZID=Europe/Vienna:20250407T103000
DTEND;TZID=Europe/Vienna:20250407T120000
DTSTAMP:20260421T102458
CREATED:20240913T115202Z
LAST-MODIFIED:20240913T115202Z
UID:5197-1744021800-1744027200@www.heas.at
SUMMARY:HEAS Seminar - Human Evolution and the Palaeolithic
DESCRIPTION:As part of the HEAS Seminar Series in Human Evolution and the Palaeolithic\, Matthew Skinner from Max Planck Institute for Evolutionary Anthropology will give a talk on How hidden structures of bones and teeth are improving our understanding of human evolutionary history on the 7th April 2025 at 10:30 CEST. \n  \nRegistration for online and in-person participation is here. \n  \nMatthew Skinner_poster
URL:https://www.heas.at/events/heas-seminar-human-evolution-and-the-palaeolithic-5-4/
LOCATION:UBB 5.1\, Djerassiplatz 1\, Vienna\, 1030\, Austria
CATEGORIES:HEAS-Seminar Series
ATTACH;FMTTYPE=image/png:https://www.heas.at/wp-content/uploads/2024/09/Matthew-Skinner_PowerPoint_Human-Evolution-and-the-Palaeolithic_short-name.png
END:VEVENT
BEGIN:VEVENT
DTSTART;TZID=Europe/Vienna:20250425T103000
DTEND;TZID=Europe/Vienna:20250425T120000
DTSTAMP:20260421T102458
CREATED:20250213T110435Z
LAST-MODIFIED:20250213T115736Z
UID:4263-1745577000-1745582400@www.heas.at
SUMMARY:HEAS Talks - Axel Timmermann
DESCRIPTION:We are looking forward to welcoming Axel Timmermann to Vienna for a HEAS Talk on Simulating Mammals (Including Humans) in the Changing Environment of the Late Pleistocene on the 25th April 2025 at 10:30 in the SR 5.1. \n  \nRegister here. \n  \nAxel Timmermann _poster
URL:https://www.heas.at/events/heas-talks-axel-timmermann/
LOCATION:UBB 5.1\, Djerassiplatz 1\, Vienna\, 1030\, Austria
CATEGORIES:HEAS-Lecture
ATTACH;FMTTYPE=image/png:https://www.heas.at/wp-content/uploads/2025/02/Axel-Timmermann_PowerPoint_Ancient-Genomics_less-tesxt.png
END:VEVENT
BEGIN:VEVENT
DTSTART;TZID=Europe/Vienna:20250425T103000
DTEND;TZID=Europe/Vienna:20250425T120000
DTSTAMP:20260421T102458
CREATED:20250213T110435Z
LAST-MODIFIED:20250213T110435Z
UID:4843-1745577000-1745582400@www.heas.at
SUMMARY:HEAS Talks - Axel Timmermann
DESCRIPTION:We are looking forward to welcoming Axel Timmermann to Vienna for a HEAS Talk on Simulating Mammals (Including Humans) in the Changing Environment of the Late Pleistocene on the 25th April 2025 at 10:30 in the SR 5.1. \n  \nRegister here. \n  \nAxel Timmermann _poster
URL:https://www.heas.at/events/heas-talks-axel-timmermann-2/
LOCATION:UBB 5.1\, Djerassiplatz 1\, Vienna\, 1030\, Austria
CATEGORIES:HEAS-Lecture
ATTACH;FMTTYPE=image/png:https://www.heas.at/wp-content/uploads/2025/02/Axel-Timmermann_PowerPoint_Ancient-Genomics_less-tesxt.png
END:VEVENT
BEGIN:VEVENT
DTSTART;TZID=Europe/Vienna:20250425T103000
DTEND;TZID=Europe/Vienna:20250425T120000
DTSTAMP:20260421T102458
CREATED:20250213T110435Z
LAST-MODIFIED:20250213T110435Z
UID:5070-1745577000-1745582400@www.heas.at
SUMMARY:HEAS Talks - Axel Timmermann
DESCRIPTION:We are looking forward to welcoming Axel Timmermann to Vienna for a HEAS Talk on Simulating Mammals (Including Humans) in the Changing Environment of the Late Pleistocene on the 25th April 2025 at 10:30 in the SR 5.1. \n  \nRegister here. \n  \nAxel Timmermann _poster
URL:https://www.heas.at/events/heas-talks-axel-timmermann-3/
LOCATION:UBB 5.1\, Djerassiplatz 1\, Vienna\, 1030\, Austria
CATEGORIES:HEAS-Lecture
ATTACH;FMTTYPE=image/png:https://www.heas.at/wp-content/uploads/2025/02/Axel-Timmermann_PowerPoint_Ancient-Genomics_less-tesxt.png
END:VEVENT
BEGIN:VEVENT
DTSTART;TZID=Europe/Vienna:20250425T103000
DTEND;TZID=Europe/Vienna:20250425T120000
DTSTAMP:20260421T102458
CREATED:20250213T110435Z
LAST-MODIFIED:20250213T110435Z
UID:5214-1745577000-1745582400@www.heas.at
SUMMARY:HEAS Talks - Axel Timmermann
DESCRIPTION:We are looking forward to welcoming Axel Timmermann to Vienna for a HEAS Talk on Simulating Mammals (Including Humans) in the Changing Environment of the Late Pleistocene on the 25th April 2025 at 10:30 in the SR 5.1. \n  \nRegister here. \n  \nAxel Timmermann _poster
URL:https://www.heas.at/events/heas-talks-axel-timmermann-4/
LOCATION:UBB 5.1\, Djerassiplatz 1\, Vienna\, 1030\, Austria
CATEGORIES:HEAS-Lecture
ATTACH;FMTTYPE=image/png:https://www.heas.at/wp-content/uploads/2025/02/Axel-Timmermann_PowerPoint_Ancient-Genomics_less-tesxt.png
END:VEVENT
BEGIN:VEVENT
DTSTART;TZID=Europe/Vienna:20250428T123000
DTEND;TZID=Europe/Vienna:20250428T130000
DTSTAMP:20260421T102458
CREATED:20240913T121525Z
LAST-MODIFIED:20240913T121525Z
UID:3809-1745843400-1745845200@www.heas.at
SUMMARY:HEAS Seminar Series - Archaeological Science
DESCRIPTION:As part of the HEAS Seminar Series in Archaeological Science\, Helen Fewlass from Bristol University\, will give a talk on Predicting ancient protein preservation with Near InfraRed spectroscopy on the 28th April at 12:30 CEST. \n  \nRegistration for online and in-person participation is here. \n  \nHelen Fewlass_poster
URL:https://www.heas.at/events/heas-seminar-series-archaeological-science-17/
LOCATION:Online
CATEGORIES:HEAS-Seminar Series
ATTACH;FMTTYPE=image/png:https://www.heas.at/wp-content/uploads/2024/09/Helen-Fewlass_PowerPoint_Archaeological-Science-Series_less-text-.png
END:VEVENT
BEGIN:VEVENT
DTSTART;TZID=Europe/Vienna:20250428T123000
DTEND;TZID=Europe/Vienna:20250428T130000
DTSTAMP:20260421T102458
CREATED:20240913T121525Z
LAST-MODIFIED:20240913T121525Z
UID:4820-1745843400-1745845200@www.heas.at
SUMMARY:HEAS Seminar Series - Archaeological Science
DESCRIPTION:As part of the HEAS Seminar Series in Archaeological Science\, Helen Fewlass from Bristol University\, will give a talk on Predicting ancient protein preservation with Near InfraRed spectroscopy on the 28th April at 12:30 CEST. \n  \nRegistration for online and in-person participation is here. \n  \nHelen Fewlass_poster
URL:https://www.heas.at/events/heas-seminar-series-archaeological-science-17-2/
LOCATION:Online
CATEGORIES:HEAS-Seminar Series
ATTACH;FMTTYPE=image/png:https://www.heas.at/wp-content/uploads/2024/09/Helen-Fewlass_PowerPoint_Archaeological-Science-Series_less-text-.png
END:VEVENT
BEGIN:VEVENT
DTSTART;TZID=Europe/Vienna:20250428T123000
DTEND;TZID=Europe/Vienna:20250428T130000
DTSTAMP:20260421T102458
CREATED:20240913T121525Z
LAST-MODIFIED:20240913T121525Z
UID:5049-1745843400-1745845200@www.heas.at
SUMMARY:HEAS Seminar Series - Archaeological Science
DESCRIPTION:As part of the HEAS Seminar Series in Archaeological Science\, Helen Fewlass from Bristol University\, will give a talk on Predicting ancient protein preservation with Near InfraRed spectroscopy on the 28th April at 12:30 CEST. \n  \nRegistration for online and in-person participation is here. \n  \nHelen Fewlass_poster
URL:https://www.heas.at/events/heas-seminar-series-archaeological-science-17-3/
LOCATION:Online
CATEGORIES:HEAS-Seminar Series
ATTACH;FMTTYPE=image/png:https://www.heas.at/wp-content/uploads/2024/09/Helen-Fewlass_PowerPoint_Archaeological-Science-Series_less-text-.png
END:VEVENT
BEGIN:VEVENT
DTSTART;TZID=Europe/Vienna:20250428T123000
DTEND;TZID=Europe/Vienna:20250428T130000
DTSTAMP:20260421T102458
CREATED:20240913T121525Z
LAST-MODIFIED:20240913T121525Z
UID:5193-1745843400-1745845200@www.heas.at
SUMMARY:HEAS Seminar Series - Archaeological Science
DESCRIPTION:As part of the HEAS Seminar Series in Archaeological Science\, Helen Fewlass from Bristol University\, will give a talk on Predicting ancient protein preservation with Near InfraRed spectroscopy on the 28th April at 12:30 CEST. \n  \nRegistration for online and in-person participation is here. \n  \nHelen Fewlass_poster
URL:https://www.heas.at/events/heas-seminar-series-archaeological-science-17-4/
LOCATION:Online
CATEGORIES:HEAS-Seminar Series
ATTACH;FMTTYPE=image/png:https://www.heas.at/wp-content/uploads/2024/09/Helen-Fewlass_PowerPoint_Archaeological-Science-Series_less-text-.png
END:VEVENT
BEGIN:VEVENT
DTSTART;TZID=Europe/Vienna:20250429T103000
DTEND;TZID=Europe/Vienna:20250429T120000
DTSTAMP:20260421T102458
CREATED:20250401T085938Z
LAST-MODIFIED:20250428T073450Z
UID:4410-1745922600-1745928000@www.heas.at
SUMMARY:HEAS Talk with Alexandrine Cheronet
DESCRIPTION:We are looking forward to welcoming Alexandrine Cheronet\, Publishing Director for Springer Journals in Chemistry\, Earth and Environmental Sciences to Vienna for a HEAS Talk on Scientific Publishing. The talk will take place in SR 5.1 in the UBB on the 29th April at 10:30 CEST. \nShe will address 2 key themes: \n1/ What is the mission of scientific publishing and its role for researchers? Who are the reliable publishers\, and why should we stay away from the so-called “predatory” journals? \n2/ How to prepare your manuscript to publish in an international scientific journal? \nAnd if time allows: \n3/ What are the different jobs in scientific publishing that you can do with a scientific academic background if you wish to reorient yourself after a PhD or postdoc? \n  \n  \n  \nRegister Here  \nAlexandrine Cheronet_Poster \n  \n 
URL:https://www.heas.at/events/heas-talk-with-alexandrine-cheronet/
LOCATION:UBB 5.1\, Djerassiplatz 1\, Vienna\, 1030\, Austria
CATEGORIES:HEAS-Lecture
ATTACH;FMTTYPE=image/png:https://www.heas.at/wp-content/uploads/2025/04/Banner_PowerPoint_Ancient-Genomics_less-tesxt.png
END:VEVENT
BEGIN:VEVENT
DTSTART;TZID=Europe/Vienna:20250429T103000
DTEND;TZID=Europe/Vienna:20250429T120000
DTSTAMP:20260421T102458
CREATED:20250401T085938Z
LAST-MODIFIED:20250401T085938Z
UID:4846-1745922600-1745928000@www.heas.at
SUMMARY:HEAS Talk with Alexandrine Cheronet
DESCRIPTION:We are looking forward to welcoming Alexandrine Cheronet\, Publishing Director for Springer Journals in Chemistry\, Earth and Environmental Sciences to Vienna for a HEAS Talk on Scientific Publishing. The talk will take place in SR 5.1 in the UBB on the 29th April at 10:30 CEST. \nShe will address 2 key themes: \n1/ What is the mission of scientific publishing and its role for researchers? Who are the reliable publishers\, and why should we stay away from the so-called “predatory” journals? \n2/ How to prepare your manuscript to publish in an international scientific journal? \nAnd if time allows: \n3/ What are the different jobs in scientific publishing that you can do with a scientific academic background if you wish to reorient yourself after a PhD or postdoc? \n  \n  \n  \nRegister Here  \nAlexandrine Cheronet_Poster \n  \n 
URL:https://www.heas.at/events/heas-talk-with-alexandrine-cheronet-2/
LOCATION:UBB 5.1\, Djerassiplatz 1\, Vienna\, 1030\, Austria
CATEGORIES:HEAS-Lecture
ATTACH;FMTTYPE=image/png:https://www.heas.at/wp-content/uploads/2025/04/Banner_PowerPoint_Ancient-Genomics_less-tesxt.png
END:VEVENT
BEGIN:VEVENT
DTSTART;TZID=Europe/Vienna:20250429T103000
DTEND;TZID=Europe/Vienna:20250429T120000
DTSTAMP:20260421T102458
CREATED:20250401T085938Z
LAST-MODIFIED:20250401T085938Z
UID:5073-1745922600-1745928000@www.heas.at
SUMMARY:HEAS Talk with Alexandrine Cheronet
DESCRIPTION:We are looking forward to welcoming Alexandrine Cheronet\, Publishing Director for Springer Journals in Chemistry\, Earth and Environmental Sciences to Vienna for a HEAS Talk on Scientific Publishing. The talk will take place in SR 5.1 in the UBB on the 29th April at 10:30 CEST. \nShe will address 2 key themes: \n1/ What is the mission of scientific publishing and its role for researchers? Who are the reliable publishers\, and why should we stay away from the so-called “predatory” journals? \n2/ How to prepare your manuscript to publish in an international scientific journal? \nAnd if time allows: \n3/ What are the different jobs in scientific publishing that you can do with a scientific academic background if you wish to reorient yourself after a PhD or postdoc? \n  \n  \n  \nRegister Here  \nAlexandrine Cheronet_Poster \n  \n 
URL:https://www.heas.at/events/heas-talk-with-alexandrine-cheronet-3/
LOCATION:UBB 5.1\, Djerassiplatz 1\, Vienna\, 1030\, Austria
CATEGORIES:HEAS-Lecture
ATTACH;FMTTYPE=image/png:https://www.heas.at/wp-content/uploads/2025/04/Banner_PowerPoint_Ancient-Genomics_less-tesxt.png
END:VEVENT
BEGIN:VEVENT
DTSTART;TZID=Europe/Vienna:20250429T103000
DTEND;TZID=Europe/Vienna:20250429T120000
DTSTAMP:20260421T102458
CREATED:20250401T085938Z
LAST-MODIFIED:20250401T085938Z
UID:5217-1745922600-1745928000@www.heas.at
SUMMARY:HEAS Talk with Alexandrine Cheronet
DESCRIPTION:We are looking forward to welcoming Alexandrine Cheronet\, Publishing Director for Springer Journals in Chemistry\, Earth and Environmental Sciences to Vienna for a HEAS Talk on Scientific Publishing. The talk will take place in SR 5.1 in the UBB on the 29th April at 10:30 CEST. \nShe will address 2 key themes: \n1/ What is the mission of scientific publishing and its role for researchers? Who are the reliable publishers\, and why should we stay away from the so-called “predatory” journals? \n2/ How to prepare your manuscript to publish in an international scientific journal? \nAnd if time allows: \n3/ What are the different jobs in scientific publishing that you can do with a scientific academic background if you wish to reorient yourself after a PhD or postdoc? \n  \n  \n  \nRegister Here  \nAlexandrine Cheronet_Poster \n  \n 
URL:https://www.heas.at/events/heas-talk-with-alexandrine-cheronet-4/
LOCATION:UBB 5.1\, Djerassiplatz 1\, Vienna\, 1030\, Austria
CATEGORIES:HEAS-Lecture
ATTACH;FMTTYPE=image/png:https://www.heas.at/wp-content/uploads/2025/04/Banner_PowerPoint_Ancient-Genomics_less-tesxt.png
END:VEVENT
END:VCALENDAR